| Back to Multiple platform build/check report for BioC 3.8 experimental data |
This page was generated on 2019-04-16 15:26:15 -0400 (Tue, 16 Apr 2019).
| Package 296/360 | Hostname | OS / Arch | INSTALL | BUILD | CHECK | BUILD BIN | ||||||
| RTCGA.methylation 1.10.0 Marcin Kosinski
| malbec1 | Linux (Ubuntu 16.04.6 LTS) / x86_64 | [ OK ] | OK | OK |
| Package: RTCGA.methylation |
| Version: 1.10.0 |
| Command: /home/biocbuild/bbs-3.8-bioc/R/bin/R CMD INSTALL RTCGA.methylation |
| StartedAt: 2019-04-16 12:12:47 -0400 (Tue, 16 Apr 2019) |
| EndedAt: 2019-04-16 12:15:52 -0400 (Tue, 16 Apr 2019) |
| EllapsedTime: 184.1 seconds |
| RetCode: 0 |
| Status: OK |
############################################################################## ############################################################################## ### ### Running command: ### ### /home/biocbuild/bbs-3.8-bioc/R/bin/R CMD INSTALL RTCGA.methylation ### ############################################################################## ############################################################################## * installing to library ‘/home/biocbuild/bbs-3.8-bioc/R/library’ * installing *source* package ‘RTCGA.methylation’ ... ** R ** data *** moving datasets to lazyload DB ** byte-compile and prepare package for lazy loading ** help *** installing help indices ** building package indices ** installing vignettes ** testing if installed package can be loaded * DONE (RTCGA.methylation)