| Back to Multiple platform build/check report for BioC 3.8 experimental data | 
This page was generated on 2019-04-16 15:26:01 -0400 (Tue, 16 Apr 2019).
| Package 45/360 | Hostname | OS / Arch | INSTALL | BUILD | CHECK | BUILD BIN | ||||||
| ccTutorial 1.20.0 Joern Toedling 
 | malbec1 | Linux (Ubuntu 16.04.6 LTS) / x86_64 | OK | [ OK ] | OK |  | 
| Package: ccTutorial | 
| Version: 1.20.0 | 
| Command: /home/biocbuild/bbs-3.8-bioc/R/bin/R CMD build --keep-empty-dirs --no-resave-data ccTutorial | 
| StartedAt: 2019-04-16 12:20:44 -0400 (Tue, 16 Apr 2019) | 
| EndedAt: 2019-04-16 12:24:59 -0400 (Tue, 16 Apr 2019) | 
| EllapsedTime: 254.8 seconds | 
| RetCode: 0 | 
| Status: OK | 
| PackageFile: ccTutorial_1.20.0.tar.gz | 
| PackageFileSize: 278.5 MiB | 
##############################################################################
##############################################################################
###
### Running command:
###
###   /home/biocbuild/bbs-3.8-bioc/R/bin/R CMD build --keep-empty-dirs --no-resave-data ccTutorial
###
##############################################################################
##############################################################################
* checking for file ‘ccTutorial/DESCRIPTION’ ... OK
* preparing ‘ccTutorial’:
* checking DESCRIPTION meta-information ... OK
* installing the package to build vignettes
* creating vignettes ... OK
Warning: ‘inst/doc’ file
    ‘ccTutorialSupplement.R’
  ignored as vignettes have been rebuilt.
  Run R CMD build with --no-build-vignettes to prevent rebuilding.
* checking for LF line-endings in source and make files and shell scripts
* checking for empty or unneeded directories
* looking to see if a ‘data/datalist’ file should be added
* building ‘ccTutorial_1.20.0.tar.gz’