| Back to Multiple platform build/check report for BioC 3.9 |
|
This page was generated on 2019-04-09 12:52:15 -0400 (Tue, 09 Apr 2019).
| Package 8/1703 | Hostname | OS / Arch | INSTALL | BUILD | CHECK | BUILD BIN | ||||||
| ABarray 1.51.0 Yongming Andrew Sun
| malbec2 | Linux (Ubuntu 18.04.2 LTS) / x86_64 | OK | OK | OK | |||||||
| tokay2 | Windows Server 2012 R2 Standard / x64 | OK | OK | OK | OK | |||||||
| celaya2 | OS X 10.11.6 El Capitan / x86_64 | OK | [ OK ] | OK | OK | |||||||
| merida2 | OS X 10.11.6 El Capitan / x86_64 | OK | OK | OK | OK |
| Package: ABarray |
| Version: 1.51.0 |
| Command: /Library/Frameworks/R.framework/Versions/Current/Resources/bin/R CMD build --keep-empty-dirs --no-resave-data ABarray |
| StartedAt: 2019-04-08 19:33:19 -0400 (Mon, 08 Apr 2019) |
| EndedAt: 2019-04-08 19:33:47 -0400 (Mon, 08 Apr 2019) |
| EllapsedTime: 27.2 seconds |
| RetCode: 0 |
| Status: OK |
| PackageFile: ABarray_1.51.0.tar.gz |
| PackageFileSize: 580.8 KiB |
##############################################################################
##############################################################################
###
### Running command:
###
### /Library/Frameworks/R.framework/Versions/Current/Resources/bin/R CMD build --keep-empty-dirs --no-resave-data ABarray
###
##############################################################################
##############################################################################
* checking for file ‘ABarray/DESCRIPTION’ ... OK
* preparing ‘ABarray’:
* checking DESCRIPTION meta-information ... OK
* installing the package to build vignettes
* creating vignettes ... OK
Warning: ‘inst/doc’ file
‘ABarrayGUI.R’
ignored as vignettes have been rebuilt.
Run R CMD build with --no-build-vignettes to prevent rebuilding.
* checking for LF line-endings in source and make files and shell scripts
* checking for empty or unneeded directories
* building ‘ABarray_1.51.0.tar.gz’