| Back to Multiple platform build/check report for BioC 3.9 | 
 | 
This page was generated on 2019-04-09 13:20:20 -0400 (Tue, 09 Apr 2019).
| Package 162/1703 | Hostname | OS / Arch | INSTALL | BUILD | CHECK | BUILD BIN | ||||||
| BioNetStat 1.3.2 Vinicius Jardim 
 | malbec2 | Linux (Ubuntu 18.04.2 LTS) / x86_64 | OK | OK | OK |  | ||||||
| tokay2 | Windows Server 2012 R2 Standard / x64 | OK | OK | OK | OK |  | ||||||
| celaya2 | OS X 10.11.6 El Capitan / x86_64 | OK | OK | OK | [ OK ] |  | ||||||
| merida2 | OS X 10.11.6 El Capitan / x86_64 | OK | OK | OK | OK | 
| Package: BioNetStat | 
| Version: 1.3.2 | 
| Command: rm -rf BioNetStat.buildbin-libdir && mkdir BioNetStat.buildbin-libdir && /Users/biocbuild/BBS/utils/build-universal.sh BioNetStat_1.3.2.tar.gz /Library/Frameworks/R.framework/Versions/Current/Resources/bin/R BioNetStat.buildbin-libdir | 
| StartedAt: 2019-04-09 06:44:06 -0400 (Tue, 09 Apr 2019) | 
| EndedAt: 2019-04-09 06:44:41 -0400 (Tue, 09 Apr 2019) | 
| EllapsedTime: 35.0 seconds | 
| RetCode: 0 | 
| Status: OK | 
| PackageFile: BioNetStat_1.3.2.tgz | 
| PackageFileSize: 2.749 MiB | 
############################################################################## ############################################################################## ### ### Running command: ### ### rm -rf BioNetStat.buildbin-libdir && mkdir BioNetStat.buildbin-libdir && /Users/biocbuild/BBS/utils/build-universal.sh BioNetStat_1.3.2.tar.gz /Library/Frameworks/R.framework/Versions/Current/Resources/bin/R BioNetStat.buildbin-libdir ### ############################################################################## ############################################################################## >>>>>>> >>>>>>> INSTALLATION WITH 'R CMD INSTALL --preclean --no-multiarch --library=BioNetStat.buildbin-libdir BioNetStat_1.3.2.tar.gz' >>>>>>> * installing *source* package ‘BioNetStat’ ... ** using staged installation ** R ** data ** inst ** byte-compile and prepare package for lazy loading ** help *** installing help indices ** building package indices ** installing vignettes ** testing if installed package can be loaded from temporary location ** testing if installed package can be loaded from final location ** testing if installed package keeps a record of temporary installation path * DONE (BioNetStat)