| Back to Multiple platform build/check report for BioC 3.9 |
|
This page was generated on 2019-04-09 13:23:42 -0400 (Tue, 09 Apr 2019).
| Package 191/1703 | Hostname | OS / Arch | INSTALL | BUILD | CHECK | BUILD BIN | ||||||
| BufferedMatrixMethods 1.47.0 Ben Bolstad
| malbec2 | Linux (Ubuntu 18.04.2 LTS) / x86_64 | OK | OK | OK | |||||||
| tokay2 | Windows Server 2012 R2 Standard / x64 | OK | OK | OK | OK | |||||||
| celaya2 | OS X 10.11.6 El Capitan / x86_64 | OK | OK | OK | OK | |||||||
| merida2 | OS X 10.11.6 El Capitan / x86_64 | [ OK ] | OK | OK | OK |
| Package: BufferedMatrixMethods |
| Version: 1.47.0 |
| Command: /Library/Frameworks/R.framework/Versions/Current/Resources/bin/R CMD INSTALL BufferedMatrixMethods |
| StartedAt: 2019-04-08 18:05:02 -0400 (Mon, 08 Apr 2019) |
| EndedAt: 2019-04-08 18:05:51 -0400 (Mon, 08 Apr 2019) |
| EllapsedTime: 48.8 seconds |
| RetCode: 0 |
| Status: OK |
##############################################################################
##############################################################################
###
### Running command:
###
### /Library/Frameworks/R.framework/Versions/Current/Resources/bin/R CMD INSTALL BufferedMatrixMethods
###
##############################################################################
##############################################################################
* installing to library ‘/Library/Frameworks/R.framework/Versions/3.6/Resources/library’
* installing *source* package ‘BufferedMatrixMethods’ ...
** libs
clang -I"/Library/Frameworks/R.framework/Resources/include" -DNDEBUG -I"/Library/Frameworks/R.framework/Versions/3.6/Resources/library/BufferedMatrix/include" -I/usr/local/include -fPIC -Wall -g -O2 -c init_package.c -o init_package.o
clang -I"/Library/Frameworks/R.framework/Resources/include" -DNDEBUG -I"/Library/Frameworks/R.framework/Versions/3.6/Resources/library/BufferedMatrix/include" -I/usr/local/include -fPIC -Wall -g -O2 -c preprocess_bm.c -o preprocess_bm.o
preprocess_bm.c:344:7: warning: unused variable 'i' [-Wunused-variable]
int i,j;
^
preprocess_bm.c:378:7: warning: unused variable 'current_mode' [-Wunused-variable]
int current_mode;
^
preprocess_bm.c:593:7: warning: unused variable 'current_mode' [-Wunused-variable]
int current_mode;
^
preprocess_bm.c:1151:7: warning: unused variable 'current_mode' [-Wunused-variable]
int current_mode;
^
preprocess_bm.c:453:12: warning: unused function 'min' [-Wunused-function]
static int min(int x1,int x2){
^
5 warnings generated.
clang -dynamiclib -Wl,-headerpad_max_install_names -undefined dynamic_lookup -single_module -multiply_defined suppress -L/Library/Frameworks/R.framework/Resources/lib -L/usr/local/lib -o BufferedMatrixMethods.so init_package.o preprocess_bm.o -F/Library/Frameworks/R.framework/.. -framework R -Wl,-framework -Wl,CoreFoundation
installing to /Library/Frameworks/R.framework/Versions/3.6/Resources/library/BufferedMatrixMethods/libs
** R
** byte-compile and prepare package for lazy loading
** help
*** installing help indices
** building package indices
** testing if installed package can be loaded
* DONE (BufferedMatrixMethods)