| Back to Multiple platform build/check report for BioC 3.9 | 
 | 
This page was generated on 2019-04-09 12:27:04 -0400 (Tue, 09 Apr 2019).
| Package 226/1703 | Hostname | OS / Arch | INSTALL | BUILD | CHECK | BUILD BIN | ||||||
| CellMapper 1.9.0 Brad Nelms 
 | malbec2 | Linux (Ubuntu 18.04.2 LTS) / x86_64 | OK | OK | WARNINGS |  | ||||||
| tokay2 | Windows Server 2012 R2 Standard / x64 | OK | OK | WARNINGS | [ OK ] |  | ||||||
| celaya2 | OS X 10.11.6 El Capitan / x86_64 | OK | OK | WARNINGS | OK |  | ||||||
| merida2 | OS X 10.11.6 El Capitan / x86_64 | OK | OK | WARNINGS | OK | 
| Package: CellMapper | 
| Version: 1.9.0 | 
| Command: rm -rf CellMapper.buildbin-libdir && mkdir CellMapper.buildbin-libdir && C:\Users\biocbuild\bbs-3.9-bioc\R\bin\R.exe CMD INSTALL --merge-multiarch --build --library=CellMapper.buildbin-libdir CellMapper_1.9.0.tar.gz | 
| StartedAt: 2019-04-09 07:35:21 -0400 (Tue, 09 Apr 2019) | 
| EndedAt: 2019-04-09 07:35:44 -0400 (Tue, 09 Apr 2019) | 
| EllapsedTime: 23.3 seconds | 
| RetCode: 0 | 
| Status: OK | 
| PackageFile: CellMapper_1.9.0.zip | 
| PackageFileSize: 303.4 KiB | 
##############################################################################
##############################################################################
###
### Running command:
###
###   rm -rf CellMapper.buildbin-libdir && mkdir CellMapper.buildbin-libdir && C:\Users\biocbuild\bbs-3.9-bioc\R\bin\R.exe CMD INSTALL --merge-multiarch --build --library=CellMapper.buildbin-libdir CellMapper_1.9.0.tar.gz
###
##############################################################################
##############################################################################
install for i386
* installing *source* package 'CellMapper' ...
** R
** data
** inst
** byte-compile and prepare package for lazy loading
Warning: replacing previous import 'stats::var' by 'S4Vectors::var' when loading 'CellMapper'
Warning: replacing previous import 'stats::sd' by 'S4Vectors::sd' when loading 'CellMapper'
** help
*** installing help indices
  converting help for package 'CellMapper'
    finding HTML links ... done
    CMprep                                  html  
Rd warning: C:/Users/biocbuild/bbs-3.9-bioc/tmpdir/RtmpsN6N24/R.INSTALLb944d9934ef/CellMapper/man/CMprep.Rd:51: file link 'ExpressionSet' in package 'Biobase' does not exist and so has been treated as a topic
Rd warning: C:/Users/biocbuild/bbs-3.9-bioc/tmpdir/RtmpsN6N24/R.INSTALLb944d9934ef/CellMapper/man/CMprep.Rd:52: file link 'CellMapperData' in package 'CellMapperData' does not exist and so has been treated as a topic
    CMsearch                                html  
Rd warning: C:/Users/biocbuild/bbs-3.9-bioc/tmpdir/RtmpsN6N24/R.INSTALLb944d9934ef/CellMapper/man/CMsearch.Rd:74: file link 'CellMapperData' in package 'CellMapperData' does not exist and so has been treated as a topic
    CellMapperList-class                    html  
    ExampleGeneLists                        html  
Rd warning: C:/Users/biocbuild/bbs-3.9-bioc/tmpdir/RtmpsN6N24/R.INSTALLb944d9934ef/CellMapper/man/ExampleGeneLists.Rd:51: file link 'CellMapperData' in package 'CellMapperData' does not exist and so has been treated as a topic
Rd warning: C:/Users/biocbuild/bbs-3.9-bioc/tmpdir/RtmpsN6N24/R.INSTALLb944d9934ef/CellMapper/man/ExampleGeneLists.Rd:52: file link 'ExperimentHub' in package 'ExperimentHub' does not exist and so has been treated as a topic
    ReplicateManuscript                     html  
Rd warning: C:/Users/biocbuild/bbs-3.9-bioc/tmpdir/RtmpsN6N24/R.INSTALLb944d9934ef/CellMapper/man/ReplicateManuscript.Rd:33: file link 'CellMapperData' in package 'CellMapperData' does not exist and so has been treated as a topic
Rd warning: C:/Users/biocbuild/bbs-3.9-bioc/tmpdir/RtmpsN6N24/R.INSTALLb944d9934ef/CellMapper/man/ReplicateManuscript.Rd:34: file link 'ExperimentHub' in package 'ExperimentHub' does not exist and so has been treated as a topic
** building package indices
** installing vignettes
** testing if installed package can be loaded from temporary location
Warning: replacing previous import 'stats::var' by 'S4Vectors::var' when loading 'CellMapper'
Warning: replacing previous import 'stats::sd' by 'S4Vectors::sd' when loading 'CellMapper'
** testing if installed package can be loaded from final location
Warning: replacing previous import 'stats::var' by 'S4Vectors::var' when loading 'CellMapper'
Warning: replacing previous import 'stats::sd' by 'S4Vectors::sd' when loading 'CellMapper'
** testing if installed package keeps a record of temporary installation path
install for x64
* installing *source* package 'CellMapper' ...
** testing if installed package can be loaded
Warning: replacing previous import 'stats::sd' by 'S4Vectors::sd' when loading 'CellMapper'
Warning: replacing previous import 'stats::var' by 'S4Vectors::var' when loading 'CellMapper'
* MD5 sums
packaged installation of 'CellMapper' as CellMapper_1.9.0.zip
* DONE (CellMapper)