| Back to Multiple platform build/check report for BioC 3.9 |
|
This page was generated on 2019-04-09 12:25:59 -0400 (Tue, 09 Apr 2019).
| Package 455/1703 | Hostname | OS / Arch | INSTALL | BUILD | CHECK | BUILD BIN | ||||||
| DRIMSeq 1.11.2 Malgorzata Nowicka
| malbec2 | Linux (Ubuntu 18.04.2 LTS) / x86_64 | OK | OK | OK | |||||||
| tokay2 | Windows Server 2012 R2 Standard / x64 | OK | OK | WARNINGS | [ OK ] | |||||||
| celaya2 | OS X 10.11.6 El Capitan / x86_64 | OK | OK | OK | OK | |||||||
| merida2 | OS X 10.11.6 El Capitan / x86_64 | OK | OK | OK | OK |
| Package: DRIMSeq |
| Version: 1.11.2 |
| Command: rm -rf DRIMSeq.buildbin-libdir && mkdir DRIMSeq.buildbin-libdir && C:\Users\biocbuild\bbs-3.9-bioc\R\bin\R.exe CMD INSTALL --merge-multiarch --build --library=DRIMSeq.buildbin-libdir DRIMSeq_1.11.2.tar.gz |
| StartedAt: 2019-04-09 07:49:12 -0400 (Tue, 09 Apr 2019) |
| EndedAt: 2019-04-09 07:49:57 -0400 (Tue, 09 Apr 2019) |
| EllapsedTime: 45.3 seconds |
| RetCode: 0 |
| Status: OK |
| PackageFile: DRIMSeq_1.11.2.zip |
| PackageFileSize: 717.4 KiB |
##############################################################################
##############################################################################
###
### Running command:
###
### rm -rf DRIMSeq.buildbin-libdir && mkdir DRIMSeq.buildbin-libdir && C:\Users\biocbuild\bbs-3.9-bioc\R\bin\R.exe CMD INSTALL --merge-multiarch --build --library=DRIMSeq.buildbin-libdir DRIMSeq_1.11.2.tar.gz
###
##############################################################################
##############################################################################
install for i386
* installing *source* package 'DRIMSeq' ...
** R
** inst
** preparing package for lazy loading
** help
*** installing help indices
converting help for package 'DRIMSeq'
finding HTML links ... done
MatrixList-class html
dmDSdata-class html
dmDSdata html
dmDSfit-class html
dmDSprecision-class html
dmDStest-class html
dmFilter html
dmFit html
finding level-2 HTML links ... done
dmPrecision html
dmSQTLdata-class html
dmSQTLdata html
dmSQTLfit-class html
dmSQTLprecision-class html
dmSQTLtest-class html
dmTest html
Rd warning: C:/Users/biocbuild/bbs-3.9-bioc/tmpdir/Rtmpqmx2Sy/R.INSTALL6641c322e9/DRIMSeq/man/dmTest.Rd:93: file link 'glmLRT' in package 'edgeR' does not exist and so has been treated as a topic
Rd warning: C:/Users/biocbuild/bbs-3.9-bioc/tmpdir/Rtmpqmx2Sy/R.INSTALL6641c322e9/DRIMSeq/man/dmTest.Rd:193: file link 'glmLRT' in package 'edgeR' does not exist and so has been treated as a topic
dm_plotDataDSInfo html
dm_plotProportions html
plotData html
plotPValues html
plotPrecision html
plotProportions html
** building package indices
** installing vignettes
** testing if installed package can be loaded from temporary location
** testing if installed package can be loaded from final location
** testing if installed package keeps a record of temporary installation path
install for x64
* installing *source* package 'DRIMSeq' ...
** testing if installed package can be loaded
* MD5 sums
packaged installation of 'DRIMSeq' as DRIMSeq_1.11.2.zip
* DONE (DRIMSeq)