| Back to Multiple platform build/check report for BioC 3.9 |
|
This page was generated on 2019-04-09 11:31:00 -0400 (Tue, 09 Apr 2019).
| Package 1669/1703 | Hostname | OS / Arch | INSTALL | BUILD | CHECK | BUILD BIN | ||||||
| VariantAnnotation 1.29.25 Valerie Obenchain
| malbec2 | Linux (Ubuntu 18.04.2 LTS) / x86_64 | [ OK ] | OK | OK | |||||||
| tokay2 | Windows Server 2012 R2 Standard / x64 | OK | ERROR | skipped | skipped | |||||||
| celaya2 | OS X 10.11.6 El Capitan / x86_64 | OK | OK | OK | OK | |||||||
| merida2 | OS X 10.11.6 El Capitan / x86_64 | OK | OK | OK | OK |
| Package: VariantAnnotation |
| Version: 1.29.25 |
| Command: /home/biocbuild/bbs-3.9-bioc/R/bin/R CMD INSTALL VariantAnnotation |
| StartedAt: 2019-04-08 18:33:33 -0400 (Mon, 08 Apr 2019) |
| EndedAt: 2019-04-08 18:34:50 -0400 (Mon, 08 Apr 2019) |
| EllapsedTime: 76.1 seconds |
| RetCode: 0 |
| Status: OK |
##############################################################################
##############################################################################
###
### Running command:
###
### /home/biocbuild/bbs-3.9-bioc/R/bin/R CMD INSTALL VariantAnnotation
###
##############################################################################
##############################################################################
* installing to library ‘/home/biocbuild/bbs-3.9-bioc/R/library’
* installing *source* package ‘VariantAnnotation’ ...
** using staged installation
** libs
gcc -I"/home/biocbuild/bbs-3.9-bioc/R/include" -DNDEBUG `echo 'Rhtslib::pkgconfig("PKG_CPPFLAGS")'| "/home/biocbuild/bbs-3.9-bioc/R/bin/R" --vanilla --slave` -I"/home/biocbuild/bbs-3.9-bioc/R/library/S4Vectors/include" -I"/home/biocbuild/bbs-3.9-bioc/R/library/IRanges/include" -I"/home/biocbuild/bbs-3.9-bioc/R/library/XVector/include" -I"/home/biocbuild/bbs-3.9-bioc/R/library/Biostrings/include" -I"/home/biocbuild/bbs-3.9-bioc/R/library/Rhtslib/include" -I/usr/local/include -fpic -g -O2 -Wall -c Biostrings_stubs.c -o Biostrings_stubs.o
gcc -I"/home/biocbuild/bbs-3.9-bioc/R/include" -DNDEBUG `echo 'Rhtslib::pkgconfig("PKG_CPPFLAGS")'| "/home/biocbuild/bbs-3.9-bioc/R/bin/R" --vanilla --slave` -I"/home/biocbuild/bbs-3.9-bioc/R/library/S4Vectors/include" -I"/home/biocbuild/bbs-3.9-bioc/R/library/IRanges/include" -I"/home/biocbuild/bbs-3.9-bioc/R/library/XVector/include" -I"/home/biocbuild/bbs-3.9-bioc/R/library/Biostrings/include" -I"/home/biocbuild/bbs-3.9-bioc/R/library/Rhtslib/include" -I/usr/local/include -fpic -g -O2 -Wall -c IRanges_stubs.c -o IRanges_stubs.o
gcc -I"/home/biocbuild/bbs-3.9-bioc/R/include" -DNDEBUG `echo 'Rhtslib::pkgconfig("PKG_CPPFLAGS")'| "/home/biocbuild/bbs-3.9-bioc/R/bin/R" --vanilla --slave` -I"/home/biocbuild/bbs-3.9-bioc/R/library/S4Vectors/include" -I"/home/biocbuild/bbs-3.9-bioc/R/library/IRanges/include" -I"/home/biocbuild/bbs-3.9-bioc/R/library/XVector/include" -I"/home/biocbuild/bbs-3.9-bioc/R/library/Biostrings/include" -I"/home/biocbuild/bbs-3.9-bioc/R/library/Rhtslib/include" -I/usr/local/include -fpic -g -O2 -Wall -c R_init_VariantAnnotation.c -o R_init_VariantAnnotation.o
gcc -I"/home/biocbuild/bbs-3.9-bioc/R/include" -DNDEBUG `echo 'Rhtslib::pkgconfig("PKG_CPPFLAGS")'| "/home/biocbuild/bbs-3.9-bioc/R/bin/R" --vanilla --slave` -I"/home/biocbuild/bbs-3.9-bioc/R/library/S4Vectors/include" -I"/home/biocbuild/bbs-3.9-bioc/R/library/IRanges/include" -I"/home/biocbuild/bbs-3.9-bioc/R/library/XVector/include" -I"/home/biocbuild/bbs-3.9-bioc/R/library/Biostrings/include" -I"/home/biocbuild/bbs-3.9-bioc/R/library/Rhtslib/include" -I/usr/local/include -fpic -g -O2 -Wall -c XVector_stubs.c -o XVector_stubs.o
gcc -I"/home/biocbuild/bbs-3.9-bioc/R/include" -DNDEBUG `echo 'Rhtslib::pkgconfig("PKG_CPPFLAGS")'| "/home/biocbuild/bbs-3.9-bioc/R/bin/R" --vanilla --slave` -I"/home/biocbuild/bbs-3.9-bioc/R/library/S4Vectors/include" -I"/home/biocbuild/bbs-3.9-bioc/R/library/IRanges/include" -I"/home/biocbuild/bbs-3.9-bioc/R/library/XVector/include" -I"/home/biocbuild/bbs-3.9-bioc/R/library/Biostrings/include" -I"/home/biocbuild/bbs-3.9-bioc/R/library/Rhtslib/include" -I/usr/local/include -fpic -g -O2 -Wall -c dna_hash.c -o dna_hash.o
gcc -I"/home/biocbuild/bbs-3.9-bioc/R/include" -DNDEBUG `echo 'Rhtslib::pkgconfig("PKG_CPPFLAGS")'| "/home/biocbuild/bbs-3.9-bioc/R/bin/R" --vanilla --slave` -I"/home/biocbuild/bbs-3.9-bioc/R/library/S4Vectors/include" -I"/home/biocbuild/bbs-3.9-bioc/R/library/IRanges/include" -I"/home/biocbuild/bbs-3.9-bioc/R/library/XVector/include" -I"/home/biocbuild/bbs-3.9-bioc/R/library/Biostrings/include" -I"/home/biocbuild/bbs-3.9-bioc/R/library/Rhtslib/include" -I/usr/local/include -fpic -g -O2 -Wall -c rle.c -o rle.o
gcc -I"/home/biocbuild/bbs-3.9-bioc/R/include" -DNDEBUG `echo 'Rhtslib::pkgconfig("PKG_CPPFLAGS")'| "/home/biocbuild/bbs-3.9-bioc/R/bin/R" --vanilla --slave` -I"/home/biocbuild/bbs-3.9-bioc/R/library/S4Vectors/include" -I"/home/biocbuild/bbs-3.9-bioc/R/library/IRanges/include" -I"/home/biocbuild/bbs-3.9-bioc/R/library/XVector/include" -I"/home/biocbuild/bbs-3.9-bioc/R/library/Biostrings/include" -I"/home/biocbuild/bbs-3.9-bioc/R/library/Rhtslib/include" -I/usr/local/include -fpic -g -O2 -Wall -c strhash.c -o strhash.o
gcc -I"/home/biocbuild/bbs-3.9-bioc/R/include" -DNDEBUG `echo 'Rhtslib::pkgconfig("PKG_CPPFLAGS")'| "/home/biocbuild/bbs-3.9-bioc/R/bin/R" --vanilla --slave` -I"/home/biocbuild/bbs-3.9-bioc/R/library/S4Vectors/include" -I"/home/biocbuild/bbs-3.9-bioc/R/library/IRanges/include" -I"/home/biocbuild/bbs-3.9-bioc/R/library/XVector/include" -I"/home/biocbuild/bbs-3.9-bioc/R/library/Biostrings/include" -I"/home/biocbuild/bbs-3.9-bioc/R/library/Rhtslib/include" -I/usr/local/include -fpic -g -O2 -Wall -c utilities.c -o utilities.o
gcc -I"/home/biocbuild/bbs-3.9-bioc/R/include" -DNDEBUG `echo 'Rhtslib::pkgconfig("PKG_CPPFLAGS")'| "/home/biocbuild/bbs-3.9-bioc/R/bin/R" --vanilla --slave` -I"/home/biocbuild/bbs-3.9-bioc/R/library/S4Vectors/include" -I"/home/biocbuild/bbs-3.9-bioc/R/library/IRanges/include" -I"/home/biocbuild/bbs-3.9-bioc/R/library/XVector/include" -I"/home/biocbuild/bbs-3.9-bioc/R/library/Biostrings/include" -I"/home/biocbuild/bbs-3.9-bioc/R/library/Rhtslib/include" -I/usr/local/include -fpic -g -O2 -Wall -c vcffile.c -o vcffile.o
gcc -I"/home/biocbuild/bbs-3.9-bioc/R/include" -DNDEBUG `echo 'Rhtslib::pkgconfig("PKG_CPPFLAGS")'| "/home/biocbuild/bbs-3.9-bioc/R/bin/R" --vanilla --slave` -I"/home/biocbuild/bbs-3.9-bioc/R/library/S4Vectors/include" -I"/home/biocbuild/bbs-3.9-bioc/R/library/IRanges/include" -I"/home/biocbuild/bbs-3.9-bioc/R/library/XVector/include" -I"/home/biocbuild/bbs-3.9-bioc/R/library/Biostrings/include" -I"/home/biocbuild/bbs-3.9-bioc/R/library/Rhtslib/include" -I/usr/local/include -fpic -g -O2 -Wall -c vcftype.c -o vcftype.o
gcc -I"/home/biocbuild/bbs-3.9-bioc/R/include" -DNDEBUG `echo 'Rhtslib::pkgconfig("PKG_CPPFLAGS")'| "/home/biocbuild/bbs-3.9-bioc/R/bin/R" --vanilla --slave` -I"/home/biocbuild/bbs-3.9-bioc/R/library/S4Vectors/include" -I"/home/biocbuild/bbs-3.9-bioc/R/library/IRanges/include" -I"/home/biocbuild/bbs-3.9-bioc/R/library/XVector/include" -I"/home/biocbuild/bbs-3.9-bioc/R/library/Biostrings/include" -I"/home/biocbuild/bbs-3.9-bioc/R/library/Rhtslib/include" -I/usr/local/include -fpic -g -O2 -Wall -c writevcf.c -o writevcf.o
gcc -shared -L/home/biocbuild/bbs-3.9-bioc/R/lib -L/usr/local/lib -o VariantAnnotation.so Biostrings_stubs.o IRanges_stubs.o R_init_VariantAnnotation.o XVector_stubs.o dna_hash.o rle.o strhash.o utilities.o vcffile.o vcftype.o writevcf.o -L/home/biocbuild/bbs-3.9-bioc/R/library/Rhtslib/usrlib -Wl,-rpath,/home/biocbuild/bbs-3.9-bioc/R/library/Rhtslib/usrlib -lhts -lz -lm -lbz2 -llzma -lpthread -L/home/biocbuild/bbs-3.9-bioc/R/lib -lR
installing to /home/biocbuild/bbs-3.9-bioc/R/library/00LOCK-VariantAnnotation/00new/VariantAnnotation/libs
** R
** inst
** byte-compile and prepare package for lazy loading
Creating a new generic function for ‘tabulate’ in package ‘VariantAnnotation’
** help
*** installing help indices
** building package indices
** installing vignettes
** testing if installed package can be loaded from temporary location
** checking absolute paths in shared objects and dynamic libraries
** testing if installed package can be loaded from final location
** testing if installed package keeps a record of temporary installation path
* DONE (VariantAnnotation)