| Back to Multiple platform build/check report for BioC 3.9 |
|
This page was generated on 2019-03-18 11:20:42 -0400 (Mon, 18 Mar 2019).
| Package 667/1676 | Hostname | OS / Arch | INSTALL | BUILD | CHECK | ||||||
| glmSparseNet 1.1.0 André Veríssimo
| malbec2 | Linux (Ubuntu 18.04.2 LTS) / x86_64 | OK | OK | [ OK ] | ||||||
| tokay2 | Windows Server 2012 R2 Standard / x64 | OK | ERROR | skipped | |||||||
| merida2 | OS X 10.11.6 El Capitan / x86_64 | OK | OK | OK | |||||||
| celaya2 | OS X 10.11.6 El Capitan / x86_64 | OK | OK | OK |
| Package: glmSparseNet |
| Version: 1.1.0 |
| Command: /home/biocbuild/bbs-3.9-bioc/R/bin/R CMD check --install=check:glmSparseNet.install-out.txt --library=/home/biocbuild/bbs-3.9-bioc/R/library --no-vignettes --timings glmSparseNet_1.1.0.tar.gz |
| StartedAt: 2019-03-18 01:21:54 -0400 (Mon, 18 Mar 2019) |
| EndedAt: 2019-03-18 01:25:57 -0400 (Mon, 18 Mar 2019) |
| EllapsedTime: 242.4 seconds |
| RetCode: 0 |
| Status: OK |
| CheckDir: glmSparseNet.Rcheck |
| Warnings: 0 |
##############################################################################
##############################################################################
###
### Running command:
###
### /home/biocbuild/bbs-3.9-bioc/R/bin/R CMD check --install=check:glmSparseNet.install-out.txt --library=/home/biocbuild/bbs-3.9-bioc/R/library --no-vignettes --timings glmSparseNet_1.1.0.tar.gz
###
##############################################################################
##############################################################################
* using log directory ‘/home/biocbuild/bbs-3.9-bioc/meat/glmSparseNet.Rcheck’
* using R Under development (unstable) (2019-01-21 r75999)
* using platform: x86_64-pc-linux-gnu (64-bit)
* using session charset: UTF-8
* using option ‘--no-vignettes’
* checking for file ‘glmSparseNet/DESCRIPTION’ ... OK
* checking extension type ... Package
* this is package ‘glmSparseNet’ version ‘1.1.0’
* package encoding: UTF-8
* checking package namespace information ... OK
* checking package dependencies ... OK
* checking if this is a source package ... OK
* checking if there is a namespace ... OK
* checking for hidden files and directories ... OK
* checking for portable file names ... OK
* checking for sufficient/correct file permissions ... OK
* checking whether package ‘glmSparseNet’ can be installed ... OK
* checking installed package size ... OK
* checking package directory ... OK
* checking ‘build’ directory ... OK
* checking DESCRIPTION meta-information ... OK
* checking top-level files ... OK
* checking for left-over files ... OK
* checking index information ... OK
* checking package subdirectories ... OK
* checking R files for non-ASCII characters ... OK
* checking R files for syntax errors ... OK
* checking whether the package can be loaded ... OK
* checking whether the package can be loaded with stated dependencies ... OK
* checking whether the package can be unloaded cleanly ... OK
* checking whether the namespace can be loaded with stated dependencies ... OK
* checking whether the namespace can be unloaded cleanly ... OK
* checking dependencies in R code ... OK
* checking S3 generic/method consistency ... OK
* checking replacement functions ... OK
* checking foreign function calls ... OK
* checking R code for possible problems ... OK
* checking Rd files ... OK
* checking Rd metadata ... OK
* checking Rd cross-references ... OK
* checking for missing documentation entries ... OK
* checking for code/documentation mismatches ... OK
* checking Rd \usage sections ... OK
* checking Rd contents ... OK
* checking for unstated dependencies in examples ... OK
* checking contents of ‘data’ directory ... OK
* checking data for non-ASCII characters ... OK
* checking data for ASCII and uncompressed saves ... OK
* checking files in ‘vignettes’ ... OK
* checking examples ... OK
Examples with CPU or elapsed time > 5s
user system elapsed
separate2GroupsCox 4.696 0.011 5.016
geneNames 1.461 0.007 6.929
* checking for unstated dependencies in ‘tests’ ... OK
* checking tests ...
Running ‘testthat.R’
OK
* checking for unstated dependencies in vignettes ... OK
* checking package vignettes in ‘inst/doc’ ... OK
* checking running R code from vignettes ... SKIPPED
* checking re-building of vignette outputs ... SKIPPED
* checking PDF version of manual ... OK
* DONE
Status: OK
glmSparseNet.Rcheck/00install.out
############################################################################## ############################################################################## ### ### Running command: ### ### /home/biocbuild/bbs-3.9-bioc/R/bin/R CMD INSTALL glmSparseNet ### ############################################################################## ############################################################################## * installing to library ‘/home/biocbuild/bbs-3.9-bioc/R/library’ * installing *source* package ‘glmSparseNet’ ... ** R ** data *** moving datasets to lazyload DB ** inst ** byte-compile and prepare package for lazy loading ** help *** installing help indices ** building package indices ** installing vignettes ** testing if installed package can be loaded * DONE (glmSparseNet)
glmSparseNet.Rcheck/tests/testthat.Rout
R Under development (unstable) (2019-01-21 r75999) -- "Unsuffered Consequences"
Copyright (C) 2019 The R Foundation for Statistical Computing
Platform: x86_64-pc-linux-gnu (64-bit)
R is free software and comes with ABSOLUTELY NO WARRANTY.
You are welcome to redistribute it under certain conditions.
Type 'license()' or 'licence()' for distribution details.
R is a collaborative project with many contributors.
Type 'contributors()' for more information and
'citation()' on how to cite R or R packages in publications.
Type 'demo()' for some demos, 'help()' for on-line help, or
'help.start()' for an HTML browser interface to help.
Type 'q()' to quit R.
> library(testthat)
> library(glmSparseNet)
Loading required package: Matrix
Loading required package: MultiAssayExperiment
Loading required package: SummarizedExperiment
Loading required package: GenomicRanges
Loading required package: stats4
Loading required package: BiocGenerics
Loading required package: parallel
Attaching package: 'BiocGenerics'
The following objects are masked from 'package:parallel':
clusterApply, clusterApplyLB, clusterCall, clusterEvalQ,
clusterExport, clusterMap, parApply, parCapply, parLapply,
parLapplyLB, parRapply, parSapply, parSapplyLB
The following objects are masked from 'package:Matrix':
colMeans, colSums, rowMeans, rowSums, which
The following objects are masked from 'package:stats':
IQR, mad, sd, var, xtabs
The following objects are masked from 'package:base':
Filter, Find, Map, Position, Reduce, anyDuplicated, append,
as.data.frame, basename, cbind, colMeans, colSums, colnames,
dirname, do.call, duplicated, eval, evalq, get, grep, grepl,
intersect, is.unsorted, lapply, mapply, match, mget, order, paste,
pmax, pmax.int, pmin, pmin.int, rank, rbind, rowMeans, rowSums,
rownames, sapply, setdiff, sort, table, tapply, union, unique,
unsplit, which, which.max, which.min
Loading required package: S4Vectors
Attaching package: 'S4Vectors'
The following object is masked from 'package:Matrix':
expand
The following object is masked from 'package:base':
expand.grid
Loading required package: IRanges
Loading required package: GenomeInfoDb
Loading required package: Biobase
Welcome to Bioconductor
Vignettes contain introductory material; view with
'browseVignettes()'. To cite Bioconductor, see
'citation("Biobase")', and for packages 'citation("pkgname")'.
Loading required package: DelayedArray
Loading required package: matrixStats
Attaching package: 'matrixStats'
The following objects are masked from 'package:Biobase':
anyMissing, rowMedians
Loading required package: BiocParallel
Attaching package: 'DelayedArray'
The following objects are masked from 'package:matrixStats':
colMaxs, colMins, colRanges, rowMaxs, rowMins, rowRanges
The following objects are masked from 'package:base':
aperm, apply, rowsum
Loading required package: glmnet
Loading required package: foreach
Loaded glmnet 2.0-16
>
> test_check("glmSparseNet")
Loading from cache (not calculating): /tmp/Rtmpt44dLZ/814a/cache-biomart-H_814affbc9d3ea2eab3ccea0a551ccb2290163bbcf23ee395ed1502576db44e09.RData
══ testthat results ═══════════════════════════════════════════════════════════
OK: 50 SKIPPED: 0 FAILED: 0
>
> proc.time()
user system elapsed
23.217 5.344 34.637
glmSparseNet.Rcheck/glmSparseNet-Ex.timings
| name | user | system | elapsed | |
| buildLambda | 0.005 | 0.000 | 0.005 | |
| buildStringNetwork | 0 | 0 | 0 | |
| cv.glmDegree | 0.267 | 0.008 | 0.275 | |
| cv.glmHub | 0.069 | 0.000 | 0.072 | |
| cv.glmOrphan | 0.068 | 0.004 | 0.073 | |
| cv.glmSparseNet | 3.106 | 0.051 | 3.523 | |
| degreeCor | 0.028 | 0.000 | 0.028 | |
| degreeCov | 0.008 | 0.000 | 0.008 | |
| degreeSparsebn | 2.029 | 0.000 | 2.074 | |
| dot-calcPenalty | 1.007 | 0.031 | 1.056 | |
| ensemblGeneNames | 0.000 | 0.000 | 0.001 | |
| geneNames | 1.461 | 0.007 | 6.929 | |
| glmDegree | 0.012 | 0.000 | 0.013 | |
| glmHub | 0.007 | 0.000 | 0.006 | |
| glmOrphan | 0.002 | 0.004 | 0.007 | |
| glmSparseNet | 1.135 | 0.005 | 1.193 | |
| hallmarks | 0 | 0 | 0 | |
| heuristicScale | 0 | 0 | 0 | |
| hubHeuristic | 0 | 0 | 0 | |
| networkCorParallel | 0.033 | 0.004 | 0.037 | |
| networkCovParallel | 0.011 | 0.000 | 0.011 | |
| networkOptions | 0 | 0 | 0 | |
| orphanHeuristic | 0 | 0 | 0 | |
| protein2EnsemblGeneNames | 0.061 | 0.000 | 1.804 | |
| separate2GroupsCox | 4.696 | 0.011 | 5.016 | |
| string.network.700.cache | 0.877 | 0.142 | 1.120 | |
| stringDBhomoSapiens | 0 | 0 | 0 | |