| Back to Multiple platform build/check report for BioC 3.9 |
|
This page was generated on 2019-04-09 11:53:32 -0400 (Tue, 09 Apr 2019).
| Package 1685/1703 | Hostname | OS / Arch | INSTALL | BUILD | CHECK | BUILD BIN | ||||||
| webbioc 1.55.0 Colin A. Smith
| malbec2 | Linux (Ubuntu 18.04.2 LTS) / x86_64 | OK | OK | OK | |||||||
| tokay2 | Windows Server 2012 R2 Standard / x64 | OK | OK | OK | [ OK ] | |||||||
| celaya2 | OS X 10.11.6 El Capitan / x86_64 | OK | OK | OK | OK | |||||||
| merida2 | OS X 10.11.6 El Capitan / x86_64 | OK | OK | OK | OK |
| Package: webbioc |
| Version: 1.55.0 |
| Command: rm -rf webbioc.buildbin-libdir && mkdir webbioc.buildbin-libdir && C:\Users\biocbuild\bbs-3.9-bioc\R\bin\R.exe CMD INSTALL --merge-multiarch --build --library=webbioc.buildbin-libdir webbioc_1.55.0.tar.gz |
| StartedAt: 2019-04-09 09:11:08 -0400 (Tue, 09 Apr 2019) |
| EndedAt: 2019-04-09 09:11:54 -0400 (Tue, 09 Apr 2019) |
| EllapsedTime: 45.3 seconds |
| RetCode: 0 |
| Status: OK |
| PackageFile: webbioc_1.55.0.zip |
| PackageFileSize: 211.7 KiB |
##############################################################################
##############################################################################
###
### Running command:
###
### rm -rf webbioc.buildbin-libdir && mkdir webbioc.buildbin-libdir && C:\Users\biocbuild\bbs-3.9-bioc\R\bin\R.exe CMD INSTALL --merge-multiarch --build --library=webbioc.buildbin-libdir webbioc_1.55.0.tar.gz
###
##############################################################################
##############################################################################
install for i386
* installing *source* package 'webbioc' ...
** R
** inst
** byte-compile and prepare package for lazy loading
** help
*** installing help indices
converting help for package 'webbioc'
finding HTML links ... done
installReps html
mt.wrapper html
** building package indices
** installing vignettes
** testing if installed package can be loaded from temporary location
** testing if installed package can be loaded from final location
** testing if installed package keeps a record of temporary installation path
install for x64
* installing *source* package 'webbioc' ...
** testing if installed package can be loaded
* MD5 sums
packaged installation of 'webbioc' as webbioc_1.55.0.zip
* DONE (webbioc)