| Back to Multiple platform build/check report for BioC 3.9 | 
 | 
This page was generated on 2019-10-16 12:18:09 -0400 (Wed, 16 Oct 2019).
| Package 775/1741 | Hostname | OS / Arch | INSTALL | BUILD | CHECK | BUILD BIN | ||||||
| HumanTranscriptomeCompendium 1.0.1 VJ Carey 
 | malbec2 | Linux (Ubuntu 18.04.2 LTS) / x86_64 | OK | OK | [ OK ] |  | ||||||
| tokay2 | Windows Server 2012 R2 Standard / x64 | OK | OK | OK | OK |  | ||||||
| celaya2 | OS X 10.11.6 El Capitan / x86_64 | OK | OK | OK | OK |  | 
| Package: HumanTranscriptomeCompendium | 
| Version: 1.0.1 | 
| Command: /home/biocbuild/bbs-3.9-bioc/R/bin/R CMD check --install=check:HumanTranscriptomeCompendium.install-out.txt --library=/home/biocbuild/bbs-3.9-bioc/R/library --no-vignettes --timings HumanTranscriptomeCompendium_1.0.1.tar.gz | 
| StartedAt: 2019-10-16 02:24:22 -0400 (Wed, 16 Oct 2019) | 
| EndedAt: 2019-10-16 02:28:04 -0400 (Wed, 16 Oct 2019) | 
| EllapsedTime: 221.5 seconds | 
| RetCode: 0 | 
| Status: OK | 
| CheckDir: HumanTranscriptomeCompendium.Rcheck | 
| Warnings: 0 | 
##############################################################################
##############################################################################
###
### Running command:
###
###   /home/biocbuild/bbs-3.9-bioc/R/bin/R CMD check --install=check:HumanTranscriptomeCompendium.install-out.txt --library=/home/biocbuild/bbs-3.9-bioc/R/library --no-vignettes --timings HumanTranscriptomeCompendium_1.0.1.tar.gz
###
##############################################################################
##############################################################################
* using log directory ‘/home/biocbuild/bbs-3.9-bioc/meat/HumanTranscriptomeCompendium.Rcheck’
* using R version 3.6.1 (2019-07-05)
* using platform: x86_64-pc-linux-gnu (64-bit)
* using session charset: UTF-8
* using option ‘--no-vignettes’
* checking for file ‘HumanTranscriptomeCompendium/DESCRIPTION’ ... OK
* this is package ‘HumanTranscriptomeCompendium’ version ‘1.0.1’
* package encoding: UTF-8
* checking package namespace information ... OK
* checking package dependencies ... OK
* checking if this is a source package ... OK
* checking if there is a namespace ... OK
* checking for hidden files and directories ... OK
* checking for portable file names ... OK
* checking for sufficient/correct file permissions ... OK
* checking whether package ‘HumanTranscriptomeCompendium’ can be installed ... OK
* checking installed package size ... OK
* checking package directory ... OK
* checking ‘build’ directory ... OK
* checking DESCRIPTION meta-information ... OK
* checking top-level files ... OK
* checking for left-over files ... OK
* checking index information ... OK
* checking package subdirectories ... OK
* checking R files for non-ASCII characters ... OK
* checking R files for syntax errors ... OK
* checking whether the package can be loaded ... OK
* checking whether the package can be loaded with stated dependencies ... OK
* checking whether the package can be unloaded cleanly ... OK
* checking whether the namespace can be loaded with stated dependencies ... OK
* checking whether the namespace can be unloaded cleanly ... OK
* checking dependencies in R code ... OK
* checking S3 generic/method consistency ... OK
* checking replacement functions ... OK
* checking foreign function calls ... OK
* checking R code for possible problems ... OK
* checking Rd files ... OK
* checking Rd metadata ... OK
* checking Rd cross-references ... OK
* checking for missing documentation entries ... OK
* checking for code/documentation mismatches ... OK
* checking Rd \usage sections ... OK
* checking Rd contents ... OK
* checking for unstated dependencies in examples ... OK
* checking contents of ‘data’ directory ... OK
* checking data for non-ASCII characters ... OK
* checking data for ASCII and uncompressed saves ... OK
* checking files in ‘vignettes’ ... OK
* checking examples ... OK
Examples with CPU or elapsed time > 5s
                               user system elapsed
htx_query_by_study_accession 10.383  0.063  10.981
htx_query_by_text             9.390  0.028   9.626
* checking for unstated dependencies in ‘tests’ ... OK
* checking tests ...
  Running ‘testthat.R’
 OK
* checking for unstated dependencies in vignettes ... OK
* checking package vignettes in ‘inst/doc’ ... OK
* checking running R code from vignettes ... SKIPPED
* checking re-building of vignette outputs ... SKIPPED
* checking PDF version of manual ... OK
* DONE
Status: OK
HumanTranscriptomeCompendium.Rcheck/00install.out
############################################################################## ############################################################################## ### ### Running command: ### ### /home/biocbuild/bbs-3.9-bioc/R/bin/R CMD INSTALL HumanTranscriptomeCompendium ### ############################################################################## ############################################################################## * installing to library ‘/home/biocbuild/bbs-3.9-bioc/R/library’ * installing *source* package ‘HumanTranscriptomeCompendium’ ... ** using staged installation ** R ** data *** moving datasets to lazyload DB ** inst ** byte-compile and prepare package for lazy loading ** help *** installing help indices ** building package indices ** installing vignettes ** testing if installed package can be loaded from temporary location ** testing if installed package can be loaded from final location ** testing if installed package keeps a record of temporary installation path * DONE (HumanTranscriptomeCompendium)
HumanTranscriptomeCompendium.Rcheck/tests/testthat.Rout
R version 3.6.1 (2019-07-05) -- "Action of the Toes"
Copyright (C) 2019 The R Foundation for Statistical Computing
Platform: x86_64-pc-linux-gnu (64-bit)
R is free software and comes with ABSOLUTELY NO WARRANTY.
You are welcome to redistribute it under certain conditions.
Type 'license()' or 'licence()' for distribution details.
R is a collaborative project with many contributors.
Type 'contributors()' for more information and
'citation()' on how to cite R or R packages in publications.
Type 'demo()' for some demos, 'help()' for on-line help, or
'help.start()' for an HTML browser interface to help.
Type 'q()' to quit R.
> library(testthat)
> library(HumanTranscriptomeCompendium)
> 
> test_check("HumanTranscriptomeCompendium")
══ testthat results  ═══════════════════════════════════════════════════════════
[ OK: 8 | SKIPPED: 0 | WARNINGS: 0 | FAILED: 0 ]
> 
> proc.time()
   user  system elapsed 
 43.514   1.005  44.944 
HumanTranscriptomeCompendium.Rcheck/HumanTranscriptomeCompendium-Ex.timings
| name | user | system | elapsed | |
| HumanTranscriptomeCompendium.colnames | 0.122 | 0.004 | 0.126 | |
| addRD | 0 | 0 | 0 | |
| get_ds4841 | 3.527 | 0.242 | 3.892 | |
| htx_app | 0 | 0 | 0 | |
| htx_load | 0.001 | 0.000 | 0.001 | |
| htx_query_by_study_accession | 10.383 | 0.063 | 10.981 | |
| htx_query_by_text | 9.390 | 0.028 | 9.626 | |
| load_bigrnaFiles | 0 | 0 | 0 | |
| load_experTable | 0 | 0 | 0 | |
| load_studTable | 0.000 | 0.000 | 0.001 | |
| path_doc4842 | 0.334 | 0.036 | 0.373 | |
| procExpToGene | 0.001 | 0.000 | 0.001 | |
| tx2gene_gencode27 | 0.465 | 0.019 | 0.961 | |
| uniqueAcc_120518 | 0.061 | 0.008 | 0.069 | |