| Back to Multiple platform build/check report for BioC 3.9 |
|
This page was generated on 2019-10-16 12:09:51 -0400 (Wed, 16 Oct 2019).
| Package 1074/1741 | Hostname | OS / Arch | INSTALL | BUILD | CHECK | BUILD BIN | ||||||
| MutationalPatterns 1.10.0 Roel Janssen
| malbec2 | Linux (Ubuntu 18.04.2 LTS) / x86_64 | OK | OK | [ OK ] | |||||||
| tokay2 | Windows Server 2012 R2 Standard / x64 | OK | OK | OK | OK | |||||||
| celaya2 | OS X 10.11.6 El Capitan / x86_64 | OK | OK | OK | OK |
| Package: MutationalPatterns |
| Version: 1.10.0 |
| Command: /home/biocbuild/bbs-3.9-bioc/R/bin/R CMD check --install=check:MutationalPatterns.install-out.txt --library=/home/biocbuild/bbs-3.9-bioc/R/library --no-vignettes --timings MutationalPatterns_1.10.0.tar.gz |
| StartedAt: 2019-10-16 03:27:36 -0400 (Wed, 16 Oct 2019) |
| EndedAt: 2019-10-16 03:33:29 -0400 (Wed, 16 Oct 2019) |
| EllapsedTime: 353.8 seconds |
| RetCode: 0 |
| Status: OK |
| CheckDir: MutationalPatterns.Rcheck |
| Warnings: 0 |
##############################################################################
##############################################################################
###
### Running command:
###
### /home/biocbuild/bbs-3.9-bioc/R/bin/R CMD check --install=check:MutationalPatterns.install-out.txt --library=/home/biocbuild/bbs-3.9-bioc/R/library --no-vignettes --timings MutationalPatterns_1.10.0.tar.gz
###
##############################################################################
##############################################################################
* using log directory ‘/home/biocbuild/bbs-3.9-bioc/meat/MutationalPatterns.Rcheck’
* using R version 3.6.1 (2019-07-05)
* using platform: x86_64-pc-linux-gnu (64-bit)
* using session charset: UTF-8
* using option ‘--no-vignettes’
* checking for file ‘MutationalPatterns/DESCRIPTION’ ... OK
* checking extension type ... Package
* this is package ‘MutationalPatterns’ version ‘1.10.0’
* package encoding: UTF-8
* checking package namespace information ... OK
* checking package dependencies ... OK
* checking if this is a source package ... OK
* checking if there is a namespace ... OK
* checking for hidden files and directories ... OK
* checking for portable file names ... OK
* checking for sufficient/correct file permissions ... OK
* checking whether package ‘MutationalPatterns’ can be installed ... OK
* checking installed package size ... OK
* checking package directory ... OK
* checking ‘build’ directory ... OK
* checking DESCRIPTION meta-information ... OK
* checking top-level files ... OK
* checking for left-over files ... OK
* checking index information ... OK
* checking package subdirectories ... OK
* checking R files for non-ASCII characters ... OK
* checking R files for syntax errors ... OK
* checking whether the package can be loaded ... OK
* checking whether the package can be loaded with stated dependencies ... OK
* checking whether the package can be unloaded cleanly ... OK
* checking whether the namespace can be loaded with stated dependencies ... OK
* checking whether the namespace can be unloaded cleanly ... OK
* checking dependencies in R code ... OK
* checking S3 generic/method consistency ... OK
* checking replacement functions ... OK
* checking foreign function calls ... OK
* checking R code for possible problems ... OK
* checking Rd files ... OK
* checking Rd metadata ... OK
* checking Rd cross-references ... OK
* checking for missing documentation entries ... OK
* checking for code/documentation mismatches ... OK
* checking Rd \usage sections ... OK
* checking Rd contents ... OK
* checking for unstated dependencies in examples ... OK
* checking files in ‘vignettes’ ... OK
* checking examples ... OK
Examples with CPU or elapsed time > 5s
user system elapsed
genomic_distribution 19.159 0.112 19.326
mut_matrix_stranded 14.289 4.420 3.592
read_vcfs_as_granges 7.763 2.867 1.913
mut_matrix 5.221 1.805 1.447
mut_type_occurrences 6.123 0.212 6.335
plot_spectrum 5.717 0.088 5.805
* checking for unstated dependencies in ‘tests’ ... OK
* checking tests ...
Running ‘testthat.R’
OK
* checking for unstated dependencies in vignettes ... OK
* checking package vignettes in ‘inst/doc’ ... OK
* checking running R code from vignettes ... SKIPPED
* checking re-building of vignette outputs ... SKIPPED
* checking PDF version of manual ... OK
* DONE
Status: OK
MutationalPatterns.Rcheck/00install.out
############################################################################## ############################################################################## ### ### Running command: ### ### /home/biocbuild/bbs-3.9-bioc/R/bin/R CMD INSTALL MutationalPatterns ### ############################################################################## ############################################################################## * installing to library ‘/home/biocbuild/bbs-3.9-bioc/R/library’ * installing *source* package ‘MutationalPatterns’ ... ** using staged installation ** R ** inst ** byte-compile and prepare package for lazy loading ** help *** installing help indices ** building package indices ** installing vignettes ** testing if installed package can be loaded from temporary location ** testing if installed package can be loaded from final location ** testing if installed package keeps a record of temporary installation path * DONE (MutationalPatterns)
MutationalPatterns.Rcheck/tests/testthat.Rout
R version 3.6.1 (2019-07-05) -- "Action of the Toes"
Copyright (C) 2019 The R Foundation for Statistical Computing
Platform: x86_64-pc-linux-gnu (64-bit)
R is free software and comes with ABSOLUTELY NO WARRANTY.
You are welcome to redistribute it under certain conditions.
Type 'license()' or 'licence()' for distribution details.
R is a collaborative project with many contributors.
Type 'contributors()' for more information and
'citation()' on how to cite R or R packages in publications.
Type 'demo()' for some demos, 'help()' for on-line help, or
'help.start()' for an HTML browser interface to help.
Type 'q()' to quit R.
> library(testthat)
> library(MutationalPatterns)
Loading required package: GenomicRanges
Loading required package: stats4
Loading required package: BiocGenerics
Loading required package: parallel
Attaching package: 'BiocGenerics'
The following objects are masked from 'package:parallel':
clusterApply, clusterApplyLB, clusterCall, clusterEvalQ,
clusterExport, clusterMap, parApply, parCapply, parLapply,
parLapplyLB, parRapply, parSapply, parSapplyLB
The following objects are masked from 'package:stats':
IQR, mad, sd, var, xtabs
The following objects are masked from 'package:base':
Filter, Find, Map, Position, Reduce, anyDuplicated, append,
as.data.frame, basename, cbind, colnames, dirname, do.call,
duplicated, eval, evalq, get, grep, grepl, intersect, is.unsorted,
lapply, mapply, match, mget, order, paste, pmax, pmax.int, pmin,
pmin.int, rank, rbind, rownames, sapply, setdiff, sort, table,
tapply, union, unique, unsplit, which, which.max, which.min
Loading required package: S4Vectors
Attaching package: 'S4Vectors'
The following object is masked from 'package:base':
expand.grid
Loading required package: IRanges
Loading required package: GenomeInfoDb
Loading required package: NMF
Loading required package: pkgmaker
Loading required package: registry
Attaching package: 'pkgmaker'
The following object is masked from 'package:S4Vectors':
new2
The following object is masked from 'package:base':
isFALSE
Loading required package: rngtools
Loading required package: cluster
NMF - BioConductor layer [OK] | Shared memory capabilities [NO: synchronicity] | Cores 19/20
To enable shared memory capabilities, try: install.extras('
NMF
')
Attaching package: 'NMF'
The following object is masked from 'package:S4Vectors':
nrun
The following object is masked from 'package:testthat':
compare
>
> test_check("MutationalPatterns")
══ testthat results ═══════════════════════════════════════════════════════════
[ OK: 10 | SKIPPED: 0 | WARNINGS: 0 | FAILED: 0 ]
>
> proc.time()
user system elapsed
99.779 27.081 36.673
MutationalPatterns.Rcheck/MutationalPatterns-Ex.timings
| name | user | system | elapsed | |
| binomial_test | 0.006 | 0.000 | 0.007 | |
| cluster_signatures | 0.024 | 0.000 | 0.069 | |
| cos_sim | 0 | 0 | 0 | |
| cos_sim_matrix | 0.014 | 0.000 | 0.014 | |
| enrichment_depletion_test | 0.083 | 0.012 | 0.111 | |
| explained_by_signatures | 0.010 | 0.004 | 0.014 | |
| extract_signatures | 0.002 | 0.000 | 0.001 | |
| fit_to_signatures | 0.065 | 0.004 | 0.069 | |
| genomic_distribution | 19.159 | 0.112 | 19.326 | |
| mut_context | 0.694 | 0.024 | 0.718 | |
| mut_matrix | 5.221 | 1.805 | 1.447 | |
| mut_matrix_stranded | 14.289 | 4.420 | 3.592 | |
| mut_strand | 0.303 | 0.024 | 0.326 | |
| mut_type | 0.040 | 0.000 | 0.041 | |
| mut_type_occurrences | 6.123 | 0.212 | 6.335 | |
| mutation_context | 0.749 | 0.028 | 0.777 | |
| mutation_types | 0.025 | 0.004 | 0.029 | |
| mutations_from_vcf | 0.022 | 0.000 | 0.022 | |
| plot_192_profile | 1.258 | 0.000 | 1.647 | |
| plot_96_profile | 0.771 | 0.000 | 0.771 | |
| plot_compare_profiles | 1.025 | 0.004 | 1.189 | |
| plot_contribution | 1.295 | 0.000 | 1.295 | |
| plot_contribution_heatmap | 0.567 | 0.000 | 0.568 | |
| plot_cosine_heatmap | 0.569 | 0.000 | 0.568 | |
| plot_enrichment_depletion | 2.183 | 0.016 | 2.199 | |
| plot_rainfall | 0.917 | 0.000 | 0.916 | |
| plot_signature_strand_bias | 0.393 | 0.000 | 0.404 | |
| plot_spectrum | 5.717 | 0.088 | 5.805 | |
| plot_strand | 0.135 | 0.000 | 0.135 | |
| plot_strand_bias | 0.574 | 0.004 | 0.577 | |
| read_vcfs_as_granges | 7.763 | 2.867 | 1.913 | |
| strand_bias_test | 0.202 | 0.039 | 0.241 | |
| strand_occurrences | 0.216 | 0.009 | 0.226 | |
| type_context | 0.707 | 0.031 | 0.740 | |