| Back to Multiple platform build/check report for BioC 3.9 |
|
This page was generated on 2019-10-16 12:22:02 -0400 (Wed, 16 Oct 2019).
| Package 1413/1741 | Hostname | OS / Arch | INSTALL | BUILD | CHECK | BUILD BIN | ||||||
| RpsiXML 2.26.0 Jitao David Zhang
| malbec2 | Linux (Ubuntu 18.04.2 LTS) / x86_64 | OK | OK | OK | |||||||
| tokay2 | Windows Server 2012 R2 Standard / x64 | OK | OK | OK | [ OK ] | |||||||
| celaya2 | OS X 10.11.6 El Capitan / x86_64 | OK | OK | OK | OK |
| Package: RpsiXML |
| Version: 2.26.0 |
| Command: rm -rf RpsiXML.buildbin-libdir && mkdir RpsiXML.buildbin-libdir && C:\Users\biocbuild\bbs-3.9-bioc\R\bin\R.exe CMD INSTALL --merge-multiarch --build --library=RpsiXML.buildbin-libdir RpsiXML_2.26.0.tar.gz |
| StartedAt: 2019-10-16 10:06:52 -0400 (Wed, 16 Oct 2019) |
| EndedAt: 2019-10-16 10:07:35 -0400 (Wed, 16 Oct 2019) |
| EllapsedTime: 43.3 seconds |
| RetCode: 0 |
| Status: OK |
| PackageFile: RpsiXML_2.26.0.zip |
| PackageFileSize: 2.87 MiB |
##############################################################################
##############################################################################
###
### Running command:
###
### rm -rf RpsiXML.buildbin-libdir && mkdir RpsiXML.buildbin-libdir && C:\Users\biocbuild\bbs-3.9-bioc\R\bin\R.exe CMD INSTALL --merge-multiarch --build --library=RpsiXML.buildbin-libdir RpsiXML_2.26.0.tar.gz
###
##############################################################################
##############################################################################
install for i386
* installing *source* package 'RpsiXML' ...
** using staged installation
** R
** inst
** byte-compile and prepare package for lazy loading
No methods found in package 'Biobase' for request: 'listlen' when loading 'RpsiXML'
No methods found in package 'annotate' for requests: 'pubmed', 'buildPubMedAbst' when loading 'RpsiXML'
Note: in method for 'head' with signature 'x="ANY"': expanding the
signature to include omitted arguments in definition: x = "missing"
Note: in method for 'tail' with signature 'x="ANY"': expanding the
signature to include omitted arguments in definition: x = "missing"
** help
*** installing help indices
converting help for package 'RpsiXML'
finding HTML links ... done
BIOGRID.PSIMI25 html
availableXrefs-methods html
availableXrefs html
bait html
buildPCHypergraph html
complexName html
complexes html
eListHandler html
getAbstractByPMID html
graphSpeciesConverter html
interactionType html
interactions html
interactorInfo-methods html
interactorInfo html
interactors html
list2Matrix html
null2na html
numInteractions-methods html
parsePsimi25Interaction html
psimi25Attribute-class html
psimi25Complex-class html
psimi25ComplexEntry-class html
psimi25Experiment-class html
psimi25Graph-class html
psimi25Hypergraph-class html
psimi25Hypergraph2GraphNEL html
psimi25Interaction-class html
psimi25InteractionEntry-class html
psimi25Interactor-class html
psimi25Source-class html
psimi25XML2Graph html
separateXMLDataByExpt html
sourceId-methods html
taxId-methods html
translateID-methods html
translateID html
uniprot-methods html
uniprot html
validatePSIMI25 html
** building package indices
** installing vignettes
** testing if installed package can be loaded from temporary location
No methods found in package 'Biobase' for request: 'listlen' when loading 'RpsiXML'
No methods found in package 'annotate' for requests: 'pubmed', 'buildPubMedAbst' when loading 'RpsiXML'
** testing if installed package can be loaded from final location
No methods found in package 'Biobase' for request: 'listlen' when loading 'RpsiXML'
No methods found in package 'annotate' for requests: 'pubmed', 'buildPubMedAbst' when loading 'RpsiXML'
** testing if installed package keeps a record of temporary installation path
install for x64
* installing *source* package 'RpsiXML' ...
** testing if installed package can be loaded
No methods found in package 'Biobase' for request: 'listlen' when loading 'RpsiXML'
No methods found in package 'annotate' for requests: 'pubmed', 'buildPubMedAbst' when loading 'RpsiXML'
* MD5 sums
packaged installation of 'RpsiXML' as RpsiXML_2.26.0.zip
* DONE (RpsiXML)