| Back to Multiple platform build/check report for BioC 3.9 | 
 | 
This page was generated on 2019-10-16 12:30:41 -0400 (Wed, 16 Oct 2019).
| Package 821/1741 | Hostname | OS / Arch | INSTALL | BUILD | CHECK | BUILD BIN | ||||||
| interactiveDisplayBase 1.22.0 Shawn Balcome 
 | malbec2 | Linux (Ubuntu 18.04.2 LTS) / x86_64 | OK | OK | WARNINGS |  | ||||||
| tokay2 | Windows Server 2012 R2 Standard / x64 | OK | [ OK ] | WARNINGS | OK |  | ||||||
| celaya2 | OS X 10.11.6 El Capitan / x86_64 | OK | OK | WARNINGS | OK |  | 
| Package: interactiveDisplayBase | 
| Version: 1.22.0 | 
| Command: chmod a+r interactiveDisplayBase -R && C:\Users\biocbuild\bbs-3.9-bioc\R\bin\R.exe CMD build --keep-empty-dirs --no-resave-data interactiveDisplayBase | 
| StartedAt: 2019-10-15 23:04:15 -0400 (Tue, 15 Oct 2019) | 
| EndedAt: 2019-10-15 23:04:25 -0400 (Tue, 15 Oct 2019) | 
| EllapsedTime: 10.0 seconds | 
| RetCode: 0 | 
| Status: OK | 
| PackageFile: interactiveDisplayBase_1.22.0.tar.gz | 
| PackageFileSize: 13.49 KiB | 
############################################################################## ############################################################################## ### ### Running command: ### ### chmod a+r interactiveDisplayBase -R && C:\Users\biocbuild\bbs-3.9-bioc\R\bin\R.exe CMD build --keep-empty-dirs --no-resave-data interactiveDisplayBase ### ############################################################################## ############################################################################## * checking for file 'interactiveDisplayBase/DESCRIPTION' ... OK * preparing 'interactiveDisplayBase': * checking DESCRIPTION meta-information ... OK * installing the package to build vignettes * creating vignettes ... OK * checking for LF line-endings in source and make files and shell scripts * checking for empty or unneeded directories * building 'interactiveDisplayBase_1.22.0.tar.gz'