| Back to Multiple platform build/check report for BioC 3.9 | 
 | 
This page was generated on 2019-04-09 13:25:08 -0400 (Tue, 09 Apr 2019).
| Package 1453/1703 | Hostname | OS / Arch | INSTALL | BUILD | CHECK | BUILD BIN | ||||||
| segmentSeq 2.17.0 Thomas J. Hardcastle 
 | malbec2 | Linux (Ubuntu 18.04.2 LTS) / x86_64 | OK | OK | OK |  | ||||||
| tokay2 | Windows Server 2012 R2 Standard / x64 | OK | OK | WARNINGS | OK |  | ||||||
| celaya2 | OS X 10.11.6 El Capitan / x86_64 | OK | OK | OK | OK |  | ||||||
| merida2 | OS X 10.11.6 El Capitan / x86_64 | OK | OK | OK | [ OK ] | 
| Package: segmentSeq | 
| Version: 2.17.0 | 
| Command: rm -rf segmentSeq.buildbin-libdir && mkdir segmentSeq.buildbin-libdir && /Users/biocbuild/BBS/utils/build-universal.sh segmentSeq_2.17.0.tar.gz /Library/Frameworks/R.framework/Versions/Current/Resources/bin/R segmentSeq.buildbin-libdir | 
| StartedAt: 2019-04-09 06:27:40 -0400 (Tue, 09 Apr 2019) | 
| EndedAt: 2019-04-09 06:28:49 -0400 (Tue, 09 Apr 2019) | 
| EllapsedTime: 68.6 seconds | 
| RetCode: 0 | 
| Status: OK | 
| PackageFile: segmentSeq_2.17.0.tgz | 
| PackageFileSize: 3.39 MiB | 
############################################################################## ############################################################################## ### ### Running command: ### ### rm -rf segmentSeq.buildbin-libdir && mkdir segmentSeq.buildbin-libdir && /Users/biocbuild/BBS/utils/build-universal.sh segmentSeq_2.17.0.tar.gz /Library/Frameworks/R.framework/Versions/Current/Resources/bin/R segmentSeq.buildbin-libdir ### ############################################################################## ############################################################################## >>>>>>> >>>>>>> INSTALLATION WITH 'R CMD INSTALL --preclean --no-multiarch --library=segmentSeq.buildbin-libdir segmentSeq_2.17.0.tar.gz' >>>>>>> * installing *source* package ‘segmentSeq’ ... ** R ** data ** inst ** byte-compile and prepare package for lazy loading ** help *** installing help indices ** building package indices ** installing vignettes ** testing if installed package can be loaded * DONE (segmentSeq)