| Back to Multiple platform build/check report for BioC 3.9 experimental data | 
This page was generated on 2019-10-17 16:51:31 -0400 (Thu, 17 Oct 2019).
| Package 310/371 | Hostname | OS / Arch | INSTALL | BUILD | CHECK | BUILD BIN | ||||||
| RTCGA.mutations 20151101.14.0 Marcin Kosinski 
 | malbec2 | Linux (Ubuntu 18.04.2 LTS) / x86_64 | OK | [ OK ] | OK |  | 
| Package: RTCGA.mutations | 
| Version: 20151101.14.0 | 
| Command: /home/biocbuild/bbs-3.9-bioc/R/bin/R CMD build --keep-empty-dirs --no-resave-data RTCGA.mutations | 
| StartedAt: 2019-10-17 11:58:36 -0400 (Thu, 17 Oct 2019) | 
| EndedAt: 2019-10-17 12:02:24 -0400 (Thu, 17 Oct 2019) | 
| EllapsedTime: 227.1 seconds | 
| RetCode: 0 | 
| Status: OK | 
| PackageFile: RTCGA.mutations_20151101.14.0.tar.gz | 
| PackageFileSize: 103.8 MiB | 
############################################################################## ############################################################################## ### ### Running command: ### ### /home/biocbuild/bbs-3.9-bioc/R/bin/R CMD build --keep-empty-dirs --no-resave-data RTCGA.mutations ### ############################################################################## ############################################################################## * checking for file ‘RTCGA.mutations/DESCRIPTION’ ... OK * preparing ‘RTCGA.mutations’: * checking DESCRIPTION meta-information ... OK * installing the package to build vignettes * creating vignettes ... OK * checking for LF line-endings in source and make files and shell scripts * checking for empty or unneeded directories * looking to see if a ‘data/datalist’ file should be added * building ‘RTCGA.mutations_20151101.14.0.tar.gz’