| Back to Multiple platform build/check report for BioC 3.9 experimental data | 
This page was generated on 2019-10-17 16:51:24 -0400 (Thu, 17 Oct 2019).
| Package 28/371 | Hostname | OS / Arch | INSTALL | BUILD | CHECK | BUILD BIN | ||||||
| bladderbatch 1.22.0 Jeffrey T. Leek 
 | malbec2 | Linux (Ubuntu 18.04.2 LTS) / x86_64 | OK | [ OK ] | WARNINGS |  | 
| Package: bladderbatch | 
| Version: 1.22.0 | 
| Command: /home/biocbuild/bbs-3.9-bioc/R/bin/R CMD build --keep-empty-dirs --no-resave-data bladderbatch | 
| StartedAt: 2019-10-17 11:36:18 -0400 (Thu, 17 Oct 2019) | 
| EndedAt: 2019-10-17 11:36:23 -0400 (Thu, 17 Oct 2019) | 
| EllapsedTime: 5.5 seconds | 
| RetCode: 0 | 
| Status: OK | 
| PackageFile: bladderbatch_1.22.0.tar.gz | 
| PackageFileSize: 9.208 MiB | 
############################################################################## ############################################################################## ### ### Running command: ### ### /home/biocbuild/bbs-3.9-bioc/R/bin/R CMD build --keep-empty-dirs --no-resave-data bladderbatch ### ############################################################################## ############################################################################## * checking for file ‘bladderbatch/DESCRIPTION’ ... OK * preparing ‘bladderbatch’: * checking DESCRIPTION meta-information ... OK * checking whether ‘INDEX’ is up-to-date ... NO * use ‘--force’ to remove the existing ‘INDEX’ * installing the package to build vignettes * creating vignettes ... OK * checking for LF line-endings in source and make files and shell scripts * checking for empty or unneeded directories * looking to see if a ‘data/datalist’ file should be added * building ‘bladderbatch_1.22.0.tar.gz’