| Back to Multiple platform build/check report for BioC 3.23: simplified long |
|
This page was generated on 2025-11-17 11:39 -0500 (Mon, 17 Nov 2025).
| Hostname | OS | Arch (*) | R version | Installed pkgs |
|---|---|---|---|---|
| nebbiolo1 | Linux (Ubuntu 24.04.3 LTS) | x86_64 | R Under development (unstable) (2025-10-20 r88955) -- "Unsuffered Consequences" | 4826 |
| lconway | macOS 12.7.6 Monterey | x86_64 | R Under development (unstable) (2025-10-21 r88958) -- "Unsuffered Consequences" | 4491 |
| kjohnson3 | macOS 13.7.7 Ventura | arm64 | R Under development (unstable) (2025-11-04 r88984) -- "Unsuffered Consequences" | 4562 |
| Click on any hostname to see more info about the system (e.g. compilers) (*) as reported by 'uname -p', except on Windows and Mac OS X | ||||
| Package 11/2325 | Hostname | OS / Arch | INSTALL | BUILD | CHECK | BUILD BIN | ||||||||
| ACE 1.29.0 (landing page) Jos B Poell
| nebbiolo1 | Linux (Ubuntu 24.04.3 LTS) / x86_64 | OK | OK | OK | |||||||||
| lconway | macOS 12.7.6 Monterey / x86_64 | OK | OK | OK | OK | |||||||||
| kjohnson3 | macOS 13.7.7 Ventura / arm64 | OK | OK | OK | OK | |||||||||
|
To the developers/maintainers of the ACE package: - Allow up to 24 hours (and sometimes 48 hours) for your latest push to git@git.bioconductor.org:packages/ACE.git to reflect on this report. See Troubleshooting Build Report for more information. - Use the following Renviron settings to reproduce errors and warnings. - If 'R CMD check' started to fail recently on the Linux builder(s) over a missing dependency, add the missing dependency to 'Suggests:' in your DESCRIPTION file. See Renviron.bioc for more information. |
| Package: ACE |
| Version: 1.29.0 |
| Command: /Library/Frameworks/R.framework/Resources/bin/R CMD check --install=check:ACE.install-out.txt --library=/Library/Frameworks/R.framework/Resources/library --no-vignettes --timings ACE_1.29.0.tar.gz |
| StartedAt: 2025-11-17 00:50:39 -0500 (Mon, 17 Nov 2025) |
| EndedAt: 2025-11-17 00:54:08 -0500 (Mon, 17 Nov 2025) |
| EllapsedTime: 209.3 seconds |
| RetCode: 0 |
| Status: OK |
| CheckDir: ACE.Rcheck |
| Warnings: 0 |
##############################################################################
##############################################################################
###
### Running command:
###
### /Library/Frameworks/R.framework/Resources/bin/R CMD check --install=check:ACE.install-out.txt --library=/Library/Frameworks/R.framework/Resources/library --no-vignettes --timings ACE_1.29.0.tar.gz
###
##############################################################################
##############################################################################
* using log directory ‘/Users/biocbuild/bbs-3.23-bioc/meat/ACE.Rcheck’
* using R Under development (unstable) (2025-10-21 r88958)
* using platform: x86_64-apple-darwin20
* R was compiled by
Apple clang version 14.0.0 (clang-1400.0.29.202)
GNU Fortran (GCC) 14.2.0
* running under: macOS Ventura 13.7.8
* using session charset: UTF-8
* using option ‘--no-vignettes’
* checking for file ‘ACE/DESCRIPTION’ ... OK
* this is package ‘ACE’ version ‘1.29.0’
* package encoding: UTF-8
* checking package namespace information ... OK
* checking package dependencies ... OK
* checking if this is a source package ... OK
* checking if there is a namespace ... OK
* checking for hidden files and directories ... OK
* checking for portable file names ... OK
* checking for sufficient/correct file permissions ... OK
* checking whether package ‘ACE’ can be installed ... OK
* checking installed package size ... OK
* checking package directory ... OK
* checking ‘build’ directory ... OK
* checking DESCRIPTION meta-information ... OK
* checking top-level files ... OK
* checking for left-over files ... OK
* checking index information ... OK
* checking package subdirectories ... OK
* checking code files for non-ASCII characters ... OK
* checking R files for syntax errors ... OK
* checking whether the package can be loaded ... OK
* checking whether the package can be loaded with stated dependencies ... OK
* checking whether the package can be unloaded cleanly ... OK
* checking whether the namespace can be loaded with stated dependencies ... OK
* checking whether the namespace can be unloaded cleanly ... OK
* checking dependencies in R code ... NOTE
Unexported object imported by a ':::' call: ‘QDNAseq:::sdDiffTrim’
See the note in ?`:::` about the use of this operator.
* checking S3 generic/method consistency ... OK
* checking replacement functions ... OK
* checking foreign function calls ... OK
* checking R code for possible problems ... NOTE
squaremodel: no visible binding for global variable ‘cellularity’
Undefined global functions or variables:
cellularity
* checking Rd files ... OK
* checking Rd metadata ... OK
* checking Rd cross-references ... OK
* checking for missing documentation entries ... OK
* checking for code/documentation mismatches ... OK
* checking Rd \usage sections ... OK
* checking Rd contents ... OK
* checking for unstated dependencies in examples ... OK
* checking contents of ‘data’ directory ... OK
* checking data for non-ASCII characters ... OK
* checking LazyData ... OK
* checking data for ASCII and uncompressed saves ... OK
* checking files in ‘vignettes’ ... OK
* checking examples ... OK
Examples with CPU (user + system) or elapsed time > 5s
user system elapsed
squaremodelsummary 8.650 0.083 8.781
squaremodel 8.034 0.110 8.178
loopsquaremodel 5.453 0.049 5.514
* checking for unstated dependencies in vignettes ... OK
* checking package vignettes ... OK
* checking running R code from vignettes ... SKIPPED
* checking re-building of vignette outputs ... SKIPPED
* checking PDF version of manual ... OK
* DONE
Status: 2 NOTEs
See
‘/Users/biocbuild/bbs-3.23-bioc/meat/ACE.Rcheck/00check.log’
for details.
ACE.Rcheck/00install.out
############################################################################## ############################################################################## ### ### Running command: ### ### /Library/Frameworks/R.framework/Resources/bin/R CMD INSTALL ACE ### ############################################################################## ############################################################################## * installing to library ‘/Library/Frameworks/R.framework/Versions/4.6-x86_64/Resources/library’ * installing *source* package ‘ACE’ ... ** this is package ‘ACE’ version ‘1.29.0’ ** using staged installation ** R ** data *** moving datasets to lazyload DB ** inst ** byte-compile and prepare package for lazy loading ** help *** installing help indices ** building package indices ** installing vignettes ** testing if installed package can be loaded from temporary location ** testing if installed package can be loaded from final location ** testing if installed package keeps a record of temporary installation path * DONE (ACE)
ACE.Rcheck/ACE-Ex.timings
| name | user | system | elapsed | |
| ACEcall | 1.506 | 0.356 | 1.885 | |
| analyzegenomiclocations | 0.023 | 0.003 | 0.027 | |
| compresstemplate | 0.034 | 0.002 | 0.036 | |
| copyNumbersSegmented | 1.921 | 0.061 | 1.987 | |
| correlationmatrix | 0.174 | 0.004 | 0.178 | |
| forcesegmentsontemplate | 0.586 | 0.011 | 0.598 | |
| getadjustedsegments | 0.343 | 0.007 | 0.350 | |
| linkvariants | 0.020 | 0.002 | 0.022 | |
| loopsquaremodel | 5.453 | 0.049 | 5.514 | |
| objectsampletotemplate | 0.007 | 0.002 | 0.008 | |
| postanalysisloop | 0.000 | 0.001 | 0.001 | |
| runACE | 0.001 | 0.000 | 0.000 | |
| singlemodel | 1.580 | 0.069 | 1.725 | |
| singleplot | 2.069 | 0.024 | 2.099 | |
| squaremodel | 8.034 | 0.110 | 8.178 | |
| squaremodelsummary | 8.650 | 0.083 | 8.781 | |
| templatefromequalsegments | 0.022 | 0.005 | 0.027 | |
| twosamplecompare | 2.158 | 0.060 | 2.280 | |