Back to Multiple platform build/check report for BioC 3.23:   simplified   long
A[B]CDEFGHIJKLMNOPQRSTUVWXYZ

This page was generated on 2025-11-24 11:38 -0500 (Mon, 24 Nov 2025).

HostnameOSArch (*)R versionInstalled pkgs
nebbiolo1Linux (Ubuntu 24.04.3 LTS)x86_64R Under development (unstable) (2025-10-20 r88955) -- "Unsuffered Consequences" 4829
lconwaymacOS 12.7.6 Montereyx86_64R Under development (unstable) (2025-10-21 r88958) -- "Unsuffered Consequences" 4605
kjohnson3macOS 13.7.7 Venturaarm64R Under development (unstable) (2025-11-04 r88984) -- "Unsuffered Consequences" 4568
Click on any hostname to see more info about the system (e.g. compilers)      (*) as reported by 'uname -p', except on Windows and Mac OS X

Package 216/2327HostnameOS / ArchINSTALLBUILDCHECKBUILD BIN
BioNAR 1.13.3  (landing page)
Anatoly Sorokin
Snapshot Date: 2025-11-23 13:40 -0500 (Sun, 23 Nov 2025)
git_url: https://git.bioconductor.org/packages/BioNAR
git_branch: devel
git_last_commit: 5e908e7
git_last_commit_date: 2025-11-21 05:40:16 -0500 (Fri, 21 Nov 2025)
nebbiolo1Linux (Ubuntu 24.04.3 LTS) / x86_64  OK    OK    OK  UNNEEDED, same version is already published
lconwaymacOS 12.7.6 Monterey / x86_64  OK    OK    OK    OK  UNNEEDED, same version is already published
kjohnson3macOS 13.7.7 Ventura / arm64  OK    OK    OK    OK  UNNEEDED, same version is already published


CHECK results for BioNAR on lconway

To the developers/maintainers of the BioNAR package:
- Allow up to 24 hours (and sometimes 48 hours) for your latest push to git@git.bioconductor.org:packages/BioNAR.git to reflect on this report. See Troubleshooting Build Report for more information.
- Use the following Renviron settings to reproduce errors and warnings.
- If 'R CMD check' started to fail recently on the Linux builder(s) over a missing dependency, add the missing dependency to 'Suggests:' in your DESCRIPTION file. See Renviron.bioc for more information.

raw results


Summary

Package: BioNAR
Version: 1.13.3
Command: /Library/Frameworks/R.framework/Resources/bin/R CMD check --install=check:BioNAR.install-out.txt --library=/Library/Frameworks/R.framework/Resources/library --no-vignettes --timings BioNAR_1.13.3.tar.gz
StartedAt: 2025-11-23 19:49:08 -0500 (Sun, 23 Nov 2025)
EndedAt: 2025-11-23 19:59:09 -0500 (Sun, 23 Nov 2025)
EllapsedTime: 601.1 seconds
RetCode: 0
Status:   OK  
CheckDir: BioNAR.Rcheck
Warnings: 0

Command output

##############################################################################
##############################################################################
###
### Running command:
###
###   /Library/Frameworks/R.framework/Resources/bin/R CMD check --install=check:BioNAR.install-out.txt --library=/Library/Frameworks/R.framework/Resources/library --no-vignettes --timings BioNAR_1.13.3.tar.gz
###
##############################################################################
##############################################################################


* using log directory ‘/Users/biocbuild/bbs-3.23-bioc/meat/BioNAR.Rcheck’
* using R Under development (unstable) (2025-10-21 r88958)
* using platform: x86_64-apple-darwin20
* R was compiled by
    Apple clang version 14.0.0 (clang-1400.0.29.202)
    GNU Fortran (GCC) 14.2.0
* running under: macOS Ventura 13.7.8
* using session charset: UTF-8
* using option ‘--no-vignettes’
* checking for file ‘BioNAR/DESCRIPTION’ ... OK
* this is package ‘BioNAR’ version ‘1.13.3’
* package encoding: UTF-8
* checking package namespace information ... OK
* checking package dependencies ... OK
* checking if this is a source package ... OK
* checking if there is a namespace ... OK
* checking for hidden files and directories ... OK
* checking for portable file names ... OK
* checking for sufficient/correct file permissions ... OK
* checking whether package ‘BioNAR’ can be installed ... OK
* checking installed package size ... INFO
  installed size is  6.8Mb
  sub-directories of 1Mb or more:
    extdata   6.1Mb
* checking package directory ... OK
* checking ‘build’ directory ... OK
* checking DESCRIPTION meta-information ... OK
* checking top-level files ... OK
* checking for left-over files ... OK
* checking index information ... OK
* checking package subdirectories ... OK
* checking code files for non-ASCII characters ... OK
* checking R files for syntax errors ... OK
* checking whether the package can be loaded ... OK
* checking whether the package can be loaded with stated dependencies ... OK
* checking whether the package can be unloaded cleanly ... OK
* checking whether the namespace can be loaded with stated dependencies ... OK
* checking whether the namespace can be unloaded cleanly ... OK
* checking dependencies in R code ... NOTE
Package in Depends field not imported from: ‘Rdpack’
  These packages need to be imported from (in the NAMESPACE file)
  for when this namespace is loaded but not attached.
There are ::: calls to the package's namespace in its code. A package
  almost never needs to use ::: for its own objects:
  ‘addNoise’ ‘gofs’ ‘highlightRate’ ‘plotSigmoid’
* checking S3 generic/method consistency ... OK
* checking replacement functions ... OK
* checking foreign function calls ... OK
* checking R code for possible problems ... OK
* checking Rd files ... OK
* checking Rd metadata ... OK
* checking Rd cross-references ... NOTE
Unknown package ‘clusterCons’ in Rd xrefs
* checking for missing documentation entries ... OK
* checking for code/documentation mismatches ... OK
* checking Rd \usage sections ... OK
* checking Rd contents ... OK
* checking for unstated dependencies in examples ... OK
* checking contents of ‘data’ directory ... OK
* checking data for non-ASCII characters ... OK
* checking LazyData ... OK
* checking data for ASCII and uncompressed saves ... OK
* checking files in ‘vignettes’ ... OK
* checking examples ... OK
Examples with CPU (user + system) or elapsed time > 5s
                           user system elapsed
plotEntropy              12.565  3.605  18.003
addEdgeAtts              12.054  3.075  32.460
calcEntropy              11.460  0.810  13.223
clusteringSummary        11.360  0.088  11.541
getEntropy                9.946  0.813  11.180
getCentralityMatrix       9.742  0.529  10.497
annotateTopOntoOVG        9.488  0.606  10.713
getGraphCentralityECDF    8.751  0.584   9.548
normModularity            5.079  2.136   7.869
annotateSCHanno           6.438  0.486   7.146
annotateGOont             5.425  1.225   8.274
runPermDisease            5.701  0.153   6.174
calcSparsness             5.043  0.445   5.565
annotateGoBP              4.471  0.546   6.905
FitDegree                 1.136  0.067  10.395
getRandomGraphCentrality  0.687  0.273  20.798
* checking for unstated dependencies in ‘tests’ ... OK
* checking tests ...
  Running ‘testthat.R’
 OK
* checking for unstated dependencies in vignettes ... OK
* checking package vignettes ... OK
* checking running R code from vignettes ... SKIPPED
* checking re-building of vignette outputs ... SKIPPED
* checking PDF version of manual ... OK
* DONE

Status: 2 NOTEs
See
  ‘/Users/biocbuild/bbs-3.23-bioc/meat/BioNAR.Rcheck/00check.log’
for details.


Installation output

BioNAR.Rcheck/00install.out

##############################################################################
##############################################################################
###
### Running command:
###
###   /Library/Frameworks/R.framework/Resources/bin/R CMD INSTALL BioNAR
###
##############################################################################
##############################################################################


* installing to library ‘/Library/Frameworks/R.framework/Versions/4.6-x86_64/Resources/library’
* installing *source* package ‘BioNAR’ ...
** this is package ‘BioNAR’ version ‘1.13.3’
** using staged installation
** R
** data
*** moving datasets to lazyload DB
** inst
** byte-compile and prepare package for lazy loading
** help
*** installing help indices
** building package indices
** installing vignettes
** testing if installed package can be loaded from temporary location
** testing if installed package can be loaded from final location
** testing if installed package keeps a record of temporary installation path
* DONE (BioNAR)

Tests output

BioNAR.Rcheck/tests/testthat.Rout


R Under development (unstable) (2025-10-21 r88958) -- "Unsuffered Consequences"
Copyright (C) 2025 The R Foundation for Statistical Computing
Platform: x86_64-apple-darwin20

R is free software and comes with ABSOLUTELY NO WARRANTY.
You are welcome to redistribute it under certain conditions.
Type 'license()' or 'licence()' for distribution details.

R is a collaborative project with many contributors.
Type 'contributors()' for more information and
'citation()' on how to cite R or R packages in publications.

Type 'demo()' for some demos, 'help()' for on-line help, or
'help.start()' for an HTML browser interface to help.
Type 'q()' to quit R.

> library(testthat)
> library(BioNAR)
Loading required package: igraph

Attaching package: 'igraph'

The following object is masked from 'package:testthat':

    compare

The following objects are masked from 'package:stats':

    decompose, spectrum

The following object is masked from 'package:base':

    union

Loading required package: poweRlaw
Loading required package: latex2exp
Loading required package: RSpectra
Loading required package: Rdpack



Attaching package: 'BioNAR'

The following object is masked from 'package:igraph':

    permute

> 
> test_check("BioNAR")
[ FAIL 0 | WARN 0 | SKIP 2 | PASS 125 ]

══ Skipped tests (2) ═══════════════════════════════════════════════════════════
• On CRAN (2): 'test_bridgeness.R:12:1', 'test_bridgeness.R:66:1'

[ FAIL 0 | WARN 0 | SKIP 2 | PASS 125 ]
> 
> proc.time()
   user  system elapsed 
 41.271   2.666  59.321 

Example timings

BioNAR.Rcheck/BioNAR-Ex.timings

nameusersystemelapsed
FitDegree 1.136 0.06710.395
addEdgeAtts12.054 3.07532.460
annotateGOont5.4251.2258.274
annotateGeneNames0.3020.0220.329
annotateGoBP4.4710.5466.905
annotateGoCC3.4400.4344.368
annotateGoMF3.3750.3844.215
annotatePresynaptic2.2200.1432.399
annotateSCHanno6.4380.4867.146
annotateTopOntoOVG 9.488 0.60610.713
annotateVertex0.0040.0000.005
applpMatrixToGraph0.0030.0000.003
buildNetwork0.0040.0010.005
calcAllClustering3.6230.0453.714
calcBridgeness0.0870.0100.103
calcCentrality0.1170.0070.142
calcCentralityExternalDistances0.6970.0160.724
calcCentralityInternalDistances0.7080.0100.724
calcClustering0.0040.0000.004
calcDiseasePairs0.5360.0160.560
calcEntropy11.460 0.81013.223
calcMembership0.0070.0010.007
calcReclusterMatrix0.0440.0040.052
calcSparsness5.0430.4455.565
clusterORA0.4100.0300.447
clusteringSummary11.360 0.08811.541
degreeBinnedGDAs0.3250.0130.347
escapeAnnotation0.0000.0010.001
evalCentralitySignificance0.6950.0210.746
findLCC0.0060.0020.033
getAnnotationList0.0660.0050.072
getAnnotationVertexList0.0760.0170.095
getBridgeness0.0760.0050.082
getCentralityMatrix 9.742 0.52910.497
getClusterSubgraphByID0.0200.0010.022
getClustering0.0270.0010.030
getCommunityGraph0.0330.0020.035
getDType0.0010.0000.001
getDYNAMO0.0460.0030.062
getDiseases000
getEntropy 9.946 0.81311.180
getEntropyRate0.0040.0010.006
getGNP0.0160.0020.047
getGraphCentralityECDF8.7510.5849.548
getPA0.0220.0020.038
getRandomGraphCentrality 0.687 0.27320.798
getRobustness0.5930.3882.665
layoutByCluster0.1350.0890.250
layoutByRecluster0.1170.0930.252
makeConsensusMatrix0.5880.6331.387
makeMembership0.0030.0050.009
metlMatrix0.0090.0130.027
normModularity5.0792.1367.869
permute0.0000.0020.001
plotBridgeness0.6070.4193.412
plotEntropy12.565 3.60518.003
prepareGDA0.2270.0090.332
recluster0.0440.0030.091
removeVertexTerm0.0050.0010.006
runPermDisease5.7010.1536.174
sampleDegBinnedGDA0.3930.0220.425
sampleGraphClust0.0320.0020.034
unescapeAnnotation0.0010.0010.001
zeroNA0.0000.0000.001