| Back to Multiple platform build/check report for BioC 3.22: simplified long |
|
This page was generated on 2025-10-23 12:04 -0400 (Thu, 23 Oct 2025).
| Hostname | OS | Arch (*) | R version | Installed pkgs |
|---|---|---|---|---|
| nebbiolo2 | Linux (Ubuntu 24.04.3 LTS) | x86_64 | 4.5.1 Patched (2025-08-23 r88802) -- "Great Square Root" | 4894 |
| lconway | macOS 12.7.6 Monterey | x86_64 | 4.5.1 Patched (2025-09-10 r88807) -- "Great Square Root" | 4684 |
| kjohnson3 | macOS 13.7.7 Ventura | arm64 | 4.5.1 Patched (2025-09-10 r88807) -- "Great Square Root" | 4629 |
| taishan | Linux (openEuler 24.03 LTS) | aarch64 | 4.5.0 (2025-04-11) -- "How About a Twenty-Six" | 4642 |
| Click on any hostname to see more info about the system (e.g. compilers) (*) as reported by 'uname -p', except on Windows and Mac OS X | ||||
| Package 353/2355 | Hostname | OS / Arch | INSTALL | BUILD | CHECK | BUILD BIN | ||||||||
| ChIPseqR 1.63.0 (landing page) Peter Humburg
| nebbiolo2 | Linux (Ubuntu 24.04.3 LTS) / x86_64 | OK | OK | WARNINGS | |||||||||
| lconway | macOS 12.7.6 Monterey / x86_64 | OK | OK | OK | OK | |||||||||
| kjohnson3 | macOS 13.7.7 Ventura / arm64 | OK | OK | OK | OK | |||||||||
| taishan | Linux (openEuler 24.03 LTS) / aarch64 | OK | OK | OK | ||||||||||
|
To the developers/maintainers of the ChIPseqR package: - Allow up to 24 hours (and sometimes 48 hours) for your latest push to git@git.bioconductor.org:packages/ChIPseqR.git to reflect on this report. See Troubleshooting Build Report for more information. - Use the following Renviron settings to reproduce errors and warnings. - If 'R CMD check' started to fail recently on the Linux builder(s) over a missing dependency, add the missing dependency to 'Suggests:' in your DESCRIPTION file. See Renviron.bioc for more information. |
| Package: ChIPseqR |
| Version: 1.63.0 |
| Command: /Library/Frameworks/R.framework/Resources/bin/R CMD check --install=check:ChIPseqR.install-out.txt --library=/Library/Frameworks/R.framework/Resources/library --no-vignettes --timings ChIPseqR_1.63.0.tar.gz |
| StartedAt: 2025-10-22 20:02:16 -0400 (Wed, 22 Oct 2025) |
| EndedAt: 2025-10-22 20:06:46 -0400 (Wed, 22 Oct 2025) |
| EllapsedTime: 269.5 seconds |
| RetCode: 0 |
| Status: OK |
| CheckDir: ChIPseqR.Rcheck |
| Warnings: 0 |
##############################################################################
##############################################################################
###
### Running command:
###
### /Library/Frameworks/R.framework/Resources/bin/R CMD check --install=check:ChIPseqR.install-out.txt --library=/Library/Frameworks/R.framework/Resources/library --no-vignettes --timings ChIPseqR_1.63.0.tar.gz
###
##############################################################################
##############################################################################
* using log directory ‘/Users/biocbuild/bbs-3.22-bioc/meat/ChIPseqR.Rcheck’
* using R version 4.5.1 Patched (2025-09-10 r88807)
* using platform: x86_64-apple-darwin20
* R was compiled by
Apple clang version 14.0.0 (clang-1400.0.29.202)
GNU Fortran (GCC) 14.2.0
* running under: macOS Monterey 12.7.6
* using session charset: UTF-8
* using option ‘--no-vignettes’
* checking for file ‘ChIPseqR/DESCRIPTION’ ... OK
* checking extension type ... Package
* this is package ‘ChIPseqR’ version ‘1.63.0’
* checking package namespace information ... OK
* checking package dependencies ... OK
* checking if this is a source package ... OK
* checking if there is a namespace ... OK
* checking for hidden files and directories ... OK
* checking for portable file names ... OK
* checking for sufficient/correct file permissions ... OK
* checking whether package ‘ChIPseqR’ can be installed ... OK
* used C compiler: ‘Apple clang version 14.0.0 (clang-1400.0.29.202)’
* used SDK: ‘MacOSX11.3.1.sdk’
* checking installed package size ... OK
* checking package directory ... OK
* checking ‘build’ directory ... OK
* checking DESCRIPTION meta-information ... OK
* checking top-level files ... OK
* checking for left-over files ... OK
* checking index information ... OK
* checking package subdirectories ... OK
* checking code files for non-ASCII characters ... OK
* checking R files for syntax errors ... OK
* checking whether the package can be loaded ... OK
* checking whether the package can be loaded with stated dependencies ... OK
* checking whether the package can be unloaded cleanly ... OK
* checking whether the namespace can be loaded with stated dependencies ... OK
* checking whether the namespace can be unloaded cleanly ... OK
* checking dependencies in R code ... OK
* checking S3 generic/method consistency ... OK
* checking replacement functions ... OK
* checking foreign function calls ... OK
* checking R code for possible problems ... NOTE
.fixCounts: no visible global function definition for ‘runLength’
.fixCounts: no visible global function definition for ‘runValue’
getBindLen: no visible global function definition for ‘window’
pickPeak: no visible global function definition for ‘start’
pickPeak: no visible global function definition for ‘runLength’
pickPeak : <anonymous>: no visible global function definition for
‘window’
[[,BindScore-ANY-numeric: no visible global function definition for
‘window’
decompress,Rle: no visible global function definition for ‘runValue’
decompress,RleList : <anonymous>: no visible global function definition
for ‘runValue’
initialize,RLEBindScore : <anonymous>: no visible global function
definition for ‘Rle’
initialize,RLEBindScore : <anonymous>: no visible global function
definition for ‘runValue’
initialize,RLEBindScore : <anonymous>: no visible global function
definition for ‘runValue<-’
plot,RLEReadCounts-missing : <anonymous>: no visible global function
definition for ‘window’
Undefined global functions or variables:
Rle runLength runValue runValue<- start window
Consider adding
importFrom("stats", "start", "window")
to your NAMESPACE file.
* checking Rd files ... OK
* checking Rd metadata ... OK
* checking Rd cross-references ... NOTE
Non-topic package-anchored link(s) in Rd file 'ChIPseqR-package.Rd':
‘[ShortRead:ShortRead-package]{ShortRead}’
Non-topic package-anchored link(s) in Rd file 'ReadCounts.Rd':
‘[ChIPseqR:compress-ReadCounts]{compress}’
See section 'Cross-references' in the 'Writing R Extensions' manual.
Found the following Rd file(s) with Rd \link{} targets missing package
anchors:
RLEBindScore-class.Rd: Rle-class
RLEReadCounts-class.Rd: RleList-class
compress-BindScore.Rd: Rle-class, RleList-class
compress-ReadCounts.Rd: Rle-class, RleList-class
exportBindSequence.Rd: XStringSet-class, XStringViews-class
Please provide package anchors for all Rd \link{} targets not in the
package itself and the base packages.
* checking for missing documentation entries ... OK
* checking for code/documentation mismatches ... OK
* checking Rd \usage sections ... OK
* checking Rd contents ... OK
* checking for unstated dependencies in examples ... OK
* checking line endings in C/C++/Fortran sources/headers ... OK
* checking compiled code ... NOTE
Note: information on .o files is not available
* checking sizes of PDF files under ‘inst/doc’ ... OK
* checking files in ‘vignettes’ ... OK
* checking examples ... OK
Examples with CPU (user + system) or elapsed time > 5s
user system elapsed
alignFeature 9.077 2.472 11.692
BindScore 5.670 0.225 5.939
* checking for unstated dependencies in vignettes ... OK
* checking package vignettes ... OK
* checking running R code from vignettes ... SKIPPED
* checking re-building of vignette outputs ... SKIPPED
* checking PDF version of manual ... OK
* DONE
Status: 3 NOTEs
See
‘/Users/biocbuild/bbs-3.22-bioc/meat/ChIPseqR.Rcheck/00check.log’
for details.
ChIPseqR.Rcheck/00install.out
##############################################################################
##############################################################################
###
### Running command:
###
### /Library/Frameworks/R.framework/Resources/bin/R CMD INSTALL ChIPseqR
###
##############################################################################
##############################################################################
* installing to library ‘/Library/Frameworks/R.framework/Versions/4.5-x86_64/Resources/library’
* installing *source* package ‘ChIPseqR’ ...
** this is package ‘ChIPseqR’ version ‘1.63.0’
** using staged installation
** libs
using C compiler: ‘Apple clang version 14.0.0 (clang-1400.0.29.202)’
using SDK: ‘MacOSX11.3.1.sdk’
clang -arch x86_64 -I"/Library/Frameworks/R.framework/Resources/include" -DNDEBUG -I/opt/R/x86_64/include -fPIC -falign-functions=64 -Wall -g -O2 -c startScore.c -o startScore.o
startScore.c:66:15: warning: unused variable 'tmp_stat' [-Wunused-variable]
double stat, tmp_stat;
^
1 warning generated.
clang -arch x86_64 -dynamiclib -Wl,-headerpad_max_install_names -undefined dynamic_lookup -L/Library/Frameworks/R.framework/Resources/lib -L/opt/R/x86_64/lib -o ChIPseqR.so startScore.o -F/Library/Frameworks/R.framework/.. -framework R
installing to /Library/Frameworks/R.framework/Versions/4.5-x86_64/Resources/library/00LOCK-ChIPseqR/00new/ChIPseqR/libs
** R
** inst
** byte-compile and prepare package for lazy loading
** help
*** installing help indices
** building package indices
** installing vignettes
** testing if installed package can be loaded from temporary location
** checking absolute paths in shared objects and dynamic libraries
** testing if installed package can be loaded from final location
** testing if installed package keeps a record of temporary installation path
* DONE (ChIPseqR)
ChIPseqR.Rcheck/ChIPseqR-Ex.timings
| name | user | system | elapsed | |
| BindScore | 5.670 | 0.225 | 5.939 | |
| ChIPseqR-package | 0 | 0 | 0 | |
| RLEBindScore-class | 4.125 | 0.246 | 4.406 | |
| RLEReadCounts-class | 0.031 | 0.001 | 0.032 | |
| ReadCounts | 0.032 | 0.001 | 0.032 | |
| alignFeature | 9.077 | 2.472 | 11.692 | |
| callBindingSites | 3.244 | 0.204 | 3.476 | |
| pos2gff | 0.004 | 0.000 | 0.005 | |
| simpleNucCall | 4.614 | 0.226 | 4.890 | |
| strandPileup | 0.008 | 0.001 | 0.009 | |
| windowCounts | 0.179 | 0.002 | 0.183 | |