Back to Multiple platform build/check report for BioC 3.22:   simplified   long
ABC[D]EFGHIJKLMNOPQRSTUVWXYZ

This page was generated on 2025-10-09 12:03 -0400 (Thu, 09 Oct 2025).

HostnameOSArch (*)R versionInstalled pkgs
nebbiolo2Linux (Ubuntu 24.04.3 LTS)x86_644.5.1 Patched (2025-08-23 r88802) -- "Great Square Root" 4854
lconwaymacOS 12.7.1 Montereyx86_644.5.1 Patched (2025-09-10 r88807) -- "Great Square Root" 4642
kjohnson3macOS 13.7.7 Venturaarm644.5.1 Patched (2025-09-10 r88807) -- "Great Square Root" 4587
taishanLinux (openEuler 24.03 LTS)aarch644.5.0 (2025-04-11) -- "How About a Twenty-Six" 4584
Click on any hostname to see more info about the system (e.g. compilers)      (*) as reported by 'uname -p', except on Windows and Mac OS X

Package 560/2341HostnameOS / ArchINSTALLBUILDCHECKBUILD BIN
DEP 1.31.2  (landing page)
Arne Smits
Snapshot Date: 2025-10-08 14:17 -0400 (Wed, 08 Oct 2025)
git_url: https://git.bioconductor.org/packages/DEP
git_branch: devel
git_last_commit: 96d07f1
git_last_commit_date: 2025-08-22 08:28:23 -0400 (Fri, 22 Aug 2025)
nebbiolo2Linux (Ubuntu 24.04.3 LTS) / x86_64  OK    OK    OK  UNNEEDED, same version is already published
lconwaymacOS 12.7.1 Monterey / x86_64  OK    OK    OK    OK  YES
kjohnson3macOS 13.7.7 Ventura / arm64  OK    OK    OK    OK  UNNEEDED, same version is already published
taishanLinux (openEuler 24.03 LTS) / aarch64  OK    OK    OK  


CHECK results for DEP on nebbiolo2

To the developers/maintainers of the DEP package:
- Allow up to 24 hours (and sometimes 48 hours) for your latest push to git@git.bioconductor.org:packages/DEP.git to reflect on this report. See Troubleshooting Build Report for more information.
- Use the following Renviron settings to reproduce errors and warnings.
- If 'R CMD check' started to fail recently on the Linux builder(s) over a missing dependency, add the missing dependency to 'Suggests:' in your DESCRIPTION file. See Renviron.bioc for more information.

raw results


Summary

Package: DEP
Version: 1.31.2
Command: /home/biocbuild/bbs-3.22-bioc/R/bin/R CMD check --install=check:DEP.install-out.txt --library=/home/biocbuild/bbs-3.22-bioc/R/site-library --timings DEP_1.31.2.tar.gz
StartedAt: 2025-10-08 23:36:46 -0400 (Wed, 08 Oct 2025)
EndedAt: 2025-10-08 23:45:59 -0400 (Wed, 08 Oct 2025)
EllapsedTime: 552.6 seconds
RetCode: 0
Status:   OK  
CheckDir: DEP.Rcheck
Warnings: 0

Command output

##############################################################################
##############################################################################
###
### Running command:
###
###   /home/biocbuild/bbs-3.22-bioc/R/bin/R CMD check --install=check:DEP.install-out.txt --library=/home/biocbuild/bbs-3.22-bioc/R/site-library --timings DEP_1.31.2.tar.gz
###
##############################################################################
##############################################################################


* using log directory ‘/home/biocbuild/bbs-3.22-bioc/meat/DEP.Rcheck’
* using R version 4.5.1 Patched (2025-08-23 r88802)
* using platform: x86_64-pc-linux-gnu
* R was compiled by
    gcc (Ubuntu 13.3.0-6ubuntu2~24.04) 13.3.0
    GNU Fortran (Ubuntu 13.3.0-6ubuntu2~24.04) 13.3.0
* running under: Ubuntu 24.04.3 LTS
* using session charset: UTF-8
* checking for file ‘DEP/DESCRIPTION’ ... OK
* this is package ‘DEP’ version ‘1.31.2’
* package encoding: UTF-8
* checking package namespace information ... OK
* checking package dependencies ... INFO
Imports includes 23 non-default packages.
Importing from so many packages makes the package vulnerable to any of
them becoming unavailable.  Move as many as possible to Suggests and
use conditionally.
* checking if this is a source package ... OK
* checking if there is a namespace ... OK
* checking for hidden files and directories ... OK
* checking for portable file names ... OK
* checking for sufficient/correct file permissions ... OK
* checking whether package ‘DEP’ can be installed ... OK
* checking installed package size ... OK
* checking package directory ... OK
* checking ‘build’ directory ... OK
* checking DESCRIPTION meta-information ... OK
* checking top-level files ... OK
* checking for left-over files ... OK
* checking index information ... OK
* checking package subdirectories ... OK
* checking code files for non-ASCII characters ... OK
* checking R files for syntax errors ... OK
* checking whether the package can be loaded ... OK
* checking whether the package can be loaded with stated dependencies ... OK
* checking whether the package can be unloaded cleanly ... OK
* checking whether the namespace can be loaded with stated dependencies ... OK
* checking whether the namespace can be unloaded cleanly ... OK
* checking loading without being on the library search path ... OK
* checking whether startup messages can be suppressed ... OK
* checking dependencies in R code ... OK
* checking S3 generic/method consistency ... OK
* checking replacement functions ... OK
* checking foreign function calls ... OK
* checking R code for possible problems ... OK
* checking Rd files ... OK
* checking Rd metadata ... OK
* checking Rd cross-references ... NOTE
Non-topic package-anchored link(s) in Rd file 'LFQ.Rd':
  ‘[MSnbase:impute]{impute}’

Non-topic package-anchored link(s) in Rd file 'TMT.Rd':
  ‘[MSnbase:impute]{impute}’

Non-topic package-anchored link(s) in Rd file 'impute.Rd':
  ‘[MSnbase:impute]{impute}’

Non-topic package-anchored link(s) in Rd file 'process.Rd':
  ‘[MSnbase:impute]{impute}’

See section 'Cross-references' in the 'Writing R Extensions' manual.
* checking for missing documentation entries ... OK
* checking for code/documentation mismatches ... OK
* checking Rd \usage sections ... OK
* checking Rd contents ... OK
* checking for unstated dependencies in examples ... OK
* checking contents of ‘data’ directory ... OK
* checking data for non-ASCII characters ... OK
* checking LazyData ... OK
* checking data for ASCII and uncompressed saves ... OK
* checking R/sysdata.rda ... OK
* checking files in ‘vignettes’ ... OK
* checking examples ... OK
Examples with CPU (user + system) or elapsed time > 5s
         user system elapsed
impute 52.617  0.493  53.112
* checking for unstated dependencies in ‘tests’ ... OK
* checking tests ...
  Running ‘testthat.R’
 OK
* checking for unstated dependencies in vignettes ... OK
* checking package vignettes ... OK
* checking re-building of vignette outputs ... OK
* checking PDF version of manual ... OK
* DONE

Status: 1 NOTE
See
  ‘/home/biocbuild/bbs-3.22-bioc/meat/DEP.Rcheck/00check.log’
for details.


Installation output

DEP.Rcheck/00install.out

##############################################################################
##############################################################################
###
### Running command:
###
###   /home/biocbuild/bbs-3.22-bioc/R/bin/R CMD INSTALL DEP
###
##############################################################################
##############################################################################


* installing to library ‘/home/biocbuild/bbs-3.22-bioc/R/site-library’
* installing *source* package ‘DEP’ ...
** this is package ‘DEP’ version ‘1.31.2’
** using staged installation
** R
** data
*** moving datasets to lazyload DB
** inst
** byte-compile and prepare package for lazy loading
** help
*** installing help indices
** building package indices
** installing vignettes
** testing if installed package can be loaded from temporary location
Warning in fun(libname, pkgname) :
  Package 'DEP' is deprecated and will be removed from Bioconductor
  version 3.23
** testing if installed package can be loaded from final location
Warning in fun(libname, pkgname) :
  Package 'DEP' is deprecated and will be removed from Bioconductor
  version 3.23
** testing if installed package keeps a record of temporary installation path
* DONE (DEP)

Tests output

DEP.Rcheck/tests/testthat.Rout


R version 4.5.1 Patched (2025-08-23 r88802) -- "Great Square Root"
Copyright (C) 2025 The R Foundation for Statistical Computing
Platform: x86_64-pc-linux-gnu

R is free software and comes with ABSOLUTELY NO WARRANTY.
You are welcome to redistribute it under certain conditions.
Type 'license()' or 'licence()' for distribution details.

R is a collaborative project with many contributors.
Type 'contributors()' for more information and
'citation()' on how to cite R or R packages in publications.

Type 'demo()' for some demos, 'help()' for on-line help, or
'help.start()' for an HTML browser interface to help.
Type 'q()' to quit R.

> library(testthat)
> library(DEP)
Warning message:
In fun(libname, pkgname) :
  Package 'DEP' is deprecated and will be removed from Bioconductor
  version 3.23
> 
> test_check("DEP")
[ FAIL 0 | WARN 16 | SKIP 0 | PASS 333 ]

[ FAIL 0 | WARN 16 | SKIP 0 | PASS 333 ]
> 
> proc.time()
   user  system elapsed 
 56.992   2.976  59.984 

Example timings

DEP.Rcheck/DEP-Ex.timings

nameusersystemelapsed
LFQ1.2580.0151.272
TMT000
add_rejections1.4700.0591.529
analyze_dep2.0840.0812.164
filter_missval0.3960.0070.403
filter_proteins0.2490.0000.249
get_df_long0.7440.0480.793
get_df_wide0.7070.0010.709
get_prefix0.0020.0000.002
get_results0.8630.0000.862
get_suffix0.0010.0000.001
import_IsobarQuant000
import_MaxQuant0.0450.0000.045
impute52.617 0.49353.112
make_se0.0360.0010.036
make_se_parse0.0560.0000.057
make_unique0.0160.0000.016
manual_impute0.6190.0130.633
meanSdPlot0.6150.0030.618
normalize_vsn0.3090.0000.309
plot_all1.8190.0031.822
plot_cond1.0760.0001.076
plot_cond_freq0.9110.0000.912
plot_cond_overlap0.90.00.9
plot_cor1.1230.0011.124
plot_coverage0.550.000.55
plot_detect0.9250.0010.926
plot_dist3.3310.0013.333
plot_frequency0.5020.0000.502
plot_gsea0.5990.0080.608
plot_heatmap2.3420.0112.353
plot_imputation1.0600.0171.077
plot_missval1.4530.0121.465
plot_normalization1.4580.0171.475
plot_numbers0.5390.0020.541
plot_p_hist1.3320.0021.334
plot_pca1.4280.0001.428
plot_single1.9550.0011.957
plot_volcano4.6210.0224.644
process1.5920.0031.595
report000
run_app000
se2msn0.1190.0000.119
test_diff0.8570.0000.856
test_gsea0.6590.0000.659
theme_DEP10.4630.0000.464
theme_DEP20.5750.0000.576