Back to Multiple platform build/check report for BioC 3.22: simplified long |
|
This page was generated on 2025-07-26 12:05 -0400 (Sat, 26 Jul 2025).
Hostname | OS | Arch (*) | R version | Installed pkgs |
---|---|---|---|---|
nebbiolo2 | Linux (Ubuntu 24.04.2 LTS) | x86_64 | 4.5.1 (2025-06-13) -- "Great Square Root" | 4795 |
palomino8 | Windows Server 2022 Datacenter | x64 | 4.5.1 (2025-06-13 ucrt) -- "Great Square Root" | 4534 |
lconway | macOS 12.7.1 Monterey | x86_64 | 4.5.1 (2025-06-13) -- "Great Square Root" | 4577 |
kjohnson3 | macOS 13.7.1 Ventura | arm64 | 4.5.1 Patched (2025-06-14 r88325) -- "Great Square Root" | 4518 |
taishan | Linux (openEuler 24.03 LTS) | aarch64 | 4.5.0 (2025-04-11) -- "How About a Twenty-Six" | 4512 |
Click on any hostname to see more info about the system (e.g. compilers) (*) as reported by 'uname -p', except on Windows and Mac OS X |
Package 532/2313 | Hostname | OS / Arch | INSTALL | BUILD | CHECK | BUILD BIN | ||||||||
DeepTarget 1.3.0 (landing page) Trinh Nguyen
| nebbiolo2 | Linux (Ubuntu 24.04.2 LTS) / x86_64 | OK | OK | OK | ![]() | ||||||||
palomino8 | Windows Server 2022 Datacenter / x64 | OK | OK | OK | OK | ![]() | ||||||||
lconway | macOS 12.7.1 Monterey / x86_64 | OK | OK | OK | OK | ![]() | ||||||||
kjohnson3 | macOS 13.7.1 Ventura / arm64 | OK | OK | OK | OK | ![]() | ||||||||
taishan | Linux (openEuler 24.03 LTS) / aarch64 | OK | OK | OK | ||||||||||
To the developers/maintainers of the DeepTarget package: - Allow up to 24 hours (and sometimes 48 hours) for your latest push to git@git.bioconductor.org:packages/DeepTarget.git to reflect on this report. See Troubleshooting Build Report for more information. - Use the following Renviron settings to reproduce errors and warnings. - If 'R CMD check' started to fail recently on the Linux builder(s) over a missing dependency, add the missing dependency to 'Suggests:' in your DESCRIPTION file. See Renviron.bioc for more information. |
Package: DeepTarget |
Version: 1.3.0 |
Command: /home/biocbuild/bbs-3.22-bioc/R/bin/R CMD check --install=check:DeepTarget.install-out.txt --library=/home/biocbuild/bbs-3.22-bioc/R/site-library --timings DeepTarget_1.3.0.tar.gz |
StartedAt: 2025-07-25 23:50:24 -0400 (Fri, 25 Jul 2025) |
EndedAt: 2025-07-25 23:54:45 -0400 (Fri, 25 Jul 2025) |
EllapsedTime: 261.2 seconds |
RetCode: 0 |
Status: OK |
CheckDir: DeepTarget.Rcheck |
Warnings: 0 |
############################################################################## ############################################################################## ### ### Running command: ### ### /home/biocbuild/bbs-3.22-bioc/R/bin/R CMD check --install=check:DeepTarget.install-out.txt --library=/home/biocbuild/bbs-3.22-bioc/R/site-library --timings DeepTarget_1.3.0.tar.gz ### ############################################################################## ############################################################################## * using log directory ‘/home/biocbuild/bbs-3.22-bioc/meat/DeepTarget.Rcheck’ * using R version 4.5.1 (2025-06-13) * using platform: x86_64-pc-linux-gnu * R was compiled by gcc (Ubuntu 13.3.0-6ubuntu2~24.04) 13.3.0 GNU Fortran (Ubuntu 13.3.0-6ubuntu2~24.04) 13.3.0 * running under: Ubuntu 24.04.2 LTS * using session charset: UTF-8 * checking for file ‘DeepTarget/DESCRIPTION’ ... OK * checking extension type ... Package * this is package ‘DeepTarget’ version ‘1.3.0’ * package encoding: UTF-8 * checking package namespace information ... OK * checking package dependencies ... OK * checking if this is a source package ... OK * checking if there is a namespace ... OK * checking for hidden files and directories ... OK * checking for portable file names ... OK * checking for sufficient/correct file permissions ... OK * checking whether package ‘DeepTarget’ can be installed ... OK * checking installed package size ... OK * checking package directory ... OK * checking ‘build’ directory ... OK * checking DESCRIPTION meta-information ... OK * checking top-level files ... OK * checking for left-over files ... OK * checking index information ... OK * checking package subdirectories ... OK * checking code files for non-ASCII characters ... OK * checking R files for syntax errors ... OK * checking whether the package can be loaded ... OK * checking whether the package can be loaded with stated dependencies ... OK * checking whether the package can be unloaded cleanly ... OK * checking whether the namespace can be loaded with stated dependencies ... OK * checking whether the namespace can be unloaded cleanly ... OK * checking loading without being on the library search path ... OK * checking dependencies in R code ... OK * checking S3 generic/method consistency ... OK * checking replacement functions ... OK * checking foreign function calls ... OK * checking R code for possible problems ... NOTE Depmap2DeepTarget: no visible binding for global variable ‘dataset_id’ Depmap2DeepTarget: no visible binding for global variable ‘name’ Undefined global functions or variables: dataset_id name * checking Rd files ... OK * checking Rd metadata ... OK * checking Rd cross-references ... OK * checking for missing documentation entries ... OK * checking for code/documentation mismatches ... OK * checking Rd \usage sections ... OK * checking Rd contents ... OK * checking for unstated dependencies in examples ... OK * checking contents of ‘data’ directory ... OK * checking data for non-ASCII characters ... OK * checking data for ASCII and uncompressed saves ... OK * checking files in ‘vignettes’ ... OK * checking examples ... OK Examples with CPU (user + system) or elapsed time > 5s user system elapsed Depmap2DeepTarget 46.394 50.763 94.873 plotSim 2.906 2.233 1.991 * checking for unstated dependencies in vignettes ... OK * checking package vignettes ... OK * checking re-building of vignette outputs ... OK * checking PDF version of manual ... OK * DONE Status: 1 NOTE See ‘/home/biocbuild/bbs-3.22-bioc/meat/DeepTarget.Rcheck/00check.log’ for details.
DeepTarget.Rcheck/00install.out
############################################################################## ############################################################################## ### ### Running command: ### ### /home/biocbuild/bbs-3.22-bioc/R/bin/R CMD INSTALL DeepTarget ### ############################################################################## ############################################################################## * installing to library ‘/home/biocbuild/bbs-3.22-bioc/R/site-library’ * installing *source* package ‘DeepTarget’ ... ** this is package ‘DeepTarget’ version ‘1.3.0’ ** using staged installation ** R ** data ** inst ** byte-compile and prepare package for lazy loading ** help *** installing help indices ** building package indices ** installing vignettes ** testing if installed package can be loaded from temporary location ** testing if installed package can be loaded from final location ** testing if installed package keeps a record of temporary installation path * DONE (DeepTarget)
DeepTarget.Rcheck/DeepTarget-Ex.timings
name | user | system | elapsed | |
DMB | 3.252 | 0.469 | 3.405 | |
DTR | 1.059 | 0.534 | 1.142 | |
Depmap2DeepTarget | 46.394 | 50.763 | 94.873 | |
DoInteractExp | 0.827 | 0.731 | 0.847 | |
DoInteractMutant | 0.835 | 0.859 | 0.797 | |
DoPWY | 1.405 | 1.770 | 1.449 | |
OntargetM | 0.382 | 0.372 | 0.185 | |
PredMaxSim | 0.423 | 0.301 | 0.681 | |
PredTarget | 2.389 | 2.280 | 2.135 | |
computeCor | 0.374 | 0.421 | 1.691 | |
plotCor | 2.321 | 1.880 | 0.824 | |
plotSim | 2.906 | 2.233 | 1.991 | |