Back to Multiple platform build/check report for BioC 3.22:   simplified   long
ABCDE[F]GHIJKLMNOPQRSTUVWXYZ

This page was generated on 2025-10-07 12:03 -0400 (Tue, 07 Oct 2025).

HostnameOSArch (*)R versionInstalled pkgs
nebbiolo2Linux (Ubuntu 24.04.3 LTS)x86_644.5.1 Patched (2025-08-23 r88802) -- "Great Square Root" 4853
lconwaymacOS 12.7.1 Montereyx86_644.5.1 Patched (2025-09-10 r88807) -- "Great Square Root" 4640
kjohnson3macOS 13.7.7 Venturaarm644.5.1 Patched (2025-09-10 r88807) -- "Great Square Root" 4585
taishanLinux (openEuler 24.03 LTS)aarch644.5.0 (2025-04-11) -- "How About a Twenty-Six" 4584
Click on any hostname to see more info about the system (e.g. compilers)      (*) as reported by 'uname -p', except on Windows and Mac OS X

Package 731/2341HostnameOS / ArchINSTALLBUILDCHECKBUILD BIN
FindIT2 1.15.1  (landing page)
Guandong Shang
Snapshot Date: 2025-10-06 13:45 -0400 (Mon, 06 Oct 2025)
git_url: https://git.bioconductor.org/packages/FindIT2
git_branch: devel
git_last_commit: 82d0b10
git_last_commit_date: 2025-07-22 19:49:08 -0400 (Tue, 22 Jul 2025)
nebbiolo2Linux (Ubuntu 24.04.3 LTS) / x86_64  OK    OK    OK  UNNEEDED, same version is already published
lconwaymacOS 12.7.1 Monterey / x86_64  OK    OK    OK    OK  UNNEEDED, same version is already published
kjohnson3macOS 13.7.7 Ventura / arm64  OK    OK    OK    OK  UNNEEDED, same version is already published
taishanLinux (openEuler 24.03 LTS) / aarch64  OK    OK    OK  


CHECK results for FindIT2 on nebbiolo2

To the developers/maintainers of the FindIT2 package:
- Allow up to 24 hours (and sometimes 48 hours) for your latest push to git@git.bioconductor.org:packages/FindIT2.git to reflect on this report. See Troubleshooting Build Report for more information.
- Use the following Renviron settings to reproduce errors and warnings.
- If 'R CMD check' started to fail recently on the Linux builder(s) over a missing dependency, add the missing dependency to 'Suggests:' in your DESCRIPTION file. See Renviron.bioc for more information.

raw results


Summary

Package: FindIT2
Version: 1.15.1
Command: /home/biocbuild/bbs-3.22-bioc/R/bin/R CMD check --install=check:FindIT2.install-out.txt --library=/home/biocbuild/bbs-3.22-bioc/R/site-library --timings FindIT2_1.15.1.tar.gz
StartedAt: 2025-10-06 23:53:48 -0400 (Mon, 06 Oct 2025)
EndedAt: 2025-10-07 00:00:44 -0400 (Tue, 07 Oct 2025)
EllapsedTime: 415.7 seconds
RetCode: 0
Status:   OK  
CheckDir: FindIT2.Rcheck
Warnings: 0

Command output

##############################################################################
##############################################################################
###
### Running command:
###
###   /home/biocbuild/bbs-3.22-bioc/R/bin/R CMD check --install=check:FindIT2.install-out.txt --library=/home/biocbuild/bbs-3.22-bioc/R/site-library --timings FindIT2_1.15.1.tar.gz
###
##############################################################################
##############################################################################


* using log directory ‘/home/biocbuild/bbs-3.22-bioc/meat/FindIT2.Rcheck’
* using R version 4.5.1 Patched (2025-08-23 r88802)
* using platform: x86_64-pc-linux-gnu
* R was compiled by
    gcc (Ubuntu 13.3.0-6ubuntu2~24.04) 13.3.0
    GNU Fortran (Ubuntu 13.3.0-6ubuntu2~24.04) 13.3.0
* running under: Ubuntu 24.04.3 LTS
* using session charset: UTF-8
* checking for file ‘FindIT2/DESCRIPTION’ ... OK
* this is package ‘FindIT2’ version ‘1.15.1’
* package encoding: UTF-8
* checking package namespace information ... OK
* checking package dependencies ... INFO
Imports includes 22 non-default packages.
Importing from so many packages makes the package vulnerable to any of
them becoming unavailable.  Move as many as possible to Suggests and
use conditionally.
* checking if this is a source package ... OK
* checking if there is a namespace ... OK
* checking for hidden files and directories ... OK
* checking for portable file names ... OK
* checking for sufficient/correct file permissions ... OK
* checking whether package ‘FindIT2’ can be installed ... OK
* checking installed package size ... OK
* checking package directory ... OK
* checking ‘build’ directory ... OK
* checking DESCRIPTION meta-information ... OK
* checking top-level files ... OK
* checking for left-over files ... OK
* checking index information ... OK
* checking package subdirectories ... OK
* checking code files for non-ASCII characters ... OK
* checking R files for syntax errors ... OK
* checking whether the package can be loaded ... OK
* checking whether the package can be loaded with stated dependencies ... OK
* checking whether the package can be unloaded cleanly ... OK
* checking whether the namespace can be loaded with stated dependencies ... OK
* checking whether the namespace can be unloaded cleanly ... OK
* checking loading without being on the library search path ... OK
* checking dependencies in R code ... OK
* checking S3 generic/method consistency ... OK
* checking replacement functions ... OK
* checking foreign function calls ... OK
* checking R code for possible problems ... OK
* checking Rd files ... OK
* checking Rd metadata ... OK
* checking Rd cross-references ... OK
* checking for missing documentation entries ... OK
* checking for code/documentation mismatches ... OK
* checking Rd \usage sections ... OK
* checking Rd contents ... OK
* checking for unstated dependencies in examples ... OK
* checking contents of ‘data’ directory ... OK
* checking data for non-ASCII characters ... OK
* checking data for ASCII and uncompressed saves ... OK
* checking files in ‘vignettes’ ... OK
* checking examples ... OK
Examples with CPU (user + system) or elapsed time > 5s
                 user system elapsed
calcRP_region   5.193  0.203   5.396
findIT_regionRP 5.238  0.021   5.259
* checking for unstated dependencies in ‘tests’ ... OK
* checking tests ...
  Running ‘testthat.R’
 OK
* checking for unstated dependencies in vignettes ... OK
* checking package vignettes ... OK
* checking re-building of vignette outputs ... OK
* checking PDF version of manual ... OK
* DONE

Status: OK


Installation output

FindIT2.Rcheck/00install.out

##############################################################################
##############################################################################
###
### Running command:
###
###   /home/biocbuild/bbs-3.22-bioc/R/bin/R CMD INSTALL FindIT2
###
##############################################################################
##############################################################################


* installing to library ‘/home/biocbuild/bbs-3.22-bioc/R/site-library’
* installing *source* package ‘FindIT2’ ...
** this is package ‘FindIT2’ version ‘1.15.1’
** using staged installation
** R
** data
** inst
** byte-compile and prepare package for lazy loading
** help
*** installing help indices
** building package indices
** installing vignettes
** testing if installed package can be loaded from temporary location
** testing if installed package can be loaded from final location
** testing if installed package keeps a record of temporary installation path
* DONE (FindIT2)

Tests output

FindIT2.Rcheck/tests/testthat.Rout


R version 4.5.1 Patched (2025-08-23 r88802) -- "Great Square Root"
Copyright (C) 2025 The R Foundation for Statistical Computing
Platform: x86_64-pc-linux-gnu

R is free software and comes with ABSOLUTELY NO WARRANTY.
You are welcome to redistribute it under certain conditions.
Type 'license()' or 'licence()' for distribution details.

R is a collaborative project with many contributors.
Type 'contributors()' for more information and
'citation()' on how to cite R or R packages in publications.

Type 'demo()' for some demos, 'help()' for on-line help, or
'help.start()' for an HTML browser interface to help.
Type 'q()' to quit R.

> library(testthat)
> library(FindIT2)
Loading required package: GenomicRanges
Loading required package: stats4
Loading required package: BiocGenerics
Loading required package: generics

Attaching package: 'generics'

The following objects are masked from 'package:base':

    as.difftime, as.factor, as.ordered, intersect, is.element, setdiff,
    setequal, union


Attaching package: 'BiocGenerics'

The following objects are masked from 'package:stats':

    IQR, mad, sd, var, xtabs

The following objects are masked from 'package:base':

    Filter, Find, Map, Position, Reduce, anyDuplicated, aperm, append,
    as.data.frame, basename, cbind, colnames, dirname, do.call,
    duplicated, eval, evalq, get, grep, grepl, is.unsorted, lapply,
    mapply, match, mget, order, paste, pmax, pmax.int, pmin, pmin.int,
    rank, rbind, rownames, sapply, saveRDS, table, tapply, unique,
    unsplit, which.max, which.min

Loading required package: S4Vectors

Attaching package: 'S4Vectors'

The following object is masked from 'package:utils':

    findMatches

The following objects are masked from 'package:base':

    I, expand.grid, unname

Loading required package: IRanges
Loading required package: Seqinfo
> if (!requireNamespace("TxDb.Athaliana.BioMart.plantsmart28")) {
+     stop("unable to load TxDb.Athaliana.BioMart.plantsmart28")
+ }
Loading required namespace: TxDb.Athaliana.BioMart.plantsmart28
> 
> test_check("FindIT2")
>> preparing gene features information...		2025-10-06 23:58:54
>> some scan range may cross Chr bound, trimming...		2025-10-06 23:58:55
>> preparing weight info...		2025-10-06 23:58:55
>> loading E50h_sampleChr5.bw info...		2025-10-06 23:58:55
------------
>> extracting and calcluating Chr5 signal...		2025-10-06 23:58:55
>> dealing with Chr5 left gene signal...		2025-10-06 23:58:58
>> norming Chr5RP accoring to the whole Chr RP...		2025-10-06 23:58:58
>> merging all Chr RP together...		2025-10-06 23:58:58
>> done		2025-10-06 23:58:58
>> checking seqlevels match...		2025-10-06 23:58:58
>> your peak_GR seqlevel:Chr5...
>> your Txdb seqlevel:Chr1 Chr2 Chr3 Chr4 Chr5 ChrM ChrC...
Good, your Chrs in peak_GR is all in Txdb
------------
annotatePeak using geneScan mode begins
>> preparing gene features information and scan region...		2025-10-06 23:58:58
>> some scan range may cross Chr bound, trimming...		2025-10-06 23:58:59
>> finding overlap peak in gene scan region...		2025-10-06 23:58:59
>> dealing with left peak not your gene scan region...		2025-10-06 23:58:59
>> merging two set peaks...		2025-10-06 23:58:59
>> calculating distance and dealing with gene strand...		2025-10-06 23:58:59
>> merging all info together ...		2025-10-06 23:58:59
>> done		2025-10-06 23:58:59
>> calculating peakCenter to TSS using peak-gene pair...		2025-10-06 23:58:59
>> pre-filling 1356 noAssoc peak gene's RP with 0...		2025-10-06 23:59:00
>> calculating RP using centerToTSS and peak score2025-10-06 23:59:00
>> merging all info together		2025-10-06 23:59:02
>> done		2025-10-06 23:59:02
>> calculating peakCenter to TSS using peak-gene pair...		2025-10-06 23:59:02
>> pre-filling 1356 noAssoc peak gene's RP with 0...		2025-10-06 23:59:03
>> calculating RP using centerToTSS and peak score2025-10-06 23:59:03
>> merging all info together		2025-10-06 23:59:05
>> done		2025-10-06 23:59:06
>> checking seqlevels match...		2025-10-06 23:59:06
>> your peak_GR seqlevel:Chr5...
>> your Txdb seqlevel:Chr1 Chr2 Chr3 Chr4 Chr5 ChrM ChrC...
Good, your Chrs in peak_GR is all in Txdb
------------
annotatePeak using geneScan mode begins
>> preparing gene features information and scan region...		2025-10-06 23:59:06
>> some scan range may cross Chr bound, trimming...		2025-10-06 23:59:07
>> finding overlap peak in gene scan region...		2025-10-06 23:59:07
>> dealing with left peak not your gene scan region...		2025-10-06 23:59:07
>> merging two set peaks...		2025-10-06 23:59:08
>> calculating distance and dealing with gene strand...		2025-10-06 23:59:08
>> merging all info together ...		2025-10-06 23:59:08
>> done		2025-10-06 23:59:08
>> calculating peakCenter to TSS using peak-gene pair...		2025-10-06 23:59:08
>> calculating RP using centerToTSS and TF hit		2025-10-06 23:59:08
>> merging all info together		2025-10-06 23:59:08
>> done		2025-10-06 23:59:08
>> calculating peakCenter to TSS using peak-gene pair...		2025-10-06 23:59:08
>> calculating RP using centerToTSS and TF hit		2025-10-06 23:59:09
>> merging all info together		2025-10-06 23:59:09
>> done		2025-10-06 23:59:09
>> checking seqlevels match...		2025-10-06 23:59:10
>> your peak_GR seqlevel:Chr5...
>> your Txdb seqlevel:Chr1 Chr2 Chr3 Chr4 Chr5 ChrM ChrC...
Good, your Chrs in peak_GR is all in Txdb
------------
annotatePeak using geneScan mode begins
>> preparing gene features information and scan region...		2025-10-06 23:59:10
>> some scan range may cross Chr bound, trimming...		2025-10-06 23:59:10
>> finding overlap peak in gene scan region...		2025-10-06 23:59:10
>> dealing with left peak not your gene scan region...		2025-10-06 23:59:10
>> merging two set peaks...		2025-10-06 23:59:10
>> calculating distance and dealing with gene strand...		2025-10-06 23:59:11
>> merging all info together ...		2025-10-06 23:59:11
>> done		2025-10-06 23:59:11
>> calculating peakCenter to TSS using peak-gene pair...		2025-10-06 23:59:11
>> pre-filling 1356 noAssoc peak gene's RP with 0...		2025-10-06 23:59:11
>> calculating RP using centerToTSS and peak score2025-10-06 23:59:11
>> merging all info together		2025-10-06 23:59:13
>> done		2025-10-06 23:59:13
>> extracting RP info from regionRP...		2025-10-06 23:59:14
>> dealing with TF_GR_databse...		2025-10-06 23:59:14
>> calculating percent and p-value...		2025-10-06 23:59:14
>> dealing withE5_0h_R1...		2025-10-06 23:59:14
>> dealing withE5_0h_R2...		2025-10-06 23:59:14
>> dealing withE5_4h_R1...		2025-10-06 23:59:14
>> dealing withE5_4h_R2...		2025-10-06 23:59:14
>> dealing withE5_8h_R1...		2025-10-06 23:59:14
>> dealing withE5_8h_R2...		2025-10-06 23:59:14
>> dealing withE5_16h_R1...		2025-10-06 23:59:14
>> dealing withE5_16h_R2...		2025-10-06 23:59:14
>> dealing withE5_24h_R1...		2025-10-06 23:59:14
>> dealing withE5_24h_R2...		2025-10-06 23:59:14
>> dealing withE5_48h_R1...		2025-10-06 23:59:14
>> dealing withE5_48h_R2...		2025-10-06 23:59:14
>> dealing withE5_48h_R3...		2025-10-06 23:59:14
>> dealing withE5_72h_R1...		2025-10-06 23:59:14
>> dealing withE5_72h_R2...		2025-10-06 23:59:14
>> dealing withE5_72h_R3...		2025-10-06 23:59:14
>> merging all info together...		2025-10-06 23:59:14
>> done		2025-10-06 23:59:15
>> preparing gene features information...		2025-10-06 23:59:15
>> some scan range may cross Chr bound, trimming...		2025-10-06 23:59:15
>> calculating p-value for each TF, which may be time consuming...		2025-10-06 23:59:15
>> merging all info together...		2025-10-06 23:59:15
>> done		2025-10-06 23:59:15
>> dealing with TF_GR_database...		2025-10-06 23:59:16
>> calculating coef and converting into z-score using INT...		2025-10-06 23:59:16
>> dealing with E5_0h_R1...		2025-10-06 23:59:16
>> dealing with E5_0h_R2...		2025-10-06 23:59:16
>> dealing with E5_4h_R1...		2025-10-06 23:59:16
>> dealing with E5_4h_R2...		2025-10-06 23:59:16
>> dealing with E5_8h_R1...		2025-10-06 23:59:16
>> dealing with E5_8h_R2...		2025-10-06 23:59:16
>> dealing with E5_16h_R1...		2025-10-06 23:59:16
>> dealing with E5_16h_R2...		2025-10-06 23:59:16
>> dealing with E5_24h_R1...		2025-10-06 23:59:16
>> dealing with E5_24h_R2...		2025-10-06 23:59:16
>> dealing with E5_48h_R1...		2025-10-06 23:59:16
>> dealing with E5_48h_R2...		2025-10-06 23:59:16
>> dealing with E5_48h_R3...		2025-10-06 23:59:16
>> dealing with E5_72h_R1...		2025-10-06 23:59:17
>> dealing with E5_72h_R2...		2025-10-06 23:59:17
>> dealing with E5_72h_R3...		2025-10-06 23:59:17
>> merging all info together...		2025-10-06 23:59:17
>> done		2025-10-06 23:59:17
>> checking seqlevels match...		2025-10-06 23:59:17
>> your peak_GR seqlevel:Chr5...
>> your Txdb seqlevel:Chr1 Chr2 Chr3 Chr4 Chr5 ChrM ChrC...
Good, your Chrs in peak_GR is all in Txdb
------------
annotatePeak using geneScan mode begins
>> preparing gene features information and scan region...		2025-10-06 23:59:17
>> some scan range may cross Chr bound, trimming...		2025-10-06 23:59:18
>> finding overlap peak in gene scan region...		2025-10-06 23:59:18
>> dealing with left peak not your gene scan region...		2025-10-06 23:59:18
>> merging two set peaks...		2025-10-06 23:59:18
>> calculating distance and dealing with gene strand...		2025-10-06 23:59:18
>> merging all info together ...		2025-10-06 23:59:18
>> done		2025-10-06 23:59:18
>> calculating peakCenter to TSS using peak-gene pair...		2025-10-06 23:59:18
>> calculating RP using centerToTSS and TF hit		2025-10-06 23:59:18
>> merging all info together		2025-10-06 23:59:18
>> done		2025-10-06 23:59:19
>> checking seqlevels match...		2025-10-06 23:59:19
>> your peak_GR seqlevel:5...
>> your Txdb seqlevel:Chr1 Chr2 Chr3 Chr4 Chr5 ChrM ChrC...
>> checking seqlevels match...		2025-10-06 23:59:19
>> your peak_GR seqlevel:Chr5 Chr6...
>> your Txdb seqlevel:Chr1 Chr2 Chr3 Chr4 Chr5 ChrM ChrC...
>> checking seqlevels match...		2025-10-06 23:59:22
>> your peak_GR seqlevel:Chr5...
>> your Txdb seqlevel:Chr1 Chr2 Chr3 Chr4 Chr5 ChrM ChrC...
Good, your Chrs in peak_GR is all in Txdb
>> checking seqlevels match...		2025-10-06 23:59:22
>> your peak_GR seqlevel:Chr5...
>> your Txdb seqlevel:Chr1 Chr2 Chr3 Chr4 Chr5 ChrM ChrC...
Good, your Chrs in peak_GR is all in Txdb
------------
annotating Peak using nearest gene mode begins
>> preparing gene features information...		2025-10-06 23:59:22
>> finding nearest gene and calculating distance...		2025-10-06 23:59:22
>> dealing with gene strand ...		2025-10-06 23:59:22
>> merging all info together ...		2025-10-06 23:59:22
>> done		2025-10-06 23:59:22
>> checking seqlevels match...		2025-10-06 23:59:22
>> your peak_GR seqlevel:Chr5...
>> your Txdb seqlevel:Chr1 Chr2 Chr3 Chr4 Chr5 ChrM ChrC...
Good, your Chrs in peak_GR is all in Txdb
>> checking seqlevels match...		2025-10-06 23:59:23
>> your peak_GR seqlevel:Chr5...
>> your Txdb seqlevel:Chr1 Chr2 Chr3 Chr4 Chr5 ChrM ChrC...
Good, your Chrs in peak_GR is all in Txdb
------------
annotating Peak using nearest gene mode begins
>> preparing gene features information...		2025-10-06 23:59:23
>> finding nearest gene and calculating distance...		2025-10-06 23:59:23
>> dealing with gene strand ...		2025-10-06 23:59:24
>> merging all info together ...		2025-10-06 23:59:24
>> done		2025-10-06 23:59:24
>> checking seqlevels match...		2025-10-06 23:59:25
>> your peak_GR seqlevel:Chr5...
>> your Txdb seqlevel:Chr1 Chr2 Chr3 Chr4 Chr5 ChrM ChrC...
Good, your Chrs in peak_GR is all in Txdb
>> checking seqlevels match...		2025-10-06 23:59:25
>> your peak_GR seqlevel:Chr5...
>> your Txdb seqlevel:Chr1 Chr2 Chr3 Chr4 Chr5 ChrM ChrC...
Good, your Chrs in peak_GR is all in Txdb
------------
annotating Peak using nearest gene mode begins
>> preparing gene features information...		2025-10-06 23:59:25
>> finding nearest gene and calculating distance...		2025-10-06 23:59:25
>> dealing with gene strand ...		2025-10-06 23:59:26
>> merging all info together ...		2025-10-06 23:59:26
>> done		2025-10-06 23:59:26
>> checking seqlevels match...		2025-10-06 23:59:26
>> your peak_GR seqlevel:Chr5...
>> your Txdb seqlevel:Chr1 Chr2 Chr3 Chr4 Chr5 ChrM ChrC...
Good, your Chrs in peak_GR is all in Txdb
>> checking seqlevels match...		2025-10-06 23:59:26
>> your peak_GR seqlevel:Chr5...
>> your Txdb seqlevel:Chr1 Chr2 Chr3 Chr4 Chr5 ChrM ChrC...
Good, your Chrs in peak_GR is all in Txdb
------------
annotating Peak using nearest gene mode begins
>> preparing gene features information...		2025-10-06 23:59:26
>> finding nearest gene and calculating distance...		2025-10-06 23:59:27
>> dealing with gene strand ...		2025-10-06 23:59:27
>> merging all info together ...		2025-10-06 23:59:27
>> done		2025-10-06 23:59:27
It seems that there 1 genes have not been annotated by nearestGene mode
>> checking seqlevels match...		2025-10-06 23:59:28
>> your peak_GR seqlevel:Chr5...
>> your Txdb seqlevel:Chr1 Chr2 Chr3 Chr4 Chr5 ChrM ChrC...
Good, your Chrs in peak_GR is all in Txdb
>> checking seqlevels match...		2025-10-06 23:59:28
>> your peak_GR seqlevel:Chr5...
>> your Txdb seqlevel:Chr1 Chr2 Chr3 Chr4 Chr5 ChrM ChrC...
Good, your Chrs in peak_GR is all in Txdb
------------
annotating Peak using nearest gene mode begins
>> preparing gene features information...		2025-10-06 23:59:28
>> finding nearest gene and calculating distance...		2025-10-06 23:59:28
>> dealing with gene strand ...		2025-10-06 23:59:29
>> merging all info together ...		2025-10-06 23:59:29
>> done		2025-10-06 23:59:29
It seems that there 1 genes have not been annotated by nearestGene mode
>> checking seqlevels match...		2025-10-06 23:59:29
>> your peak_GR seqlevel:Chr5...
>> your Txdb seqlevel:Chr1 Chr2 Chr3 Chr4 Chr5 ChrM ChrC...
Good, your Chrs in peak_GR is all in Txdb
>> checking seqlevels match...		2025-10-06 23:59:30
>> your peak_GR seqlevel:Chr5...
>> your Txdb seqlevel:Chr1 Chr2 Chr3 Chr4 Chr5 ChrM ChrC...
Good, your Chrs in peak_GR is all in Txdb
>> some scan range may cross Chr bound, trimming...		2025-10-06 23:59:31
>> checking seqlevels match...		2025-10-06 23:59:31
>> your peak_GR seqlevel:Chr5...
>> your Txdb seqlevel:Chr1 Chr2 Chr3 Chr4 Chr5 ChrM ChrC...
Good, your Chrs in peak_GR is all in Txdb
>> some scan range may cross Chr bound, trimming...		2025-10-06 23:59:32
Good, your two matrix colnames matchs
>> calculating cor and pvalue, which may be time consuming...		2025-10-06 23:59:33
>> merging all info together...		2025-10-06 23:59:33
>> done		2025-10-06 23:59:33
>> checking seqlevels match...		2025-10-06 23:59:33
>> your peak_GR seqlevel:Chr5...
>> your Txdb seqlevel:Chr1 Chr2 Chr3 Chr4 Chr5 ChrM ChrC...
Good, your Chrs in peak_GR is all in Txdb
>> using scanPromoter parameter to scan promoter for each gene...		2025-10-06 23:59:33
>> checking seqlevels match...		2025-10-06 23:59:33
>> your peak_GR seqlevel:Chr5...
>> your Txdb seqlevel:Chr1 Chr2 Chr3 Chr4 Chr5 ChrM ChrC...
Good, your Chrs in peak_GR is all in Txdb
>> some scan range may cross Chr bound, trimming...		2025-10-06 23:59:34
>> there are 85 gene have scaned promoter
>> using scanEnhancer parameter to scan Enhancer for each gene...		2025-10-06 23:59:34
>> checking seqlevels match...		2025-10-06 23:59:34
>> your peak_GR seqlevel:Chr5...
>> your Txdb seqlevel:Chr1 Chr2 Chr3 Chr4 Chr5 ChrM ChrC...
Good, your Chrs in peak_GR is all in Txdb
>> some scan range may cross Chr bound, trimming...		2025-10-06 23:59:35
>> calculating cor and pvalue, which may be time consuming...		2025-10-06 23:59:35
>> merging all info together...		2025-10-06 23:59:35
>> done		2025-10-06 23:59:35
Good, your two matrix colnames matchs
>> calculating cor and pvalue, which may be time consuming...		2025-10-06 23:59:35
>> merging all info together...		2025-10-06 23:59:35
>> done		2025-10-06 23:59:35
>> checking seqlevels match...		2025-10-06 23:59:36
>> your peak_GR seqlevel:Chr5...
>> your Txdb seqlevel:Chr1 Chr2 Chr3 Chr4 Chr5 ChrM ChrC...
Good, your Chrs in peak_GR is all in Txdb
------------
annotatePeak using geneScan mode begins
>> preparing gene features information and scan region...		2025-10-06 23:59:36
>> some scan range may cross Chr bound, trimming...		2025-10-06 23:59:36
>> finding overlap peak in gene scan region...		2025-10-06 23:59:36
>> dealing with left peak not your gene scan region...		2025-10-06 23:59:36
>> merging two set peaks...		2025-10-06 23:59:36
>> calculating distance and dealing with gene strand...		2025-10-06 23:59:36
>> merging all info together ...		2025-10-06 23:59:36
>> done		2025-10-06 23:59:36
Good, your two matrix colnames matchs
>> calculating cor and pvalue, which may be time consuming...		2025-10-06 23:59:37
>> merging all info together...		2025-10-06 23:59:37
>> done		2025-10-06 23:59:37
>> checking seqlevels match...		2025-10-06 23:59:37
>> your peak_GR seqlevel:Chr5...
>> your Txdb seqlevel:Chr1 Chr2 Chr3 Chr4 Chr5 ChrM ChrC...
Good, your Chrs in peak_GR is all in Txdb
>> using scanPromoter parameter to scan promoter for each gene...		2025-10-06 23:59:37
>> checking seqlevels match...		2025-10-06 23:59:37
>> your peak_GR seqlevel:Chr5...
>> your Txdb seqlevel:Chr1 Chr2 Chr3 Chr4 Chr5 ChrM ChrC...
Good, your Chrs in peak_GR is all in Txdb
>> some scan range may cross Chr bound, trimming...		2025-10-06 23:59:38
>> there are 85 gene have scaned promoter
>> using scanEnhancer parameter to scan Enhancer for each gene...		2025-10-06 23:59:38
>> checking seqlevels match...		2025-10-06 23:59:38
>> your peak_GR seqlevel:Chr5...
>> your Txdb seqlevel:Chr1 Chr2 Chr3 Chr4 Chr5 ChrM ChrC...
Good, your Chrs in peak_GR is all in Txdb
>> some scan range may cross Chr bound, trimming...		2025-10-06 23:59:39
>> calculating cor and pvalue, which may be time consuming...		2025-10-06 23:59:39
>> merging all info together...		2025-10-06 23:59:39
>> done		2025-10-06 23:59:39
Joining with `by = join_by(feature_id)`
Joining with `by = join_by(feature_id)`
`geom_smooth()` using formula = 'y ~ x'
Joining with `by = join_by(feature_id)`
Joining with `by = join_by(feature_id)`
`geom_smooth()` using formula = 'y ~ x'
[ FAIL 0 | WARN 0 | SKIP 0 | PASS 65 ]
> 
> proc.time()
   user  system elapsed 
 57.283   1.566  58.845 

Example timings

FindIT2.Rcheck/FindIT2-Ex.timings

nameusersystemelapsed
TF_target_database0.0000.0000.001
calcRP_TFHit3.2250.1283.413
calcRP_coverage2.6660.2712.938
calcRP_region5.1930.2035.396
enhancerPromoterCor2.4680.0862.553
findIT_MARA0.4270.0040.432
findIT_TFHit0.9650.0050.970
findIT_TTPair0.0690.0020.071
findIT_enrichFisher0.1750.0010.176
findIT_enrichWilcox0.1820.0000.182
findIT_regionRP5.2380.0215.259
getAssocPairNumber1.1370.0021.140
integrate_ChIP_RNA1.8750.0021.877
integrate_replicates0.0020.0000.002
jaccard_findIT_TTpair0.0910.0000.092
jaccard_findIT_enrichFisher0.1920.0000.193
loadPeakFile0.0530.0010.054
mm_geneBound1.0440.0001.043
mm_geneScan1.0880.0021.089
mm_nearestGene1.0520.0021.053
peakGeneCor2.0330.0042.037
plot_annoDistance1.5040.0121.517
plot_peakGeneAlias_summary2.0840.0442.129
plot_peakGeneCor2.7280.0792.807
test_geneSet0.0000.0000.001