Back to Build/check report for BioC 3.23:   simplified   long
ABCDE[F]GHIJKLMNOPQRSTUVWXYZ

This page was generated on 2025-11-06 11:32 -0500 (Thu, 06 Nov 2025).

HostnameOSArch (*)R versionInstalled pkgs
nebbiolo1Linux (Ubuntu 24.04.3 LTS)x86_64R Under development (unstable) (2025-10-20 r88955) -- "Unsuffered Consequences" 4818
Click on any hostname to see more info about the system (e.g. compilers)      (*) as reported by 'uname -p', except on Windows and Mac OS X

Package 755/2323HostnameOS / ArchINSTALLBUILDCHECKBUILD BIN
FlowSOM 2.19.0  (landing page)
Sofie Van Gassen
Snapshot Date: 2025-11-05 13:40 -0500 (Wed, 05 Nov 2025)
git_url: https://git.bioconductor.org/packages/FlowSOM
git_branch: devel
git_last_commit: 3c00c1d
git_last_commit_date: 2025-10-29 10:23:19 -0500 (Wed, 29 Oct 2025)
nebbiolo1Linux (Ubuntu 24.04.3 LTS) / x86_64  OK    OK    OK  UNNEEDED, same version is already published


CHECK results for FlowSOM on nebbiolo1

To the developers/maintainers of the FlowSOM package:
- Allow up to 24 hours (and sometimes 48 hours) for your latest push to git@git.bioconductor.org:packages/FlowSOM.git to reflect on this report. See Troubleshooting Build Report for more information.
- Use the following Renviron settings to reproduce errors and warnings.
- If 'R CMD check' started to fail recently on the Linux builder(s) over a missing dependency, add the missing dependency to 'Suggests:' in your DESCRIPTION file. See Renviron.bioc for more information.

raw results


Summary

Package: FlowSOM
Version: 2.19.0
Command: /home/biocbuild/bbs-3.23-bioc/R/bin/R CMD check --install=check:FlowSOM.install-out.txt --library=/home/biocbuild/bbs-3.23-bioc/R/site-library --timings FlowSOM_2.19.0.tar.gz
StartedAt: 2025-11-05 23:36:01 -0500 (Wed, 05 Nov 2025)
EndedAt: 2025-11-05 23:46:05 -0500 (Wed, 05 Nov 2025)
EllapsedTime: 603.8 seconds
RetCode: 0
Status:   OK  
CheckDir: FlowSOM.Rcheck
Warnings: 0

Command output

##############################################################################
##############################################################################
###
### Running command:
###
###   /home/biocbuild/bbs-3.23-bioc/R/bin/R CMD check --install=check:FlowSOM.install-out.txt --library=/home/biocbuild/bbs-3.23-bioc/R/site-library --timings FlowSOM_2.19.0.tar.gz
###
##############################################################################
##############################################################################


* using log directory ‘/home/biocbuild/bbs-3.23-bioc/meat/FlowSOM.Rcheck’
* using R Under development (unstable) (2025-10-20 r88955)
* using platform: x86_64-pc-linux-gnu
* R was compiled by
    gcc (Ubuntu 13.3.0-6ubuntu2~24.04) 13.3.0
    GNU Fortran (Ubuntu 13.3.0-6ubuntu2~24.04) 13.3.0
* running under: Ubuntu 24.04.3 LTS
* using session charset: UTF-8
* checking for file ‘FlowSOM/DESCRIPTION’ ... OK
* this is package ‘FlowSOM’ version ‘2.19.0’
* package encoding: UTF-8
* checking package namespace information ... OK
* checking package dependencies ... OK
* checking if this is a source package ... OK
* checking if there is a namespace ... OK
* checking for hidden files and directories ... OK
* checking for portable file names ... OK
* checking for sufficient/correct file permissions ... OK
* checking whether package ‘FlowSOM’ can be installed ... OK
* used C compiler: ‘gcc (Ubuntu 13.3.0-6ubuntu2~24.04) 13.3.0’
* checking installed package size ... OK
* checking package directory ... OK
* checking ‘build’ directory ... OK
* checking DESCRIPTION meta-information ... OK
* checking top-level files ... OK
* checking for left-over files ... OK
* checking index information ... OK
* checking package subdirectories ... OK
* checking code files for non-ASCII characters ... OK
* checking R files for syntax errors ... OK
* checking whether the package can be loaded ... OK
* checking whether the package can be loaded with stated dependencies ... OK
* checking whether the package can be unloaded cleanly ... OK
* checking whether the namespace can be loaded with stated dependencies ... OK
* checking whether the namespace can be unloaded cleanly ... OK
* checking loading without being on the library search path ... OK
* checking whether startup messages can be suppressed ... OK
* checking dependencies in R code ... OK
* checking S3 generic/method consistency ... OK
* checking replacement functions ... OK
* checking foreign function calls ... OK
* checking R code for possible problems ... OK
* checking Rd files ... NOTE
checkRd: (-1) PlotDimRed.Rd:55: Lost braces
    55 | of the dimred default = function(dimred){dimred$Y}.}
       |                                         ^
* checking Rd metadata ... OK
* checking Rd cross-references ... NOTE
Non-topic package-anchored link(s) in Rd file 'pipe.Rd':
  ‘[magrittr:pipe]{%>%}’

See section 'Cross-references' in the 'Writing R Extensions' manual.
* checking for missing documentation entries ... OK
* checking for code/documentation mismatches ... OK
* checking Rd \usage sections ... OK
* checking Rd contents ... OK
* checking for unstated dependencies in examples ... OK
* checking line endings in C/C++/Fortran sources/headers ... OK
* checking compiled code ... INFO
Note: information on .o files is not available
* checking sizes of PDF files under ‘inst/doc’ ...* checking files in ‘vignettes’ ... OK
* checking examples ... OK
Examples with CPU (user + system) or elapsed time > 5s
                     user system elapsed
FlowSOMmary        51.564  0.430  51.671
PlotDimRed         45.611  0.204  45.739
PlotOutliers       29.936  0.444  30.385
PlotMarker         18.005  0.034  18.040
UpdateMetaclusters 15.250  0.159  15.411
PlotStars          14.574  0.233  14.807
GroupStats         12.573  0.022  12.595
FlowSOM            11.389  0.097  11.487
PlotGroups         10.939  0.055  10.994
QueryMultiple       9.784  0.071   9.856
Plot2DScatters      9.459  0.021   9.470
query_multiple      9.303  0.064   9.367
AddAnnotation       8.619  0.200   8.821
PlotManualBars      8.092  0.027   8.121
GetFlowJoLabels     7.141  0.166   7.313
PlotNumbers         6.866  0.278   7.143
QueryStarPlot       7.045  0.033   7.078
PlotNode            6.805  0.018   6.823
PlotPies            6.609  0.133   6.743
PlotVariable        6.526  0.128   6.654
CountGroups         5.755  0.081   5.836
UpdateNodeSize      5.598  0.013   5.611
PlotFlowSOM         5.467  0.030   5.497
PlotLabels          5.414  0.010   5.425
GetFeatures         5.227  0.019   5.247
PlotOverview2D      4.818  0.211   5.029
* checking for unstated dependencies in vignettes ... OK
* checking package vignettes ... OK
* checking re-building of vignette outputs ... OK
* checking PDF version of manual ... OK
* DONE

Status: 2 NOTEs
See
  ‘/home/biocbuild/bbs-3.23-bioc/meat/FlowSOM.Rcheck/00check.log’
for details.


Installation output

FlowSOM.Rcheck/00install.out

##############################################################################
##############################################################################
###
### Running command:
###
###   /home/biocbuild/bbs-3.23-bioc/R/bin/R CMD INSTALL FlowSOM
###
##############################################################################
##############################################################################


* installing to library ‘/home/biocbuild/bbs-3.23-bioc/R/site-library’
* installing *source* package ‘FlowSOM’ ...
** this is package ‘FlowSOM’ version ‘2.19.0’
** using staged installation
** libs
using C compiler: ‘gcc (Ubuntu 13.3.0-6ubuntu2~24.04) 13.3.0’
gcc -std=gnu2x -I"/home/biocbuild/bbs-3.23-bioc/R/include" -DNDEBUG   -I/usr/local/include    -fpic  -g -O2  -Wall -Werror=format-security -c som.c -o som.o
gcc -std=gnu2x -shared -L/home/biocbuild/bbs-3.23-bioc/R/lib -L/usr/local/lib -o FlowSOM.so som.o -L/home/biocbuild/bbs-3.23-bioc/R/lib -lR
installing to /home/biocbuild/bbs-3.23-bioc/R/site-library/00LOCK-FlowSOM/00new/FlowSOM/libs
** R
** inst
** byte-compile and prepare package for lazy loading
** help
*** installing help indices
** building package indices
** installing vignettes
** testing if installed package can be loaded from temporary location
** checking absolute paths in shared objects and dynamic libraries
** testing if installed package can be loaded from final location
** testing if installed package keeps a record of temporary installation path
* DONE (FlowSOM)

Tests output


Example timings

FlowSOM.Rcheck/FlowSOM-Ex.timings

nameusersystemelapsed
AddAnnotation8.6190.2008.821
AggregateFlowFrames0.0660.0110.078
BuildMST1.1310.0081.139
BuildSOM1.1250.0281.152
CountGroups5.7550.0815.836
FMeasure0.0020.0000.002
FlowSOM11.389 0.09711.487
FlowSOMSubset3.8560.0523.909
FlowSOMmary51.564 0.43051.671
GetChannels0.0280.0000.028
GetClusterMFIs4.0690.0264.095
GetClusterPercentagesPositive3.9560.0373.993
GetClusters3.7790.0303.810
GetCounts4.3960.0194.416
GetFeatures5.2270.0195.247
GetFlowJoLabels7.1410.1667.313
GetMFIs4.4330.0134.446
GetMarkers0.0350.0040.038
GetMetaclusterCVs4.2610.0094.270
GetMetaclusterMFIs4.2060.0064.223
GetMetaclusterPercentagesPositive4.290.014.30
GetMetaclusters4.3580.0074.366
GetPercentages4.5170.0124.528
GroupStats12.573 0.02212.595
Initialize_KWSP0.0030.0000.004
Initialize_PCA0.0010.0000.001
MetaClustering2.7810.0542.835
MetaclusterCVs3.9980.0374.036
MetaclusterMFIs4.6930.0194.714
NClusters4.6000.0174.617
NMetaclusters4.8190.0194.840
NewData3.7440.0093.753
Plot2DScatters9.4590.0219.470
PlotCenters1.0570.0061.064
PlotClusters2D0.9810.0060.986
PlotDimRed45.611 0.20445.739
PlotFileScatters1.5010.0491.550
PlotFlowSOM5.4670.0305.497
PlotGroups10.939 0.05510.994
PlotLabels5.4140.0105.425
PlotManualBars8.0920.0278.121
PlotMarker18.005 0.03418.040
PlotNode6.8050.0186.823
PlotNumbers6.8660.2787.143
PlotOutliers29.936 0.44430.385
PlotOverview2D4.8180.2115.029
PlotPies6.6090.1336.743
PlotSD2.0140.0572.072
PlotStars14.574 0.23314.807
PlotVariable6.5260.1286.654
Purity0.0010.0000.001
QueryMultiple9.7840.0719.856
QueryStarPlot7.0450.0337.078
ReadInput2.8760.0462.923
SaveClustersToFCS4.7250.0124.738
TestOutliers4.6560.0414.697
UpdateMetaclusters15.250 0.15915.411
UpdateNodeSize5.5980.0135.611
get_channels0.0300.0020.032
get_markers0.0310.0030.034
metaClustering_consensus2.4030.0152.418
plotStarLegend0.4690.0000.469
print.FlowSOM4.2230.0124.235
query_multiple9.3030.0649.367