| Back to Multiple platform build/check report for BioC 3.23: simplified long |
|
This page was generated on 2025-11-25 11:37 -0500 (Tue, 25 Nov 2025).
| Hostname | OS | Arch (*) | R version | Installed pkgs |
|---|---|---|---|---|
| nebbiolo1 | Linux (Ubuntu 24.04.3 LTS) | x86_64 | R Under development (unstable) (2025-10-20 r88955) -- "Unsuffered Consequences" | 4830 |
| lconway | macOS 12.7.6 Monterey | x86_64 | R Under development (unstable) (2025-10-21 r88958) -- "Unsuffered Consequences" | 4606 |
| kjohnson3 | macOS 13.7.7 Ventura | arm64 | R Under development (unstable) (2025-11-04 r88984) -- "Unsuffered Consequences" | 4569 |
| Click on any hostname to see more info about the system (e.g. compilers) (*) as reported by 'uname -p', except on Windows and Mac OS X | ||||
| Package 823/2328 | Hostname | OS / Arch | INSTALL | BUILD | CHECK | BUILD BIN | ||||||||
| GeneStructureTools 1.31.0 (landing page) Beth Signal
| nebbiolo1 | Linux (Ubuntu 24.04.3 LTS) / x86_64 | OK | OK | OK | |||||||||
| lconway | macOS 12.7.6 Monterey / x86_64 | OK | OK | OK | OK | |||||||||
| kjohnson3 | macOS 13.7.7 Ventura / arm64 | OK | OK | OK | OK | |||||||||
|
To the developers/maintainers of the GeneStructureTools package: - Allow up to 24 hours (and sometimes 48 hours) for your latest push to git@git.bioconductor.org:packages/GeneStructureTools.git to reflect on this report. See Troubleshooting Build Report for more information. - Use the following Renviron settings to reproduce errors and warnings. - If 'R CMD check' started to fail recently on the Linux builder(s) over a missing dependency, add the missing dependency to 'Suggests:' in your DESCRIPTION file. See Renviron.bioc for more information. |
| Package: GeneStructureTools |
| Version: 1.31.0 |
| Command: /home/biocbuild/bbs-3.23-bioc/R/bin/R CMD check --install=check:GeneStructureTools.install-out.txt --library=/home/biocbuild/bbs-3.23-bioc/R/site-library --timings GeneStructureTools_1.31.0.tar.gz |
| StartedAt: 2025-11-24 23:50:35 -0500 (Mon, 24 Nov 2025) |
| EndedAt: 2025-11-24 23:58:41 -0500 (Mon, 24 Nov 2025) |
| EllapsedTime: 485.6 seconds |
| RetCode: 0 |
| Status: OK |
| CheckDir: GeneStructureTools.Rcheck |
| Warnings: 0 |
##############################################################################
##############################################################################
###
### Running command:
###
### /home/biocbuild/bbs-3.23-bioc/R/bin/R CMD check --install=check:GeneStructureTools.install-out.txt --library=/home/biocbuild/bbs-3.23-bioc/R/site-library --timings GeneStructureTools_1.31.0.tar.gz
###
##############################################################################
##############################################################################
* using log directory ‘/home/biocbuild/bbs-3.23-bioc/meat/GeneStructureTools.Rcheck’
* using R Under development (unstable) (2025-10-20 r88955)
* using platform: x86_64-pc-linux-gnu
* R was compiled by
gcc (Ubuntu 13.3.0-6ubuntu2~24.04) 13.3.0
GNU Fortran (Ubuntu 13.3.0-6ubuntu2~24.04) 13.3.0
* running under: Ubuntu 24.04.3 LTS
* using session charset: UTF-8
* checking for file ‘GeneStructureTools/DESCRIPTION’ ... OK
* checking extension type ... Package
* this is package ‘GeneStructureTools’ version ‘1.31.0’
* package encoding: UTF-8
* checking package namespace information ... OK
* checking package dependencies ... OK
* checking if this is a source package ... OK
* checking if there is a namespace ... OK
* checking for hidden files and directories ... OK
* checking for portable file names ... OK
* checking for sufficient/correct file permissions ... OK
* checking whether package ‘GeneStructureTools’ can be installed ... OK
* checking installed package size ... OK
* checking package directory ... OK
* checking ‘build’ directory ... OK
* checking DESCRIPTION meta-information ... OK
* checking top-level files ... OK
* checking for left-over files ... OK
* checking index information ... OK
* checking package subdirectories ... OK
* checking code files for non-ASCII characters ... OK
* checking R files for syntax errors ... OK
* checking whether the package can be loaded ... OK
* checking whether the package can be loaded with stated dependencies ... OK
* checking whether the package can be unloaded cleanly ... OK
* checking whether the namespace can be loaded with stated dependencies ... OK
* checking whether the namespace can be unloaded cleanly ... OK
* checking loading without being on the library search path ... OK
* checking dependencies in R code ... OK
* checking S3 generic/method consistency ... OK
* checking replacement functions ... OK
* checking foreign function calls ... OK
* checking R code for possible problems ... OK
* checking Rd files ... OK
* checking Rd metadata ... OK
* checking Rd cross-references ... OK
* checking for missing documentation entries ... OK
* checking for code/documentation mismatches ... OK
* checking Rd \usage sections ... OK
* checking Rd contents ... OK
* checking for unstated dependencies in examples ... OK
* checking files in ‘vignettes’ ... OK
* checking examples ... OK
Examples with CPU (user + system) or elapsed time > 5s
user system elapsed
leafcutterTranscriptChangeSummary 20.878 0.347 21.225
whippetTranscriptChangeSummary 11.209 0.296 11.504
* checking for unstated dependencies in vignettes ... OK
* checking package vignettes ... OK
* checking re-building of vignette outputs ... OK
* checking PDF version of manual ... OK
* DONE
Status: OK
GeneStructureTools.Rcheck/00install.out
############################################################################## ############################################################################## ### ### Running command: ### ### /home/biocbuild/bbs-3.23-bioc/R/bin/R CMD INSTALL GeneStructureTools ### ############################################################################## ############################################################################## * installing to library ‘/home/biocbuild/bbs-3.23-bioc/R/site-library’ * installing *source* package ‘GeneStructureTools’ ... ** this is package ‘GeneStructureTools’ version ‘1.31.0’ ** using staged installation ** R ** inst ** byte-compile and prepare package for lazy loading ** help *** installing help indices ** building package indices ** installing vignettes ** testing if installed package can be loaded from temporary location ** testing if installed package can be loaded from final location ** testing if installed package keeps a record of temporary installation path * DONE (GeneStructureTools)
GeneStructureTools.Rcheck/GeneStructureTools-Ex.timings
| name | user | system | elapsed | |
| DEXSeqIdsToGeneIds | 0.003 | 0.000 | 0.003 | |
| UTR2UTR53 | 2.279 | 0.187 | 2.467 | |
| addBroadTypes | 0.164 | 0.005 | 0.170 | |
| addIntronInTranscript | 2.817 | 0.097 | 2.916 | |
| alternativeIntronUsage | 4.037 | 0.062 | 4.101 | |
| annotateGeneModel | 0.826 | 0.006 | 0.835 | |
| attrChangeAltSpliced | 1.189 | 0.077 | 1.274 | |
| coordinates-methods | 0.048 | 0.020 | 0.067 | |
| diffSplicingResults-methods | 0.044 | 0.018 | 0.061 | |
| exonsToTranscripts | 0.241 | 0.003 | 0.243 | |
| filterGtfOverlap | 0.230 | 0.005 | 0.235 | |
| filterWhippetEvents | 0.052 | 0.024 | 0.076 | |
| findDEXexonType | 2.393 | 0.081 | 2.474 | |
| findExonContainingTranscripts | 0.383 | 0.020 | 0.402 | |
| findIntronContainingTranscripts | 0.610 | 0.023 | 0.632 | |
| findJunctionPairs | 1.211 | 0.020 | 1.231 | |
| formatWhippetEvents | 0.010 | 0.004 | 0.014 | |
| getOrfs | 0.637 | 0.016 | 0.652 | |
| getUOrfs | 0.505 | 0.009 | 0.513 | |
| junctions-methods | 0.069 | 0.019 | 0.087 | |
| leafcutterTranscriptChangeSummary | 20.878 | 0.347 | 21.225 | |
| makeGeneModel | 0.139 | 0.007 | 0.147 | |
| maxLocation | 0.003 | 0.001 | 0.003 | |
| orfDiff | 1.457 | 0.045 | 1.502 | |
| orfSimilarity | 0.001 | 0.000 | 0.001 | |
| overlapTypes | 3.209 | 0.130 | 3.338 | |
| readCounts-methods | 0.044 | 0.024 | 0.067 | |
| readWhippetDIFFfiles | 0.006 | 0.000 | 0.005 | |
| readWhippetDataSet | 0.041 | 0.022 | 0.062 | |
| readWhippetJNCfiles | 0.018 | 0.011 | 0.030 | |
| readWhippetPSIfiles | 0.008 | 0.007 | 0.015 | |
| removeDuplicateTranscripts | 0.230 | 0.003 | 0.233 | |
| removeSameExon | 0.196 | 0.004 | 0.201 | |
| removeVersion | 0 | 0 | 0 | |
| reorderExonNumbers | 0.152 | 0.007 | 0.161 | |
| replaceJunction | 3.586 | 0.044 | 3.636 | |
| skipExonInTranscript | 1.258 | 0.034 | 1.291 | |
| summariseExonTypes | 2.281 | 0.008 | 2.289 | |
| transcriptChangeSummary | 1.354 | 0.060 | 1.415 | |
| whippetTranscriptChangeSummary | 11.209 | 0.296 | 11.504 | |