| Back to Build/check report for BioC 3.22: simplified long |
|
This page was generated on 2025-10-27 12:45 -0400 (Mon, 27 Oct 2025).
| Hostname | OS | Arch (*) | R version | Installed pkgs |
|---|---|---|---|---|
| kjohnson3 | macOS 13.7.7 Ventura | arm64 | 4.5.1 Patched (2025-09-10 r88807) -- "Great Square Root" | 4637 |
| Click on any hostname to see more info about the system (e.g. compilers) (*) as reported by 'uname -p', except on Windows and Mac OS X | ||||
| Package 851/2361 | Hostname | OS / Arch | INSTALL | BUILD | CHECK | BUILD BIN | ||||||||
| GenomicPlot 1.7.2 (landing page) Shuye Pu
| kjohnson3 | macOS 13.7.7 Ventura / arm64 | OK | TIMEOUT | skipped | skipped | ||||||||
|
To the developers/maintainers of the GenomicPlot package: - Allow up to 24 hours (and sometimes 48 hours) for your latest push to git@git.bioconductor.org:packages/GenomicPlot.git to reflect on this report. See Troubleshooting Build Report for more information. - Use the following Renviron settings to reproduce errors and warnings. - If 'R CMD check' started to fail recently on the Linux builder(s) over a missing dependency, add the missing dependency to 'Suggests:' in your DESCRIPTION file. See Renviron.bioc for more information. |
| Package: GenomicPlot |
| Version: 1.7.2 |
| Command: /Library/Frameworks/R.framework/Resources/bin/R CMD build --keep-empty-dirs --no-resave-data GenomicPlot |
| StartedAt: 2025-10-26 16:35:01 -0400 (Sun, 26 Oct 2025) |
| EndedAt: 2025-10-26 17:15:02 -0400 (Sun, 26 Oct 2025) |
| EllapsedTime: 2400.9 seconds |
| RetCode: None |
| Status: TIMEOUT |
| PackageFile: None |
| PackageFileSize: NA |
############################################################################## ############################################################################## ### ### Running command: ### ### /Library/Frameworks/R.framework/Resources/bin/R CMD build --keep-empty-dirs --no-resave-data GenomicPlot ### ############################################################################## ############################################################################## * checking for file ‘GenomicPlot/DESCRIPTION’ ... OK * preparing ‘GenomicPlot’: * checking DESCRIPTION meta-information ... OK * installing the package to build vignettes * creating vignettes ...