Back to Multiple platform build/check report for BioC 3.22:   simplified   long
ABCDEFG[H]IJKLMNOPQRSTUVWXYZ

This page was generated on 2025-10-11 12:03 -0400 (Sat, 11 Oct 2025).

HostnameOSArch (*)R versionInstalled pkgs
nebbiolo2Linux (Ubuntu 24.04.3 LTS)x86_644.5.1 Patched (2025-08-23 r88802) -- "Great Square Root" 4864
lconwaymacOS 12.7.1 Montereyx86_644.5.1 Patched (2025-09-10 r88807) -- "Great Square Root" 4652
kjohnson3macOS 13.7.7 Venturaarm644.5.1 Patched (2025-09-10 r88807) -- "Great Square Root" 4597
taishanLinux (openEuler 24.03 LTS)aarch644.5.0 (2025-04-11) -- "How About a Twenty-Six" 4586
Click on any hostname to see more info about the system (e.g. compilers)      (*) as reported by 'uname -p', except on Windows and Mac OS X

Package 971/2346HostnameOS / ArchINSTALLBUILDCHECKBUILD BIN
HiCBricks 1.27.1  (landing page)
Koustav Pal
Snapshot Date: 2025-10-10 13:45 -0400 (Fri, 10 Oct 2025)
git_url: https://git.bioconductor.org/packages/HiCBricks
git_branch: devel
git_last_commit: 71e4813
git_last_commit_date: 2025-07-22 20:39:06 -0400 (Tue, 22 Jul 2025)
nebbiolo2Linux (Ubuntu 24.04.3 LTS) / x86_64  OK    OK    OK  UNNEEDED, same version is already published
lconwaymacOS 12.7.1 Monterey / x86_64  OK    OK    OK    OK  UNNEEDED, same version is already published
kjohnson3macOS 13.7.7 Ventura / arm64  OK    OK    OK    OK  UNNEEDED, same version is already published
taishanLinux (openEuler 24.03 LTS) / aarch64  OK    OK    OK  


CHECK results for HiCBricks on nebbiolo2

To the developers/maintainers of the HiCBricks package:
- Allow up to 24 hours (and sometimes 48 hours) for your latest push to git@git.bioconductor.org:packages/HiCBricks.git to reflect on this report. See Troubleshooting Build Report for more information.
- Use the following Renviron settings to reproduce errors and warnings.
- If 'R CMD check' started to fail recently on the Linux builder(s) over a missing dependency, add the missing dependency to 'Suggests:' in your DESCRIPTION file. See Renviron.bioc for more information.

raw results


Summary

Package: HiCBricks
Version: 1.27.1
Command: /home/biocbuild/bbs-3.22-bioc/R/bin/R CMD check --install=check:HiCBricks.install-out.txt --library=/home/biocbuild/bbs-3.22-bioc/R/site-library --timings HiCBricks_1.27.1.tar.gz
StartedAt: 2025-10-11 00:53:10 -0400 (Sat, 11 Oct 2025)
EndedAt: 2025-10-11 00:56:32 -0400 (Sat, 11 Oct 2025)
EllapsedTime: 202.2 seconds
RetCode: 0
Status:   OK  
CheckDir: HiCBricks.Rcheck
Warnings: 0

Command output

##############################################################################
##############################################################################
###
### Running command:
###
###   /home/biocbuild/bbs-3.22-bioc/R/bin/R CMD check --install=check:HiCBricks.install-out.txt --library=/home/biocbuild/bbs-3.22-bioc/R/site-library --timings HiCBricks_1.27.1.tar.gz
###
##############################################################################
##############################################################################


* using log directory ‘/home/biocbuild/bbs-3.22-bioc/meat/HiCBricks.Rcheck’
* using R version 4.5.1 Patched (2025-08-23 r88802)
* using platform: x86_64-pc-linux-gnu
* R was compiled by
    gcc (Ubuntu 13.3.0-6ubuntu2~24.04) 13.3.0
    GNU Fortran (Ubuntu 13.3.0-6ubuntu2~24.04) 13.3.0
* running under: Ubuntu 24.04.3 LTS
* using session charset: UTF-8
* checking for file ‘HiCBricks/DESCRIPTION’ ... OK
* checking extension type ... Package
* this is package ‘HiCBricks’ version ‘1.27.1’
* package encoding: UTF-8
* checking package namespace information ... OK
* checking package dependencies ... OK
* checking if this is a source package ... OK
* checking if there is a namespace ... OK
* checking for hidden files and directories ... OK
* checking for portable file names ... OK
* checking for sufficient/correct file permissions ... OK
* checking whether package ‘HiCBricks’ can be installed ... OK
* checking installed package size ... OK
* checking package directory ... OK
* checking ‘build’ directory ... OK
* checking DESCRIPTION meta-information ... OK
* checking top-level files ... OK
* checking for left-over files ... OK
* checking index information ... OK
* checking package subdirectories ... OK
* checking code files for non-ASCII characters ... OK
* checking R files for syntax errors ... OK
* checking whether the package can be loaded ... OK
* checking whether the package can be loaded with stated dependencies ... OK
* checking whether the package can be unloaded cleanly ... OK
* checking whether the namespace can be loaded with stated dependencies ... OK
* checking whether the namespace can be unloaded cleanly ... OK
* checking loading without being on the library search path ... OK
* checking dependencies in R code ... OK
* checking S3 generic/method consistency ... OK
* checking replacement functions ... OK
* checking foreign function calls ... OK
* checking R code for possible problems ... OK
* checking Rd files ... OK
* checking Rd metadata ... OK
* checking Rd cross-references ... OK
* checking for missing documentation entries ... OK
* checking for code/documentation mismatches ... OK
* checking Rd \usage sections ... OK
* checking Rd contents ... OK
* checking for unstated dependencies in examples ... OK
* checking files in ‘vignettes’ ... OK
* checking examples ... OK
* checking for unstated dependencies in vignettes ... OK
* checking package vignettes ... OK
* checking re-building of vignette outputs ... OK
* checking PDF version of manual ... OK
* DONE

Status: OK


Installation output

HiCBricks.Rcheck/00install.out

##############################################################################
##############################################################################
###
### Running command:
###
###   /home/biocbuild/bbs-3.22-bioc/R/bin/R CMD INSTALL HiCBricks
###
##############################################################################
##############################################################################


* installing to library ‘/home/biocbuild/bbs-3.22-bioc/R/site-library’
* installing *source* package ‘HiCBricks’ ...
** this is package ‘HiCBricks’ version ‘1.27.1’
** using staged installation
** R
** inst
** byte-compile and prepare package for lazy loading
** help
*** installing help indices
** building package indices
** installing vignettes
** testing if installed package can be loaded from temporary location
** testing if installed package can be loaded from final location
** testing if installed package keeps a record of temporary installation path
* DONE (HiCBricks)

Tests output


Example timings

HiCBricks.Rcheck/HiCBricks-Ex.timings

nameusersystemelapsed
BrickContainer_change_experiment_name1.1750.0641.241
BrickContainer_change_output_directory0.9590.0411.077
BrickContainer_get_path_to_file0.8200.0190.841
BrickContainer_list_chromosomes0.7740.0480.824
BrickContainer_list_experiment_name0.8170.0290.849
BrickContainer_list_files0.8320.0170.851
BrickContainer_list_output_directory0.8730.0130.888
BrickContainer_list_resolutions0.7780.0170.797
BrickContainer_unlink_resolution1.7390.0611.824
Brick_add_ranges1.8060.0641.873
Brick_call_compartments1.1500.0491.228
Brick_export_to_sparse2.2360.0552.364
Brick_fetch_range_index0.8670.0390.909
Brick_fetch_row_vector1.3430.0271.372
Brick_get_bintable1.1230.0411.166
Brick_get_chrominfo0.7140.0180.734
Brick_get_entire_matrix1.0240.0661.094
Brick_get_matrix1.0500.0251.217
Brick_get_matrix_mcols0.9770.0261.006
Brick_get_matrix_within_coords1.4270.0201.449
Brick_get_ranges0.7820.0170.801
Brick_get_values_by_distance1.1760.0311.275
Brick_get_vector_values0.9980.0311.032
Brick_list_matrices0.7180.0140.746
Brick_list_matrix_mcols0.7450.0120.759
Brick_list_mcool_normalisations000
Brick_list_mcool_resolutions0.0000.0000.001
Brick_list_rangekeys0.7260.0100.739
Brick_list_ranges_mcols0.7460.0110.760
Brick_load_cis_matrix_till_distance0.9680.0180.989
Brick_load_data_from_mcool000
Brick_load_data_from_sparse000
Brick_load_matrix1.0150.0251.042
Brick_local_score_differentiator1.6950.0371.856
Brick_make_ranges0.0080.0000.008
Brick_matrix_dimensions1.0110.0271.041
Brick_matrix_exists1.0030.0201.025
Brick_matrix_filename1.0350.0191.057
Brick_matrix_isdone1.1730.0221.249
Brick_matrix_issparse1.1710.0111.188
Brick_matrix_maxdist1.1620.0221.187
Brick_matrix_minmax1.1640.0211.188
Brick_mcool_normalisation_exists000
Brick_rangekey_exists0.8530.1691.029
Brick_return_region_position0.9000.1611.064
Brick_vizart_plot_heatmap2.3140.1662.514
Create_many_Bricks0.8430.0200.865
Create_many_Bricks_from_mcool000
load_BrickContainer0.8400.1370.980