Back to Multiple platform build/check report for BioC 3.23:   simplified   long
ABCDEFGHIJK[L]MNOPQRSTUVWXYZ

This page was generated on 2025-11-17 11:39 -0500 (Mon, 17 Nov 2025).

HostnameOSArch (*)R versionInstalled pkgs
nebbiolo1Linux (Ubuntu 24.04.3 LTS)x86_64R Under development (unstable) (2025-10-20 r88955) -- "Unsuffered Consequences" 4826
lconwaymacOS 12.7.6 Montereyx86_64R Under development (unstable) (2025-10-21 r88958) -- "Unsuffered Consequences" 4491
kjohnson3macOS 13.7.7 Venturaarm64R Under development (unstable) (2025-11-04 r88984) -- "Unsuffered Consequences" 4562
Click on any hostname to see more info about the system (e.g. compilers)      (*) as reported by 'uname -p', except on Windows and Mac OS X

Package 1124/2325HostnameOS / ArchINSTALLBUILDCHECKBUILD BIN
LimROTS 1.3.1  (landing page)
Ali Mostafa Anwar
Snapshot Date: 2025-11-16 13:40 -0500 (Sun, 16 Nov 2025)
git_url: https://git.bioconductor.org/packages/LimROTS
git_branch: devel
git_last_commit: 5bf8d4c
git_last_commit_date: 2025-11-16 07:35:50 -0500 (Sun, 16 Nov 2025)
nebbiolo1Linux (Ubuntu 24.04.3 LTS) / x86_64  OK    OK    OK  YES
lconwaymacOS 12.7.6 Monterey / x86_64  OK    OK    OK    OK  NO, package depends on 'BiocParallel' which is only available as a source package that needs compilation
kjohnson3macOS 13.7.7 Ventura / arm64  OK    OK    OK    OK  YES


BUILD BIN results for LimROTS on lconway

To the developers/maintainers of the LimROTS package:
- Allow up to 24 hours (and sometimes 48 hours) for your latest push to git@git.bioconductor.org:packages/LimROTS.git to reflect on this report. See Troubleshooting Build Report for more information.
- Use the following Renviron settings to reproduce errors and warnings.
- If 'R CMD check' started to fail recently on the Linux builder(s) over a missing dependency, add the missing dependency to 'Suggests:' in your DESCRIPTION file. See Renviron.bioc for more information.

raw results


Summary

Package: LimROTS
Version: 1.3.1
Command: rm -rf LimROTS.buildbin-libdir && mkdir LimROTS.buildbin-libdir && /Users/biocbuild/BBS/utils/build-universal.sh LimROTS_1.3.1.tar.gz /Library/Frameworks/R.framework/Resources/bin/R LimROTS.buildbin-libdir
StartedAt: 2025-11-17 07:02:03 -0500 (Mon, 17 Nov 2025)
EndedAt: 2025-11-17 07:02:42 -0500 (Mon, 17 Nov 2025)
EllapsedTime: 38.8 seconds
RetCode: 0
Status:   OK  
PackageFile: LimROTS_1.3.1.tgz
PackageFileSize: 836.2 KiB

Command output

##############################################################################
##############################################################################
###
### Running command:
###
###   rm -rf LimROTS.buildbin-libdir && mkdir LimROTS.buildbin-libdir && /Users/biocbuild/BBS/utils/build-universal.sh LimROTS_1.3.1.tar.gz /Library/Frameworks/R.framework/Resources/bin/R LimROTS.buildbin-libdir
###
##############################################################################
##############################################################################


>>>>>>> 
>>>>>>> INSTALLATION WITH 'R CMD INSTALL --preclean --no-multiarch --library=LimROTS.buildbin-libdir LimROTS_1.3.1.tar.gz'
>>>>>>> 

* installing *source* package ‘LimROTS’ ...
** this is package ‘LimROTS’ version ‘1.3.1’
** using staged installation
** R
** data
** inst
** byte-compile and prepare package for lazy loading
** help
*** installing help indices
** building package indices
** installing vignettes
** testing if installed package can be loaded from temporary location
** testing if installed package can be loaded from final location
** testing if installed package keeps a record of temporary installation path
* DONE (LimROTS)