| Back to Multiple platform build/check report for BioC 3.23: simplified long |
|
This page was generated on 2025-11-26 11:39 -0500 (Wed, 26 Nov 2025).
| Hostname | OS | Arch (*) | R version | Installed pkgs |
|---|---|---|---|---|
| nebbiolo1 | Linux (Ubuntu 24.04.3 LTS) | x86_64 | R Under development (unstable) (2025-10-20 r88955) -- "Unsuffered Consequences" | 4830 |
| lconway | macOS 12.7.6 Monterey | x86_64 | R Under development (unstable) (2025-10-21 r88958) -- "Unsuffered Consequences" | 4609 |
| kjohnson3 | macOS 13.7.7 Ventura | arm64 | R Under development (unstable) (2025-11-04 r88984) -- "Unsuffered Consequences" | 4569 |
| Click on any hostname to see more info about the system (e.g. compilers) (*) as reported by 'uname -p', except on Windows and Mac OS X | ||||
| Package 1150/2328 | Hostname | OS / Arch | INSTALL | BUILD | CHECK | BUILD BIN | ||||||||
| LymphoSeq 1.39.0 (landing page) David Coffey
| nebbiolo1 | Linux (Ubuntu 24.04.3 LTS) / x86_64 | OK | OK | OK | |||||||||
| lconway | macOS 12.7.6 Monterey / x86_64 | OK | OK | OK | OK | |||||||||
| kjohnson3 | macOS 13.7.7 Ventura / arm64 | OK | OK | OK | OK | |||||||||
|
To the developers/maintainers of the LymphoSeq package: - Allow up to 24 hours (and sometimes 48 hours) for your latest push to git@git.bioconductor.org:packages/LymphoSeq.git to reflect on this report. See Troubleshooting Build Report for more information. - Use the following Renviron settings to reproduce errors and warnings. - If 'R CMD check' started to fail recently on the Linux builder(s) over a missing dependency, add the missing dependency to 'Suggests:' in your DESCRIPTION file. See Renviron.bioc for more information. |
| Package: LymphoSeq |
| Version: 1.39.0 |
| Command: /Library/Frameworks/R.framework/Resources/bin/R CMD check --install=check:LymphoSeq.install-out.txt --library=/Library/Frameworks/R.framework/Resources/library --no-vignettes --timings LymphoSeq_1.39.0.tar.gz |
| StartedAt: 2025-11-25 22:18:04 -0500 (Tue, 25 Nov 2025) |
| EndedAt: 2025-11-25 22:21:53 -0500 (Tue, 25 Nov 2025) |
| EllapsedTime: 229.7 seconds |
| RetCode: 0 |
| Status: OK |
| CheckDir: LymphoSeq.Rcheck |
| Warnings: 0 |
##############################################################################
##############################################################################
###
### Running command:
###
### /Library/Frameworks/R.framework/Resources/bin/R CMD check --install=check:LymphoSeq.install-out.txt --library=/Library/Frameworks/R.framework/Resources/library --no-vignettes --timings LymphoSeq_1.39.0.tar.gz
###
##############################################################################
##############################################################################
* using log directory ‘/Users/biocbuild/bbs-3.23-bioc/meat/LymphoSeq.Rcheck’
* using R Under development (unstable) (2025-10-21 r88958)
* using platform: x86_64-apple-darwin20
* R was compiled by
Apple clang version 14.0.0 (clang-1400.0.29.202)
GNU Fortran (GCC) 14.2.0
* running under: macOS Ventura 13.7.8
* using session charset: UTF-8
* using option ‘--no-vignettes’
* checking for file ‘LymphoSeq/DESCRIPTION’ ... OK
* this is package ‘LymphoSeq’ version ‘1.39.0’
* checking package namespace information ... OK
* checking package dependencies ... OK
* checking if this is a source package ... OK
* checking if there is a namespace ... OK
* checking for hidden files and directories ... OK
* checking for portable file names ... OK
* checking for sufficient/correct file permissions ... OK
* checking whether package ‘LymphoSeq’ can be installed ... OK
* checking installed package size ... INFO
installed size is 5.7Mb
sub-directories of 1Mb or more:
extdata 5.5Mb
* checking package directory ... OK
* checking ‘build’ directory ... OK
* checking DESCRIPTION meta-information ... OK
* checking top-level files ... OK
* checking for left-over files ... OK
* checking index information ... OK
* checking package subdirectories ... OK
* checking code files for non-ASCII characters ... OK
* checking R files for syntax errors ... OK
* checking whether the package can be loaded ... OK
* checking whether the package can be loaded with stated dependencies ... OK
* checking whether the package can be unloaded cleanly ... OK
* checking whether the namespace can be loaded with stated dependencies ... OK
* checking whether the namespace can be unloaded cleanly ... OK
* checking dependencies in R code ... OK
* checking S3 generic/method consistency ... OK
* checking replacement functions ... OK
* checking foreign function calls ... OK
* checking R code for possible problems ... OK
* checking Rd files ... OK
* checking Rd metadata ... OK
* checking Rd cross-references ... OK
* checking for missing documentation entries ... OK
* checking for code/documentation mismatches ... OK
* checking Rd \usage sections ... OK
* checking Rd contents ... OK
* checking for unstated dependencies in examples ... OK
* checking files in ‘vignettes’ ... OK
* checking examples ... OK
Examples with CPU (user + system) or elapsed time > 5s
user system elapsed
cloneTrack 26.188 1.274 27.657
productiveSeq 18.169 0.476 18.769
* checking for unstated dependencies in vignettes ... OK
* checking package vignettes ... OK
* checking running R code from vignettes ... SKIPPED
* checking re-building of vignette outputs ... SKIPPED
* checking PDF version of manual ... OK
* DONE
Status: OK
LymphoSeq.Rcheck/00install.out
############################################################################## ############################################################################## ### ### Running command: ### ### /Library/Frameworks/R.framework/Resources/bin/R CMD INSTALL LymphoSeq ### ############################################################################## ############################################################################## * installing to library ‘/Library/Frameworks/R.framework/Versions/4.6-x86_64/Resources/library’ * installing *source* package ‘LymphoSeq’ ... ** this is package ‘LymphoSeq’ version ‘1.39.0’ ** using staged installation ** R ** inst ** byte-compile and prepare package for lazy loading ** help *** installing help indices ** building package indices ** installing vignettes ** testing if installed package can be loaded from temporary location ** testing if installed package can be loaded from final location ** testing if installed package keeps a record of temporary installation path * DONE (LymphoSeq)
LymphoSeq.Rcheck/LymphoSeq-Ex.timings
| name | user | system | elapsed | |
| alignSeq | 1.240 | 0.029 | 1.296 | |
| bhattacharyyaCoefficient | 0.306 | 0.016 | 0.340 | |
| bhattacharyyaMatrix | 0.583 | 0.013 | 0.599 | |
| chordDiagramVDJ | 0.901 | 0.071 | 0.983 | |
| clonalRelatedness | 0.681 | 0.013 | 0.701 | |
| clonality | 0.059 | 0.009 | 0.071 | |
| cloneTrack | 26.188 | 1.274 | 27.657 | |
| commonSeqs | 0.185 | 0.021 | 0.207 | |
| commonSeqsBar | 2.380 | 0.174 | 2.574 | |
| commonSeqsPlot | 0.614 | 0.012 | 0.629 | |
| commonSeqsVenn | 0.646 | 0.029 | 0.684 | |
| differentialAbundance | 2.011 | 0.071 | 2.098 | |
| exportFasta | 0.250 | 0.028 | 0.279 | |
| geneFreq | 2.282 | 0.079 | 2.382 | |
| lorenzCurve | 1.349 | 0.023 | 1.383 | |
| mergeFiles | 0.079 | 0.005 | 0.085 | |
| pairwisePlot | 1.155 | 0.017 | 1.191 | |
| phyloTree | 4.736 | 0.050 | 4.818 | |
| productive | 0.060 | 0.006 | 0.067 | |
| productiveSeq | 18.169 | 0.476 | 18.769 | |
| readImmunoSeq | 0.049 | 0.005 | 0.055 | |
| removeSeq | 0.062 | 0.005 | 0.067 | |
| searchPublished | 0.184 | 0.009 | 0.197 | |
| searchSeq | 0.467 | 0.012 | 0.485 | |
| seqMatrix | 3.187 | 0.093 | 3.307 | |
| similarityMatrix | 0.165 | 0.007 | 0.173 | |
| similarityScore | 0.158 | 0.007 | 0.168 | |
| topFreq | 1.503 | 0.013 | 1.524 | |
| topSeqs | 1.186 | 0.060 | 1.255 | |
| topSeqsPlot | 0.661 | 0.010 | 0.677 | |
| uniqueSeqs | 0.210 | 0.007 | 0.218 | |