Back to Multiple platform build/check report for BioC 3.23:   simplified   long
ABCDEFGHIJKL[M]NOPQRSTUVWXYZ

This page was generated on 2025-11-28 11:39 -0500 (Fri, 28 Nov 2025).

HostnameOSArch (*)R versionInstalled pkgs
nebbiolo1Linux (Ubuntu 24.04.3 LTS)x86_64R Under development (unstable) (2025-10-20 r88955) -- "Unsuffered Consequences" 4866
lconwaymacOS 12.7.6 Montereyx86_64R Under development (unstable) (2025-10-21 r88958) -- "Unsuffered Consequences" 4614
kjohnson3macOS 13.7.7 Venturaarm64R Under development (unstable) (2025-11-04 r88984) -- "Unsuffered Consequences" 4571
Click on any hostname to see more info about the system (e.g. compilers)      (*) as reported by 'uname -p', except on Windows and Mac OS X

Package 1230/2328HostnameOS / ArchINSTALLBUILDCHECKBUILD BIN
MetaCyto 1.33.0  (landing page)
Zicheng Hu
Snapshot Date: 2025-11-27 13:40 -0500 (Thu, 27 Nov 2025)
git_url: https://git.bioconductor.org/packages/MetaCyto
git_branch: devel
git_last_commit: 5669afb
git_last_commit_date: 2025-10-29 10:42:00 -0500 (Wed, 29 Oct 2025)
nebbiolo1Linux (Ubuntu 24.04.3 LTS) / x86_64  OK    OK    OK  UNNEEDED, same version is already published
lconwaymacOS 12.7.6 Monterey / x86_64  OK    OK    OK    OK  UNNEEDED, same version is already published
kjohnson3macOS 13.7.7 Ventura / arm64  OK    OK    OK    OK  UNNEEDED, same version is already published


CHECK results for MetaCyto on kjohnson3

To the developers/maintainers of the MetaCyto package:
- Allow up to 24 hours (and sometimes 48 hours) for your latest push to git@git.bioconductor.org:packages/MetaCyto.git to reflect on this report. See Troubleshooting Build Report for more information.
- Use the following Renviron settings to reproduce errors and warnings.
- If 'R CMD check' started to fail recently on the Linux builder(s) over a missing dependency, add the missing dependency to 'Suggests:' in your DESCRIPTION file. See Renviron.bioc for more information.

raw results


Summary

Package: MetaCyto
Version: 1.33.0
Command: /Library/Frameworks/R.framework/Resources/bin/R CMD check --install=check:MetaCyto.install-out.txt --library=/Library/Frameworks/R.framework/Resources/library --no-vignettes --timings MetaCyto_1.33.0.tar.gz
StartedAt: 2025-11-27 20:58:56 -0500 (Thu, 27 Nov 2025)
EndedAt: 2025-11-27 21:02:30 -0500 (Thu, 27 Nov 2025)
EllapsedTime: 213.7 seconds
RetCode: 0
Status:   OK  
CheckDir: MetaCyto.Rcheck
Warnings: 0

Command output

##############################################################################
##############################################################################
###
### Running command:
###
###   /Library/Frameworks/R.framework/Resources/bin/R CMD check --install=check:MetaCyto.install-out.txt --library=/Library/Frameworks/R.framework/Resources/library --no-vignettes --timings MetaCyto_1.33.0.tar.gz
###
##############################################################################
##############################################################################


* using log directory ‘/Users/biocbuild/bbs-3.23-bioc/meat/MetaCyto.Rcheck’
* using R Under development (unstable) (2025-11-04 r88984)
* using platform: aarch64-apple-darwin20
* R was compiled by
    Apple clang version 16.0.0 (clang-1600.0.26.6)
    GNU Fortran (GCC) 14.2.0
* running under: macOS Ventura 13.7.8
* using session charset: UTF-8
* using option ‘--no-vignettes’
* checking for file ‘MetaCyto/DESCRIPTION’ ... OK
* checking extension type ... Package
* this is package ‘MetaCyto’ version ‘1.33.0’
* checking package namespace information ... OK
* checking package dependencies ... OK
* checking if this is a source package ... OK
* checking if there is a namespace ... OK
* checking for hidden files and directories ... OK
* checking for portable file names ... OK
* checking for sufficient/correct file permissions ... OK
* checking whether package ‘MetaCyto’ can be installed ... OK
* checking installed package size ... OK
* checking package directory ... OK
* checking ‘build’ directory ... OK
* checking DESCRIPTION meta-information ... OK
* checking top-level files ... OK
* checking for left-over files ... OK
* checking index information ... OK
* checking package subdirectories ... OK
* checking code files for non-ASCII characters ... OK
* checking R files for syntax errors ... OK
* checking whether the package can be loaded ... OK
* checking whether the package can be loaded with stated dependencies ... OK
* checking whether the package can be unloaded cleanly ... OK
* checking whether the namespace can be loaded with stated dependencies ... OK
* checking whether the namespace can be unloaded cleanly ... OK
* checking dependencies in R code ... OK
* checking S3 generic/method consistency ... OK
* checking replacement functions ... OK
* checking foreign function calls ... OK
* checking R code for possible problems ... NOTE
collectData: no visible binding for global variable ‘parameter_name’
collectData: no visible binding for global variable ‘value’
panelSummary: no visible binding for global variable ‘antibodies’
panelSummary: no visible binding for global variable ‘value’
plotGA: no visible binding for global variable ‘lower’
plotGA: no visible binding for global variable ‘upper’
searchCluster : <anonymous>: no visible binding for global variable
  ‘triS’
Undefined global functions or variables:
  antibodies lower parameter_name triS upper value
* checking Rd files ... OK
* checking Rd metadata ... OK
* checking Rd cross-references ... OK
* checking for missing documentation entries ... OK
* checking for code/documentation mismatches ... OK
* checking Rd \usage sections ... OK
* checking Rd contents ... OK
* checking for unstated dependencies in examples ... OK
* checking files in ‘vignettes’ ... OK
* checking examples ... OK
Examples with CPU (user + system) or elapsed time > 5s
                      user system elapsed
autoCluster.batch   45.371 13.988  65.663
labelCluster        37.151 14.210  54.489
searchCluster.batch 11.670  4.122  17.511
flowSOM.MC           4.812  3.888   8.409
searchCluster        3.746  1.291   5.629
* checking for unstated dependencies in vignettes ... OK
* checking package vignettes ... OK
* checking running R code from vignettes ... SKIPPED
* checking re-building of vignette outputs ... SKIPPED
* checking PDF version of manual ... OK
* DONE

Status: 1 NOTE
See
  ‘/Users/biocbuild/bbs-3.23-bioc/meat/MetaCyto.Rcheck/00check.log’
for details.


Installation output

MetaCyto.Rcheck/00install.out

##############################################################################
##############################################################################
###
### Running command:
###
###   /Library/Frameworks/R.framework/Resources/bin/R CMD INSTALL MetaCyto
###
##############################################################################
##############################################################################


* installing to library ‘/Library/Frameworks/R.framework/Versions/4.6-arm64/Resources/library’
* installing *source* package ‘MetaCyto’ ...
** this is package ‘MetaCyto’ version ‘1.33.0’
** using staged installation
** R
** inst
** byte-compile and prepare package for lazy loading
** help
*** installing help indices
** building package indices
** installing vignettes
** testing if installed package can be loaded from temporary location
** testing if installed package can be loaded from final location
** testing if installed package keeps a record of temporary installation path
* DONE (MetaCyto)

Tests output


Example timings

MetaCyto.Rcheck/MetaCyto-Ex.timings

nameusersystemelapsed
autoCluster.batch45.37113.98865.663
clusterStats3.4780.9014.926
collectData0.0120.0010.014
densityPlot3.5200.9174.868
fcsInfoParser0.0270.0010.030
filterLabels000
findCutoff0.9040.1921.257
flowHC0.6210.0350.729
flowSOM.MC4.8123.8888.409
glmAnalysis0.0910.0070.110
labelCluster37.15114.21054.489
labelSummary0.0990.0060.110
markerFinder0.0090.0000.014
metaAnalysis0.0400.0050.046
nameUpdator0.3410.0150.400
panelSummary0.0050.0010.006
plotGA0.2170.0060.236
preprocessing0.1380.0040.150
preprocessing.batch0.3510.0280.418
sampleInfoParser0.0010.0000.003
searchCluster3.7461.2915.629
searchCluster.batch11.670 4.12217.511
set2Frame0.0440.0070.059