Back to Multiple platform build/check report for BioC 3.22:   simplified   long
ABCDEFGHIJKL[M]NOPQRSTUVWXYZ

This page was generated on 2025-10-28 12:04 -0400 (Tue, 28 Oct 2025).

HostnameOSArch (*)R versionInstalled pkgs
nebbiolo2Linux (Ubuntu 24.04.3 LTS)x86_644.5.1 Patched (2025-08-23 r88802) -- "Great Square Root" 4901
lconwaymacOS 12.7.6 Montereyx86_644.5.1 Patched (2025-09-10 r88807) -- "Great Square Root" 4691
kjohnson3macOS 13.7.7 Venturaarm644.5.1 Patched (2025-09-10 r88807) -- "Great Square Root" 4637
Click on any hostname to see more info about the system (e.g. compilers)      (*) as reported by 'uname -p', except on Windows and Mac OS X

Package 1299/2361HostnameOS / ArchINSTALLBUILDCHECKBUILD BIN
MicrobiotaProcess 1.21.2  (landing page)
Shuangbin Xu
Snapshot Date: 2025-10-27 13:45 -0400 (Mon, 27 Oct 2025)
git_url: https://git.bioconductor.org/packages/MicrobiotaProcess
git_branch: devel
git_last_commit: 0822a21
git_last_commit_date: 2025-09-23 21:22:57 -0400 (Tue, 23 Sep 2025)
nebbiolo2Linux (Ubuntu 24.04.3 LTS) / x86_64  OK    OK    OK  UNNEEDED, same version is already published
lconwaymacOS 12.7.6 Monterey / x86_64  OK    OK    OK    OK  UNNEEDED, same version is already published
kjohnson3macOS 13.7.7 Ventura / arm64  OK    OK    OK    OK  UNNEEDED, same version is already published


CHECK results for MicrobiotaProcess on lconway

To the developers/maintainers of the MicrobiotaProcess package:
- Allow up to 24 hours (and sometimes 48 hours) for your latest push to git@git.bioconductor.org:packages/MicrobiotaProcess.git to reflect on this report. See Troubleshooting Build Report for more information.
- Use the following Renviron settings to reproduce errors and warnings.
- If 'R CMD check' started to fail recently on the Linux builder(s) over a missing dependency, add the missing dependency to 'Suggests:' in your DESCRIPTION file. See Renviron.bioc for more information.

raw results


Summary

Package: MicrobiotaProcess
Version: 1.21.2
Command: /Library/Frameworks/R.framework/Resources/bin/R CMD check --install=check:MicrobiotaProcess.install-out.txt --library=/Library/Frameworks/R.framework/Resources/library --no-vignettes --timings MicrobiotaProcess_1.21.2.tar.gz
StartedAt: 2025-10-27 22:58:33 -0400 (Mon, 27 Oct 2025)
EndedAt: 2025-10-27 23:03:45 -0400 (Mon, 27 Oct 2025)
EllapsedTime: 312.2 seconds
RetCode: 0
Status:   OK  
CheckDir: MicrobiotaProcess.Rcheck
Warnings: 0

Command output

##############################################################################
##############################################################################
###
### Running command:
###
###   /Library/Frameworks/R.framework/Resources/bin/R CMD check --install=check:MicrobiotaProcess.install-out.txt --library=/Library/Frameworks/R.framework/Resources/library --no-vignettes --timings MicrobiotaProcess_1.21.2.tar.gz
###
##############################################################################
##############################################################################


* using log directory ‘/Users/biocbuild/bbs-3.22-bioc/meat/MicrobiotaProcess.Rcheck’
* using R version 4.5.1 Patched (2025-09-10 r88807)
* using platform: x86_64-apple-darwin20
* R was compiled by
    Apple clang version 14.0.0 (clang-1400.0.29.202)
    GNU Fortran (GCC) 14.2.0
* running under: macOS Monterey 12.7.6
* using session charset: UTF-8
* using option ‘--no-vignettes’
* checking for file ‘MicrobiotaProcess/DESCRIPTION’ ... OK
* checking extension type ... Package
* this is package ‘MicrobiotaProcess’ version ‘1.21.2’
* package encoding: UTF-8
* checking package namespace information ... OK
* checking package dependencies ... INFO
Imports includes 29 non-default packages.
Importing from so many packages makes the package vulnerable to any of
them becoming unavailable.  Move as many as possible to Suggests and
use conditionally.
* checking if this is a source package ... OK
* checking if there is a namespace ... OK
* checking for hidden files and directories ... OK
* checking for portable file names ... OK
* checking for sufficient/correct file permissions ... OK
* checking whether package ‘MicrobiotaProcess’ can be installed ... OK
* checking installed package size ... INFO
  installed size is  5.8Mb
  sub-directories of 1Mb or more:
    R         2.6Mb
    figures   1.9Mb
* checking package directory ... OK
* checking ‘build’ directory ... OK
* checking DESCRIPTION meta-information ... OK
* checking top-level files ... OK
* checking for left-over files ... OK
* checking index information ... OK
* checking package subdirectories ... OK
* checking code files for non-ASCII characters ... OK
* checking R files for syntax errors ... OK
* checking whether the package can be loaded ... OK
* checking whether the package can be loaded with stated dependencies ... OK
* checking whether the package can be unloaded cleanly ... OK
* checking whether the namespace can be loaded with stated dependencies ... OK
* checking whether the namespace can be unloaded cleanly ... OK
* checking whether startup messages can be suppressed ... OK
* checking dependencies in R code ... OK
* checking S3 generic/method consistency ... OK
* checking replacement functions ... OK
* checking foreign function calls ... OK
* checking R code for possible problems ... OK
* checking Rd files ... OK
* checking Rd metadata ... OK
* checking Rd cross-references ... NOTE
Non-topic package-anchored link(s) in Rd file 'reexports.Rd':
  ‘[magrittr:compound]{%<>%}’ ‘[magrittr:pipe]{%>%}’
  ‘[magrittr:aliases]{extract}’

See section 'Cross-references' in the 'Writing R Extensions' manual.

Found the following Rd file(s) with Rd \link{} targets missing package
anchors:
  ggrarecurve.Rd: ggplot2
Please provide package anchors for all Rd \link{} targets not in the
package itself and the base packages.
* checking for missing documentation entries ... OK
* checking for code/documentation mismatches ... OK
* checking Rd \usage sections ... OK
* checking Rd contents ... OK
* checking for unstated dependencies in examples ... OK
* checking contents of ‘data’ directory ... OK
* checking data for non-ASCII characters ... OK
* checking data for ASCII and uncompressed saves ... OK
* checking files in ‘vignettes’ ... OK
* checking examples ... OK
Examples with CPU (user + system) or elapsed time > 5s
                              user system elapsed
mp_cal_abundance-methods     8.584  0.078   8.711
mp_cal_rarecurve-methods     5.639  0.061   5.718
mp_diff_analysis-methods     5.416  0.112   5.582
mp_plot_diff_boxplot-methods 5.213  0.041   5.279
* checking for unstated dependencies in ‘tests’ ... OK
* checking tests ...
  Running ‘testthat.R’
 OK
* checking for unstated dependencies in vignettes ... OK
* checking package vignettes ... OK
* checking running R code from vignettes ... SKIPPED
* checking re-building of vignette outputs ... SKIPPED
* checking PDF version of manual ... OK
* DONE

Status: 1 NOTE
See
  ‘/Users/biocbuild/bbs-3.22-bioc/meat/MicrobiotaProcess.Rcheck/00check.log’
for details.


Installation output

MicrobiotaProcess.Rcheck/00install.out

##############################################################################
##############################################################################
###
### Running command:
###
###   /Library/Frameworks/R.framework/Resources/bin/R CMD INSTALL MicrobiotaProcess
###
##############################################################################
##############################################################################


* installing to library ‘/Library/Frameworks/R.framework/Versions/4.5-x86_64/Resources/library’
* installing *source* package ‘MicrobiotaProcess’ ...
** this is package ‘MicrobiotaProcess’ version ‘1.21.2’
** using staged installation
** R
** data
** inst
** byte-compile and prepare package for lazy loading
in method for ‘taxonomy<-’ with signature ‘x="MPSE",value="taxonomyTable"’: no definition for class “taxonomyTable”
Creating a generic function for ‘rownames<-’ from package ‘base’ in package ‘MicrobiotaProcess’
in method for ‘get_alltaxadf’ with signature ‘"phyloseq"’: no definition for class “phyloseq”
in method for ‘get_taxadf’ with signature ‘"phyloseq"’: no definition for class “phyloseq”
in method for ‘get_alphaindex’ with signature ‘"phyloseq"’: no definition for class “phyloseq”
in method for ‘get_NRI_NTI’ with signature ‘"phyloseq"’: no definition for class “phyloseq”
in method for ‘get_rarecurve’ with signature ‘"phyloseq"’: no definition for class “phyloseq”
in method for ‘get_upset’ with signature ‘"phyloseq"’: no definition for class “phyloseq”
in method for ‘get_vennlist’ with signature ‘"phyloseq"’: no definition for class “phyloseq”
in method for ‘drop_taxa’ with signature ‘"phyloseq"’: no definition for class “phyloseq”
** help
*** installing help indices
** building package indices
** installing vignettes
** testing if installed package can be loaded from temporary location
** testing if installed package can be loaded from final location
** testing if installed package keeps a record of temporary installation path
* DONE (MicrobiotaProcess)

Tests output

MicrobiotaProcess.Rcheck/tests/testthat.Rout


R version 4.5.1 Patched (2025-09-10 r88807) -- "Great Square Root"
Copyright (C) 2025 The R Foundation for Statistical Computing
Platform: x86_64-apple-darwin20

R is free software and comes with ABSOLUTELY NO WARRANTY.
You are welcome to redistribute it under certain conditions.
Type 'license()' or 'licence()' for distribution details.

R is a collaborative project with many contributors.
Type 'contributors()' for more information and
'citation()' on how to cite R or R packages in publications.

Type 'demo()' for some demos, 'help()' for on-line help, or
'help.start()' for an HTML browser interface to help.
Type 'q()' to quit R.

> library("testthat")
> library("MicrobiotaProcess")
MicrobiotaProcess v1.21.2 For help:
https://github.com/YuLab-SMU/MicrobiotaProcess/issues

If you use MicrobiotaProcess in published research, please cite the
paper:

Shuangbin Xu, Li Zhan, Wenli Tang, Qianwen Wang, Zehan Dai, Lang Zhou,
Tingze Feng, Meijun Chen, Tianzhi Wu, Erqiang Hu, Guangchuang Yu.
MicrobiotaProcess: A comprehensive R package for deep mining
microbiome. The Innovation. 2023, 4(2):100388. doi:
10.1016/j.xinn.2023.100388

Export the citation to BibTex by citation('MicrobiotaProcess')

This message can be suppressed by:
suppressPackageStartupMessages(library(MicrobiotaProcess))

Attaching package: 'MicrobiotaProcess'

The following object is masked from 'package:stats':

    filter

> test_check("MicrobiotaProcess")
[ FAIL 0 | WARN 9 | SKIP 0 | PASS 13 ]

[ FAIL 0 | WARN 9 | SKIP 0 | PASS 13 ]
> 
> proc.time()
   user  system elapsed 
 12.097   0.589  12.739 

Example timings

MicrobiotaProcess.Rcheck/MicrobiotaProcess-Ex.timings

nameusersystemelapsed
ImportDada21.8280.0711.915
ImportQiime22.9150.0883.034
MPSE0.0950.0000.096
as.treedata0.0000.0000.001
build_tree0.0010.0010.000
convert_to_treedata000
data-hmp_aerobiosis_small0.0090.0020.012
data-kostic2012crc0.0470.0040.051
data-test_otu_data0.0010.0010.002
diff_analysis0.0000.0000.001
dr_extract000
drop_taxa000
generalizedFC0.0040.0010.005
get_alltaxadf0.0000.0000.001
get_alphaindex0.0000.0010.001
get_clust0.0000.0000.001
get_coord0.0000.0010.000
get_count0.0010.0000.000
get_dist000
get_mean_median000
get_pca000
get_pcoa0.0000.0000.001
get_pvalue0.0560.0020.059
get_rarecurve000
get_sampledflist000
get_taxadf000
get_upset0.0000.0000.001
get_varct000
get_vennlist0.0000.0000.001
ggbartax0.0000.0000.001
ggbox0.0000.0000.001
ggclust0.0000.0000.001
ggdiffbox0.0000.0000.001
ggdiffclade0.0010.0000.001
ggdifftaxbar000
ggeffectsize000
ggordpoint000
ggrarecurve000
mp_adonis-methods0.0810.0020.083
mp_aggregate-methods000
mp_aggregate_clade-methods000
mp_anosim-methods1.6230.0331.664
mp_balance_clade-methods000
mp_cal_abundance-methods8.5840.0788.711
mp_cal_alpha-methods1.1360.0131.153
mp_cal_cca-methods0.9480.0170.968
mp_cal_clust-methods0.5370.0070.546
mp_cal_dist-methods2.6780.0152.702
mp_cal_divergence-methods0.0010.0000.000
mp_cal_nmds-methods0.3050.0100.315
mp_cal_pca-methods1.9640.0151.984
mp_cal_pcoa-methods0.5760.0050.582
mp_cal_pd_metric-methods000
mp_cal_rarecurve-methods5.6390.0615.718
mp_cal_rda-methods0.6780.0070.687
mp_cal_upset-methods1.0740.0091.085
mp_cal_venn-methods0.4790.0110.493
mp_decostand-methods0.3000.0040.307
mp_diff_analysis-methods5.4160.1125.582
mp_diff_clade-methods0.0000.0010.000
mp_dmn-methods000
mp_dmngroup-methods0.0010.0000.000
mp_envfit-methods2.5340.1182.664
mp_filter_taxa-methods0.8190.0240.852
mp_import_metaphlan2.2340.0132.255
mp_mantel-methods0.2070.0060.212
mp_mrpp-methods0.1360.0030.141
mp_plot_abundance-methods000
mp_plot_alpha-methods0.0010.0010.000
mp_plot_diff_boxplot-methods5.2130.0415.279
mp_plot_diff_cladogram000
mp_plot_diff_manhattan-methods2.3980.0182.425
mp_plot_dist-methods0.0010.0000.001
mp_plot_ord-methods0.0000.0000.001
mp_plot_rarecurve-methods0.0010.0000.000
mp_plot_upset-methods0.0000.0000.001
mp_plot_venn-methods0.0000.0000.001
mp_rrarefy-methods0.2930.0030.298
mp_select_as_tip-methods0.0000.0010.001
mp_stat_taxa-methods0.8610.0120.888
multi_compare0.0070.0010.008
read_qza000
show-methods0.0000.0010.000
split_data0.0020.0010.003
split_str_to_list0.0000.0010.000
theme_taxbar000