Back to Multiple platform build/check report for BioC 3.23:   simplified   long
ABCDEFGHIJKL[M]NOPQRSTUVWXYZ

This page was generated on 2025-11-22 11:39 -0500 (Sat, 22 Nov 2025).

HostnameOSArch (*)R versionInstalled pkgs
nebbiolo1Linux (Ubuntu 24.04.3 LTS)x86_64R Under development (unstable) (2025-10-20 r88955) -- "Unsuffered Consequences" 4829
lconwaymacOS 12.7.6 Montereyx86_64R Under development (unstable) (2025-10-21 r88958) -- "Unsuffered Consequences" 4603
kjohnson3macOS 13.7.7 Venturaarm64R Under development (unstable) (2025-11-04 r88984) -- "Unsuffered Consequences" 4567
Click on any hostname to see more info about the system (e.g. compilers)      (*) as reported by 'uname -p', except on Windows and Mac OS X

Package 1358/2327HostnameOS / ArchINSTALLBUILDCHECKBUILD BIN
MsBackendMetaboLights 1.5.1  (landing page)
Johannes Rainer
Snapshot Date: 2025-11-21 13:40 -0500 (Fri, 21 Nov 2025)
git_url: https://git.bioconductor.org/packages/MsBackendMetaboLights
git_branch: devel
git_last_commit: d9f698a
git_last_commit_date: 2025-11-04 02:35:39 -0500 (Tue, 04 Nov 2025)
nebbiolo1Linux (Ubuntu 24.04.3 LTS) / x86_64  OK    OK    OK  UNNEEDED, same version is already published
lconwaymacOS 12.7.6 Monterey / x86_64  OK    OK    OK    OK  UNNEEDED, same version is already published
kjohnson3macOS 13.7.7 Ventura / arm64  OK    OK    OK    OK  UNNEEDED, same version is already published


CHECK results for MsBackendMetaboLights on kjohnson3

To the developers/maintainers of the MsBackendMetaboLights package:
- Allow up to 24 hours (and sometimes 48 hours) for your latest push to git@git.bioconductor.org:packages/MsBackendMetaboLights.git to reflect on this report. See Troubleshooting Build Report for more information.
- Use the following Renviron settings to reproduce errors and warnings.
- If 'R CMD check' started to fail recently on the Linux builder(s) over a missing dependency, add the missing dependency to 'Suggests:' in your DESCRIPTION file. See Renviron.bioc for more information.

raw results


Summary

Package: MsBackendMetaboLights
Version: 1.5.1
Command: /Library/Frameworks/R.framework/Resources/bin/R CMD check --install=check:MsBackendMetaboLights.install-out.txt --library=/Library/Frameworks/R.framework/Resources/library --no-vignettes --timings MsBackendMetaboLights_1.5.1.tar.gz
StartedAt: 2025-11-21 21:10:28 -0500 (Fri, 21 Nov 2025)
EndedAt: 2025-11-21 21:21:15 -0500 (Fri, 21 Nov 2025)
EllapsedTime: 647.0 seconds
RetCode: 0
Status:   OK  
CheckDir: MsBackendMetaboLights.Rcheck
Warnings: 0

Command output

##############################################################################
##############################################################################
###
### Running command:
###
###   /Library/Frameworks/R.framework/Resources/bin/R CMD check --install=check:MsBackendMetaboLights.install-out.txt --library=/Library/Frameworks/R.framework/Resources/library --no-vignettes --timings MsBackendMetaboLights_1.5.1.tar.gz
###
##############################################################################
##############################################################################


* using log directory ‘/Users/biocbuild/bbs-3.23-bioc/meat/MsBackendMetaboLights.Rcheck’
* using R Under development (unstable) (2025-11-04 r88984)
* using platform: aarch64-apple-darwin20
* R was compiled by
    Apple clang version 16.0.0 (clang-1600.0.26.6)
    GNU Fortran (GCC) 14.2.0
* running under: macOS Ventura 13.7.8
* using session charset: UTF-8
* using option ‘--no-vignettes’
* checking for file ‘MsBackendMetaboLights/DESCRIPTION’ ... OK
* this is package ‘MsBackendMetaboLights’ version ‘1.5.1’
* package encoding: UTF-8
* checking package namespace information ... OK
* checking package dependencies ... OK
* checking if this is a source package ... OK
* checking if there is a namespace ... OK
* checking for hidden files and directories ... OK
* checking for portable file names ... OK
* checking for sufficient/correct file permissions ... OK
* checking whether package ‘MsBackendMetaboLights’ can be installed ... OK
* checking installed package size ... OK
* checking package directory ... OK
* checking ‘build’ directory ... OK
* checking DESCRIPTION meta-information ... OK
* checking top-level files ... OK
* checking for left-over files ... OK
* checking index information ... OK
* checking package subdirectories ... OK
* checking code files for non-ASCII characters ... OK
* checking R files for syntax errors ... OK
* checking whether the package can be loaded ... OK
* checking whether the package can be loaded with stated dependencies ... OK
* checking whether the package can be unloaded cleanly ... OK
* checking whether the namespace can be loaded with stated dependencies ... OK
* checking whether the namespace can be unloaded cleanly ... OK
* checking dependencies in R code ... OK
* checking S3 generic/method consistency ... OK
* checking replacement functions ... OK
* checking foreign function calls ... OK
* checking R code for possible problems ... OK
* checking Rd files ... OK
* checking Rd metadata ... OK
* checking Rd cross-references ... OK
* checking for missing documentation entries ... OK
* checking for code/documentation mismatches ... OK
* checking Rd \usage sections ... OK
* checking Rd contents ... OK
* checking for unstated dependencies in examples ... OK
* checking files in ‘vignettes’ ... OK
* checking examples ... OK
Examples with CPU (user + system) or elapsed time > 5s
                      user system elapsed
MsBackendMetaboLights 3.20   0.60  11.623
MetaboLights-utils    0.13   0.02  42.167
* checking for unstated dependencies in ‘tests’ ... OK
* checking tests ...
  Running ‘testthat.R’
 OK
* checking for unstated dependencies in vignettes ... OK
* checking package vignettes ... OK
* checking running R code from vignettes ... SKIPPED
* checking re-building of vignette outputs ... SKIPPED
* checking PDF version of manual ... OK
* DONE

Status: OK


Installation output

MsBackendMetaboLights.Rcheck/00install.out

##############################################################################
##############################################################################
###
### Running command:
###
###   /Library/Frameworks/R.framework/Resources/bin/R CMD INSTALL MsBackendMetaboLights
###
##############################################################################
##############################################################################


* installing to library ‘/Library/Frameworks/R.framework/Versions/4.6-arm64/Resources/library’
* installing *source* package ‘MsBackendMetaboLights’ ...
** this is package ‘MsBackendMetaboLights’ version ‘1.5.1’
** using staged installation
** R
** byte-compile and prepare package for lazy loading
** help
*** installing help indices
*** copying figures
** building package indices
** installing vignettes
** testing if installed package can be loaded from temporary location
** testing if installed package can be loaded from final location
** testing if installed package keeps a record of temporary installation path
* DONE (MsBackendMetaboLights)

Tests output

MsBackendMetaboLights.Rcheck/tests/testthat.Rout


R Under development (unstable) (2025-11-04 r88984) -- "Unsuffered Consequences"
Copyright (C) 2025 The R Foundation for Statistical Computing
Platform: aarch64-apple-darwin20

R is free software and comes with ABSOLUTELY NO WARRANTY.
You are welcome to redistribute it under certain conditions.
Type 'license()' or 'licence()' for distribution details.

R is a collaborative project with many contributors.
Type 'contributors()' for more information and
'citation()' on how to cite R or R packages in publications.

Type 'demo()' for some demos, 'help()' for on-line help, or
'help.start()' for an HTML browser interface to help.
Type 'q()' to quit R.

> #' MetaboLights ID: MTBLS8735
> #' ftp://ftp.ebi.ac.uk/pub/databases/metabolights/studies/public/MTBLS8735
> 
> library(testthat)
> library(MsBackendMetaboLights)
Loading required package: Spectra
Loading required package: S4Vectors
Loading required package: stats4
Loading required package: BiocGenerics
Loading required package: generics

Attaching package: 'generics'

The following objects are masked from 'package:base':

    as.difftime, as.factor, as.ordered, intersect, is.element, setdiff,
    setequal, union


Attaching package: 'BiocGenerics'

The following objects are masked from 'package:stats':

    IQR, mad, sd, var, xtabs

The following objects are masked from 'package:base':

    Filter, Find, Map, Position, Reduce, anyDuplicated, aperm, append,
    as.data.frame, basename, cbind, colnames, dirname, do.call,
    duplicated, eval, evalq, get, grep, grepl, is.unsorted, lapply,
    mapply, match, mget, order, paste, pmax, pmax.int, pmin, pmin.int,
    rank, rbind, rownames, sapply, saveRDS, table, tapply, unique,
    unsplit, which.max, which.min


Attaching package: 'S4Vectors'

The following object is masked from 'package:utils':

    findMatches

The following objects are masked from 'package:base':

    I, expand.grid, unname

Loading required package: BiocParallel
> 
> test_check("MsBackendMetaboLights")
[ FAIL 0 | WARN 0 | SKIP 0 | PASS 78 ]
> 
> ## Run tests with the unit test suite defined in the Spectra package to ensure
> ## compliance with the definitions of the MsBackend interface/class.
> be <- backendInitialize(MsBackendMetaboLights(), mtblsId = "MTBLS39",
+                         filePattern = "63A.cdf")
Used data files from the assay's column "Raw Spectral Data File" since none were available in column "Derived Spectral Data File".
> 
> library(Spectra)
> test_suite <- system.file("test_backends", "test_MsBackend",
+                           package = "Spectra")
> res <- test_dir(test_suite, stop_on_failure = TRUE)
✔ | F W  S  OK | Context

⠏ |          0 | peaks_variables                                                
⠙ |          2 | peaks_variables                                                
⠸ |          4 | peaks_variables                                                
✔ |          4 | peaks_variables

⠏ |          0 | spectra_subsetting                                             
⠋ |          1 | spectra_subsetting                                             
⠸ |         34 | spectra_subsetting                                             
⠦ |         67 | spectra_subsetting                                             
⠹ |        103 | spectra_subsetting                                             
⠴ |        136 | spectra_subsetting                                             
⠋ |        171 | spectra_subsetting                                             
⠧ |        208 | spectra_subsetting                                             
⠋ |        241 | spectra_subsetting                                             
⠦ |        277 | spectra_subsetting                                             
⠏ |        310 | spectra_subsetting                                             
⠹ |        343 | spectra_subsetting                                             
⠇ |        379 | spectra_subsetting                                             
⠇ |        409 | spectra_subsetting                                             
⠙ |        442 | spectra_subsetting                                             
⠴ |        476 | spectra_subsetting                                             
⠋ |        511 | spectra_subsetting                                             
⠹ |        543 | spectra_subsetting                                             
⠦ |        577 | spectra_subsetting                                             
⠏ |        610 | spectra_subsetting                                             
⠴ |        646 | spectra_subsetting                                             
⠏ |        680 | spectra_subsetting                                             
⠙ |        712 | spectra_subsetting                                             
⠧ |        748 | spectra_subsetting                                             
⠋ |        781 | spectra_subsetting                                             
⠦ |        817 | spectra_subsetting                                             
⠧ |        848 | spectra_subsetting                                             
⠼ |        885 | spectra_subsetting                                             
⠙ |        922 | spectra_subsetting                                             
⠼ |        955 | spectra_subsetting                                             
⠋ |        991 | spectra_subsetting                                             
⠸ |        1024 | spectra_subsetting                                            
⠏ |        1060 | spectra_subsetting                                            
⠹ |        1093 | spectra_subsetting                                            
⠴ |        1126 | spectra_subsetting                                            
⠇ |        1159 | spectra_subsetting                                            
⠼ |        1195 | spectra_subsetting                                            
⠋ |        1231 | spectra_subsetting                                            
⠸ |        1264 | spectra_subsetting                                            
⠏ |        1300 | spectra_subsetting                                            
⠹ |        1333 | spectra_subsetting                                            
⠇ |        1369 | spectra_subsetting                                            
⠼ |        1405 | spectra_subsetting                                            
⠧ |        1438 | spectra_subsetting                                            
⠙ |        1472 | spectra_subsetting                                            
⠸ |        1504 | spectra_subsetting                                            
⠏ |        1540 | spectra_subsetting                                            
⠏ |        1570 | spectra_subsetting                                            
⠋ |        1601 | spectra_subsetting                                            
⠋ |        1621 | spectra_subsetting                                            
⠸ |        1654 | spectra_subsetting                                            
⠦ |        1687 | spectra_subsetting                                            
⠹ |        1723 | spectra_subsetting                                            
⠴ |        1756 | spectra_subsetting                                            
⠇ |        1789 | spectra_subsetting                                            
⠼ |        1825 | spectra_subsetting                                            
⠧ |        1858 | spectra_subsetting                                            
⠋ |        1891 | spectra_subsetting                                            
⠸ |        1924 | spectra_subsetting                                            
⠦ |        1957 | spectra_subsetting                                            
⠦ |        1987 | spectra_subsetting                                            
⠼ |        2015 | spectra_subsetting                                            
⠦ |        2047 | spectra_subsetting                                            
⠏ |        2080 | spectra_subsetting                                            
⠹ |        2113 | spectra_subsetting                                            
⠴ |        2146 | spectra_subsetting                                            
⠇ |        2179 | spectra_subsetting                                            
⠙ |        2212 | spectra_subsetting                                            
⠹ |        2243 | spectra_subsetting                                            
⠦ |        2277 | spectra_subsetting                                            
⠇ |        2309 | spectra_subsetting                                            
⠋ |        2341 | spectra_subsetting                                            
⠋ |        2371 | spectra_subsetting                                            
⠋ |        2401 | spectra_subsetting                                            
⠼ |        2435 | spectra_subsetting                                            
⠧ |        2468 | spectra_subsetting                                            
⠸ |        2504 | spectra_subsetting                                            
⠴ |        2536 | spectra_subsetting                                            
⠇ |        2569 | spectra_subsetting                                            
⠙ |        2602 | spectra_subsetting                                            
⠧ |        2638 | spectra_subsetting                                            
⠙ |        2672 | spectra_subsetting                                            
⠸ |        2704 | spectra_subsetting                                            
⠦ |        2737 | spectra_subsetting                                            
⠏ |        2770 | spectra_subsetting                                            
⠹ |        2803 | spectra_subsetting                                            
⠴ |        2836 | spectra_subsetting                                            
⠇ |        2869 | spectra_subsetting                                            
⠋ |        2901 | spectra_subsetting                                            
⠙ |        2932 | spectra_subsetting                                            
⠼ |        2965 | spectra_subsetting                                            
⠼ |        2995 | spectra_subsetting                                            
⠼ |        3025 | spectra_subsetting                                            
⠇ |        3059 | spectra_subsetting                                            
⠋ |        3091 | spectra_subsetting                                            
⠦ |        3127 | spectra_subsetting                                            
⠏ |        3160 | spectra_subsetting                                            
⠹ |        3193 | spectra_subsetting                                            
⠸ |        3224 | spectra_subsetting                                            
⠴ |        3256 | spectra_subsetting                                            
⠙ |        3292 | spectra_subsetting                                            
⠙ |        3322 | spectra_subsetting                                            
⠧ |        3358 | spectra_subsetting                                            
⠋ |        3391 | spectra_subsetting                                            
⠸ |        3424 | spectra_subsetting                                            
⠏ |        3460 | spectra_subsetting                                            
⠋ |        3491 | spectra_subsetting                                            
⠸ |        3524 | spectra_subsetting                                            
⠇ |        3559 | spectra_subsetting                                            
⠇ |        3589 | spectra_subsetting                                            
⠙ |        3622 | spectra_subsetting                                            
⠧ |        3658 | spectra_subsetting                                            
⠸ |        3694 | spectra_subsetting                                            
⠦ |        3727 | spectra_subsetting                                            
⠏ |        3760 | spectra_subsetting                                            
⠸ |        3794 | spectra_subsetting                                            
⠹ |        3823 | spectra_subsetting                                            
⠴ |        3856 | spectra_subsetting                                            
⠴ |        3886 | spectra_subsetting                                            
⠙ |        3922 | spectra_subsetting                                            
⠧ |        3958 | spectra_subsetting                                            
⠸ |        3994 | spectra_subsetting                                            
⠸ |        4024 | spectra_subsetting                                            
⠋ |        4051 | spectra_subsetting                                            
⠸ |        4084 | spectra_subsetting                                            
⠦ |        4117 | spectra_subsetting                                            
⠦ |        4147 | spectra_subsetting                                            
⠏ |        4180 | spectra_subsetting                                            
⠏ |        4210 | spectra_subsetting                                            
⠏ |        4240 | spectra_subsetting                                            
⠏ |        4270 | spectra_subsetting                                            
⠹ |        4303 | spectra_subsetting                                            
⠴ |        4336 | spectra_subsetting                                            
⠇ |        4369 | spectra_subsetting                                            
⠇ |        4399 | spectra_subsetting                                            
⠙ |        4432 | spectra_subsetting                                            
⠙ |        4462 | spectra_subsetting                                            
⠼ |        4495 | spectra_subsetting                                            
⠧ |        4528 | spectra_subsetting                                            
⠋ |        4561 | spectra_subsetting                                            
⠸ |        4594 | spectra_subsetting                                            
⠦ |        4627 | spectra_subsetting                                            
⠹ |        4663 | spectra_subsetting                                            
⠴ |        4696 | spectra_subsetting                                            
⠇ |        4729 | spectra_subsetting                                            
⠙ |        4762 | spectra_subsetting                                            
⠸ |        4794 | spectra_subsetting                                            
⠼ |        4825 | spectra_subsetting                                            
⠼ |        4855 | spectra_subsetting                                            
⠇ |        4889 | spectra_subsetting                                            
⠏ |        4920 | spectra_subsetting                                            
⠸ |        4954 | spectra_subsetting                                            
⠸ |        4984 | spectra_subsetting                                            
⠦ |        4997 | spectra_subsetting                                            
⠇ |        4999 | spectra_subsetting                                            
⠋ |        5001 | spectra_subsetting                                            
⠹ |        5003 | spectra_subsetting                                            
⠼ |        5005 | spectra_subsetting                                            
⠦ |        5007 | spectra_subsetting                                            
⠇ |        5009 | spectra_subsetting                                            
⠏ |        5010 | spectra_subsetting                                            
⠙ |        5012 | spectra_subsetting                                            
⠸ |        5014 | spectra_subsetting                                            
⠼ |        5015 | spectra_subsetting                                            
⠴ |        5016 | spectra_subsetting                                            
⠧ |        5018 | spectra_subsetting                                            
⠏ |        5020 | spectra_subsetting                                            
⠙ |        5022 | spectra_subsetting                                            
⠸ |        5024 | spectra_subsetting                                            
⠴ |        5026 | spectra_subsetting                                            
⠧ |        5028 | spectra_subsetting                                            
⠏ |        5030 | spectra_subsetting                                            
⠋ |        5031 | spectra_subsetting                                            
⠹ |        5033 | spectra_subsetting                                            
⠸ |        5034 | spectra_subsetting                                            
⠴ |        5036 | spectra_subsetting                                            
⠧ |        5038 | spectra_subsetting                                            
⠏ |        5040 | spectra_subsetting                                            
⠋ |        5041 | spectra_subsetting                                            
⠙ |        5042 | spectra_subsetting                                            
⠸ |        5044 | spectra_subsetting                                            
⠴ |        5046 | spectra_subsetting                                            
⠧ |        5048 | spectra_subsetting                                            
⠏ |        5050 | spectra_subsetting                                            
⠋ |        5051 | spectra_subsetting                                            
⠹ |        5053 | spectra_subsetting                                            
⠼ |        5055 | spectra_subsetting                                            
⠴ |        5056 | spectra_subsetting                                            
⠦ |        5057 | spectra_subsetting                                            
⠇ |        5059 | spectra_subsetting                                            
⠏ |        5060 | spectra_subsetting                                            
⠙ |        5062 | spectra_subsetting                                            
⠸ |        5064 | spectra_subsetting                                            
⠴ |        5066 | spectra_subsetting                                            
⠧ |        5068 | spectra_subsetting                                            
⠏ |        5070 | spectra_subsetting                                            
⠙ |        5072 | spectra_subsetting                                            
⠸ |        5074 | spectra_subsetting                                            
⠴ |        5076 | spectra_subsetting                                            
⠦ |        5077 | spectra_subsetting                                            
⠇ |        5079 | spectra_subsetting                                            
⠋ |        5081 | spectra_subsetting                                            
⠹ |        5083 | spectra_subsetting                                            
⠼ |        5085 | spectra_subsetting                                            
⠦ |        5087 | spectra_subsetting                                            
⠇ |        5089 | spectra_subsetting                                            
⠋ |        5091 | spectra_subsetting                                            
⠹ |        5093 | spectra_subsetting                                            
⠸ |        5094 | spectra_subsetting                                            
⠴ |        5096 | spectra_subsetting                                            
⠧ |        5098 | spectra_subsetting                                            
⠏ |        5100 | spectra_subsetting                                            
⠙ |        5102 | spectra_subsetting                                            
⠹ |        5103 | spectra_subsetting                                            
⠼ |        5105 | spectra_subsetting                                            
⠦ |        5107 | spectra_subsetting                                            
⠇ |        5109 | spectra_subsetting                                            
⠏ |        5110 | spectra_subsetting                                            
⠙ |        5112 | spectra_subsetting                                            
⠸ |        5114 | spectra_subsetting                                            
⠼ |        5115 | spectra_subsetting                                            
⠦ |        5117 | spectra_subsetting                                            
⠇ |        5119 | spectra_subsetting                                            
⠏ |        5120 | spectra_subsetting                                            
⠙ |        5122 | spectra_subsetting                                            
⠸ |        5124 | spectra_subsetting                                            
⠴ |        5126 | spectra_subsetting                                            
⠧ |        5128 | spectra_subsetting                                            
⠏ |        5130 | spectra_subsetting                                            
⠋ |        5131 | spectra_subsetting                                            
⠹ |        5133 | spectra_subsetting                                            
⠼ |        5135 | spectra_subsetting                                            
⠦ |        5137 | spectra_subsetting                                            
⠇ |        5139 | spectra_subsetting                                            
⠋ |        5141 | spectra_subsetting                                            
⠹ |        5143 | spectra_subsetting                                            
⠼ |        5145 | spectra_subsetting                                            
⠦ |        5147 | spectra_subsetting                                            
⠇ |        5149 | spectra_subsetting                                            
⠏ |        5150 | spectra_subsetting                                            
⠙ |        5152 | spectra_subsetting                                            
⠸ |        5154 | spectra_subsetting                                            
⠴ |        5156 | spectra_subsetting                                            
⠧ |        5158 | spectra_subsetting                                            
⠏ |        5160 | spectra_subsetting                                            
⠋ |        5161 | spectra_subsetting                                            
⠹ |        5163 | spectra_subsetting                                            
⠼ |        5165 | spectra_subsetting                                            
⠦ |        5167 | spectra_subsetting                                            
⠇ |        5169 | spectra_subsetting                                            
⠋ |        5171 | spectra_subsetting                                            
⠹ |        5173 | spectra_subsetting                                            
⠼ |        5175 | spectra_subsetting                                            
⠦ |        5177 | spectra_subsetting                                            
⠇ |        5179 | spectra_subsetting                                            
⠋ |        5181 | spectra_subsetting                                            
⠹ |        5183 | spectra_subsetting                                            
⠼ |        5185 | spectra_subsetting                                            
⠦ |        5187 | spectra_subsetting                                            
⠧ |        5188 | spectra_subsetting                                            
⠏ |        5190 | spectra_subsetting                                            
⠙ |        5192 | spectra_subsetting                                            
⠸ |        5194 | spectra_subsetting                                            
⠴ |        5196 | spectra_subsetting                                            
⠧ |        5198 | spectra_subsetting                                            
⠏ |        5200 | spectra_subsetting                                            
⠙ |        5202 | spectra_subsetting                                            
⠹ |        5203 | spectra_subsetting                                            
⠼ |        5205 | spectra_subsetting                                            
⠦ |        5207 | spectra_subsetting                                            
⠇ |        5209 | spectra_subsetting                                            
⠏ |        5210 | spectra_subsetting                                            
⠙ |        5212 | spectra_subsetting                                            
⠸ |        5214 | spectra_subsetting                                            
⠴ |        5216 | spectra_subsetting                                            
⠧ |        5218 | spectra_subsetting                                            
⠏ |        5220 | spectra_subsetting                                            
⠙ |        5222 | spectra_subsetting                                            
⠹ |        5223 | spectra_subsetting                                            
⠼ |        5225 | spectra_subsetting                                            
⠦ |        5227 | spectra_subsetting                                            
⠧ |        5228 | spectra_subsetting                                            
⠏ |        5230 | spectra_subsetting                                            
⠙ |        5232 | spectra_subsetting                                            
⠸ |        5234 | spectra_subsetting                                            
⠴ |        5236 | spectra_subsetting                                            
⠧ |        5238 | spectra_subsetting                                            
⠏ |        5240 | spectra_subsetting                                            
⠋ |        5241 | spectra_subsetting                                            
⠹ |        5243 | spectra_subsetting                                            
⠼ |        5245 | spectra_subsetting                                            
⠦ |        5247 | spectra_subsetting                                            
⠇ |        5249 | spectra_subsetting                                            
⠋ |        5251 | spectra_subsetting                                            
⠹ |        5253 | spectra_subsetting                                            
⠼ |        5255 | spectra_subsetting                                            
⠦ |        5257 | spectra_subsetting                                            
⠇ |        5259 | spectra_subsetting                                            
⠋ |        5261 | spectra_subsetting                                            
⠙ |        5262 | spectra_subsetting                                            
⠸ |        5264 | spectra_subsetting                                            
⠴ |        5266 | spectra_subsetting                                            
⠧ |        5268 | spectra_subsetting                                            
⠏ |        5270 | spectra_subsetting                                            
⠋ |        5271 | spectra_subsetting                                            
⠹ |        5273 | spectra_subsetting                                            
⠼ |        5275 | spectra_subsetting                                            
⠦ |        5277 | spectra_subsetting                                            
⠇ |        5279 | spectra_subsetting                                            
⠋ |        5281 | spectra_subsetting                                            
⠹ |        5283 | spectra_subsetting                                            
⠼ |        5285 | spectra_subsetting                                            
⠦ |        5287 | spectra_subsetting                                            
⠇ |        5289 | spectra_subsetting                                            
⠏ |        5290 | spectra_subsetting                                            
⠙ |        5292 | spectra_subsetting                                            
⠸ |        5294 | spectra_subsetting                                            
⠴ |        5296 | spectra_subsetting                                            
⠦ |        5297 | spectra_subsetting                                            
⠇ |        5299 | spectra_subsetting                                            
⠋ |        5301 | spectra_subsetting                                            
⠙ |        5302 | spectra_subsetting                                            
⠸ |        5304 | spectra_subsetting                                            
⠴ |        5306 | spectra_subsetting                                            
⠦ |        5307 | spectra_subsetting                                            
⠇ |        5309 | spectra_subsetting                                            
⠋ |        5311 | spectra_subsetting                                            
⠙ |        5312 | spectra_subsetting                                            
⠸ |        5314 | spectra_subsetting                                            
⠴ |        5316 | spectra_subsetting                                            
⠧ |        5318 | spectra_subsetting                                            
⠏ |        5320 | spectra_subsetting                                            
⠙ |        5322 | spectra_subsetting                                            
⠸ |        5324 | spectra_subsetting                                            
⠴ |        5326 | spectra_subsetting                                            
⠦ |        5327 | spectra_subsetting                                            
⠇ |        5329 | spectra_subsetting                                            
⠋ |        5331 | spectra_subsetting                                            
⠹ |        5333 | spectra_subsetting                                            
⠼ |        5335 | spectra_subsetting                                            
⠦ |        5337 | spectra_subsetting                                            
⠇ |        5339 | spectra_subsetting                                            
⠏ |        5340 | spectra_subsetting                                            
⠙ |        5342 | spectra_subsetting                                            
⠸ |        5344 | spectra_subsetting                                            
⠴ |        5346 | spectra_subsetting                                            
⠦ |        5347 | spectra_subsetting                                            
⠇ |        5349 | spectra_subsetting                                            
⠋ |        5351 | spectra_subsetting                                            
⠹ |        5353 | spectra_subsetting                                            
⠼ |        5355 | spectra_subsetting                                            
⠦ |        5357 | spectra_subsetting                                            
⠇ |        5359 | spectra_subsetting                                            
⠋ |        5361 | spectra_subsetting                                            
⠹ |        5363 | spectra_subsetting                                            
⠼ |        5365 | spectra_subsetting                                            
⠦ |        5367 | spectra_subsetting                                            
⠧ |        5368 | spectra_subsetting                                            
⠏ |        5370 | spectra_subsetting                                            
⠙ |        5372 | spectra_subsetting                                            
⠹ |        5373 | spectra_subsetting                                            
⠼ |        5375 | spectra_subsetting                                            
⠦ |        5377 | spectra_subsetting                                            
⠧ |        5378 | spectra_subsetting                                            
⠏ |        5380 | spectra_subsetting                                            
⠙ |        5382 | spectra_subsetting                                            
⠸ |        5384 | spectra_subsetting                                            
⠴ |        5386 | spectra_subsetting                                            
⠧ |        5388 | spectra_subsetting                                            
⠏ |        5390 | spectra_subsetting                                            
⠙ |        5392 | spectra_subsetting                                            
⠸ |        5394 | spectra_subsetting                                            
⠴ |        5396 | spectra_subsetting                                            
⠧ |        5398 | spectra_subsetting                                            
⠇ |        5399 | spectra_subsetting                                            
⠋ |        5401 | spectra_subsetting                                            
⠹ |        5403 | spectra_subsetting                                            
⠸ |        5404 | spectra_subsetting                                            
⠴ |        5406 | spectra_subsetting                                            
⠧ |        5408 | spectra_subsetting                                            
⠏ |        5410 | spectra_subsetting                                            
⠋ |        5411 | spectra_subsetting                                            
⠹ |        5413 | spectra_subsetting                                            
⠸ |        5414 | spectra_subsetting                                            
⠼ |        5415 | spectra_subsetting                                            
⠦ |        5417 | spectra_subsetting                                            
⠇ |        5419 | spectra_subsetting                                            
⠋ |        5421 | spectra_subsetting                                            
⠹ |        5423 | spectra_subsetting                                            
⠼ |        5425 | spectra_subsetting                                            
⠦ |        5427 | spectra_subsetting                                            
⠇ |        5429 | spectra_subsetting                                            
⠋ |        5431 | spectra_subsetting                                            
⠹ |        5433 | spectra_subsetting                                            
⠼ |        5435 | spectra_subsetting                                            
⠦ |        5437 | spectra_subsetting                                            
⠇ |        5439 | spectra_subsetting                                            
⠋ |        5441 | spectra_subsetting                                            
⠹ |        5443 | spectra_subsetting                                            
⠸ |        5444 | spectra_subsetting                                            
⠴ |        5446 | spectra_subsetting                                            
⠧ |        5448 | spectra_subsetting                                            
⠇ |        5449 | spectra_subsetting                                            
⠋ |        5451 | spectra_subsetting                                            
⠹ |        5453 | spectra_subsetting                                            
⠼ |        5455 | spectra_subsetting                                            
⠦ |        5457 | spectra_subsetting                                            
⠇ |        5459 | spectra_subsetting                                            
⠏ |        5460 | spectra_subsetting                                            
⠙ |        5462 | spectra_subsetting                                            
⠸ |        5464 | spectra_subsetting                                            
⠼ |        5465 | spectra_subsetting                                            
⠦ |        5467 | spectra_subsetting                                            
⠇ |        5469 | spectra_subsetting                                            
⠋ |        5471 | spectra_subsetting                                            
⠹ |        5473 | spectra_subsetting                                            
⠼ |        5475 | spectra_subsetting                                            
⠦ |        5477 | spectra_subsetting                                            
⠇ |        5479 | spectra_subsetting                                            
⠋ |        5481 | spectra_subsetting                                            
⠹ |        5483 | spectra_subsetting                                            
⠼ |        5485 | spectra_subsetting                                            
⠦ |        5487 | spectra_subsetting                                            
⠇ |        5489 | spectra_subsetting                                            
⠋ |        5491 | spectra_subsetting                                            
⠹ |        5493 | spectra_subsetting                                            
⠼ |        5495 | spectra_subsetting                                            
⠦ |        5497 | spectra_subsetting                                            
⠧ |        5498 | spectra_subsetting                                            
⠏ |        5500 | spectra_subsetting                                            
⠙ |        5502 | spectra_subsetting                                            
⠸ |        5504 | spectra_subsetting                                            
⠴ |        5506 | spectra_subsetting                                            
⠧ |        5508 | spectra_subsetting                                            
⠏ |        5510 | spectra_subsetting                                            
⠙ |        5512 | spectra_subsetting                                            
⠸ |        5514 | spectra_subsetting                                            
⠴ |        5516 | spectra_subsetting                                            
⠧ |        5518 | spectra_subsetting                                            
⠏ |        5520 | spectra_subsetting                                            
⠙ |        5522 | spectra_subsetting                                            
⠸ |        5524 | spectra_subsetting                                            
⠴ |        5526 | spectra_subsetting                                            
⠧ |        5528 | spectra_subsetting                                            
⠏ |        5530 | spectra_subsetting                                            
⠋ |        5531 | spectra_subsetting                                            
⠹ |        5533 | spectra_subsetting                                            
⠸ |        5534 | spectra_subsetting                                            
⠴ |        5536 | spectra_subsetting                                            
⠧ |        5538 | spectra_subsetting                                            
⠇ |        5539 | spectra_subsetting                                            
⠋ |        5541 | spectra_subsetting                                            
⠹ |        5543 | spectra_subsetting                                            
⠼ |        5545 | spectra_subsetting                                            
⠦ |        5547 | spectra_subsetting                                            
⠇ |        5549 | spectra_subsetting                                            
⠋ |        5551 | spectra_subsetting                                            
⠙ |        5552 | spectra_subsetting                                            
⠹ |        5553 | spectra_subsetting                                            
⠼ |        5555 | spectra_subsetting                                            
⠦ |        5557 | spectra_subsetting                                            
⠧ |        5558 | spectra_subsetting                                            
⠇ |        5559 | spectra_subsetting                                            
⠋ |        5561 | spectra_subsetting                                            
⠹ |        5563 | spectra_subsetting                                            
⠼ |        5565 | spectra_subsetting                                            
⠦ |        5567 | spectra_subsetting                                            
⠇ |        5569 | spectra_subsetting                                            
⠋ |        5571 | spectra_subsetting                                            
⠹ |        5573 | spectra_subsetting                                            
⠸ |        5574 | spectra_subsetting                                            
⠴ |        5576 | spectra_subsetting                                            
⠧ |        5578 | spectra_subsetting                                            
⠏ |        5580 | spectra_subsetting                                            
⠙ |        5582 | spectra_subsetting                                            
⠸ |        5584 | spectra_subsetting                                            
⠼ |        5585 | spectra_subsetting                                            
⠦ |        5587 | spectra_subsetting                                            
⠇ |        5589 | spectra_subsetting                                            
⠋ |        5591 | spectra_subsetting                                            
⠹ |        5593 | spectra_subsetting                                            
⠼ |        5595 | spectra_subsetting                                            
⠴ |        5596 | spectra_subsetting                                            
⠧ |        5598 | spectra_subsetting                                            
⠏ |        5600 | spectra_subsetting                                            
⠋ |        5601 | spectra_subsetting                                            
⠹ |        5603 | spectra_subsetting                                            
⠸ |        5604 | spectra_subsetting                                            
⠴ |        5606 | spectra_subsetting                                            
⠧ |        5608 | spectra_subsetting                                            
⠇ |        5609 | spectra_subsetting                                            
⠋ |        5611 | spectra_subsetting                                            
⠙ |        5612 | spectra_subsetting                                            
⠹ |        5613 | spectra_subsetting                                            
⠼ |        5615 | spectra_subsetting                                            
⠦ |        5617 | spectra_subsetting                                            
⠧ |        5618 | spectra_subsetting                                            
⠇ |        5619 | spectra_subsetting                                            
⠋ |        5621 | spectra_subsetting                                            
⠙ |        5622 | spectra_subsetting                                            
⠸ |        5624 | spectra_subsetting                                            
⠴ |        5626 | spectra_subsetting                                            
⠧ |        5628 | spectra_subsetting                                            
⠏ |        5630 | spectra_subsetting                                            
⠋ |        5631 | spectra_subsetting                                            
⠹ |        5633 | spectra_subsetting                                            
⠼ |        5635 | spectra_subsetting                                            
⠦ |        5637 | spectra_subsetting                                            
⠇ |        5639 | spectra_subsetting                                            
⠋ |        5641 | spectra_subsetting                                            
⠙ |        5642 | spectra_subsetting                                            
⠸ |        5644 | spectra_subsetting                                            
⠴ |        5646 | spectra_subsetting                                            
⠦ |        5647 | spectra_subsetting                                            
⠧ |        5648 | spectra_subsetting                                            
⠇ |        5649 | spectra_subsetting                                            
⠏ |        5650 | spectra_subsetting                                            
⠙ |        5652 | spectra_subsetting                                            
⠹ |        5653 | spectra_subsetting                                            
⠸ |        5654 | spectra_subsetting                                            
⠼ |        5655 | spectra_subsetting                                            
⠴ |        5656 | spectra_subsetting                                            
⠧ |        5658 | spectra_subsetting                                            
⠇ |        5659 | spectra_subsetting                                            
⠋ |        5661 | spectra_subsetting                                            
⠹ |        5663 | spectra_subsetting                                            
⠼ |        5665 | spectra_subsetting                                            
⠦ |        5667 | spectra_subsetting                                            
⠧ |        5668 | spectra_subsetting                                            
⠇ |        5669 | spectra_subsetting                                            
⠏ |        5670 | spectra_subsetting                                            
⠙ |        5672 | spectra_subsetting                                            
⠹ |        5673 | spectra_subsetting                                            
⠼ |        5675 | spectra_subsetting                                            
⠦ |        5677 | spectra_subsetting                                            
⠧ |        5678 | spectra_subsetting                                            
⠇ |        5679 | spectra_subsetting                                            
⠏ |        5680 | spectra_subsetting                                            
⠙ |        5682 | spectra_subsetting                                            
⠸ |        5684 | spectra_subsetting                                            
⠴ |        5686 | spectra_subsetting                                            
⠧ |        5688 | spectra_subsetting                                            
⠏ |        5690 | spectra_subsetting                                            
⠙ |        5692 | spectra_subsetting                                            
⠹ |        5693 | spectra_subsetting                                            
⠼ |        5695 | spectra_subsetting                                            
⠴ |        5696 | spectra_subsetting                                            
⠧ |        5698 | spectra_subsetting                                            
⠏ |        5700 | spectra_subsetting                                            
⠙ |        5702 | spectra_subsetting                                            
⠸ |        5704 | spectra_subsetting                                            
⠼ |        5705 | spectra_subsetting                                            
⠦ |        5707 | spectra_subsetting                                            
⠇ |        5709 | spectra_subsetting                                            
⠏ |        5710 | spectra_subsetting                                            
⠋ |        5711 | spectra_subsetting                                            
⠹ |        5713 | spectra_subsetting                                            
⠸ |        5714 | spectra_subsetting                                            
⠴ |        5716 | spectra_subsetting                                            
⠧ |        5718 | spectra_subsetting                                            
⠇ |        5719 | spectra_subsetting                                            
⠏ |        5720 | spectra_subsetting                                            
⠙ |        5722 | spectra_subsetting                                            
⠸ |        5724 | spectra_subsetting                                            
⠼ |        5725 | spectra_subsetting                                            
⠦ |        5727 | spectra_subsetting                                            
⠇ |        5729 | spectra_subsetting                                            
⠏ |        5730 | spectra_subsetting                                            
⠙ |        5732 | spectra_subsetting                                            
⠸ |        5734 | spectra_subsetting                                            
⠴ |        5736 | spectra_subsetting                                            
⠧ |        5738 | spectra_subsetting                                            
⠏ |        5740 | spectra_subsetting                                            
⠙ |        5742 | spectra_subsetting                                            
⠸ |        5744 | spectra_subsetting                                            
⠴ |        5746 | spectra_subsetting                                            
⠧ |        5748 | spectra_subsetting                                            
⠏ |        5750 | spectra_subsetting                                            
⠙ |        5752 | spectra_subsetting                                            
⠸ |        5754 | spectra_subsetting                                            
⠴ |        5756 | spectra_subsetting                                            
⠧ |        5758 | spectra_subsetting                                            
⠏ |        5760 | spectra_subsetting                                            
⠙ |        5762 | spectra_subsetting                                            
⠸ |        5764 | spectra_subsetting                                            
⠴ |        5766 | spectra_subsetting                                            
⠦ |        5767 | spectra_subsetting                                            
⠇ |        5769 | spectra_subsetting                                            
⠋ |        5771 | spectra_subsetting                                            
⠹ |        5773 | spectra_subsetting                                            
⠼ |        5775 | spectra_subsetting                                            
⠦ |        5777 | spectra_subsetting                                            
⠇ |        5779 | spectra_subsetting                                            
⠏ |        5780 | spectra_subsetting                                            
⠙ |        5782 | spectra_subsetting                                            
⠸ |        5784 | spectra_subsetting                                            
⠼ |        5785 | spectra_subsetting                                            
⠦ |        5787 | spectra_subsetting                                            
⠇ |        5789 | spectra_subsetting                                            
⠋ |        5791 | spectra_subsetting                                            
⠹ |        5793 | spectra_subsetting                                            
⠼ |        5795 | spectra_subsetting                                            
⠦ |        5797 | spectra_subsetting                                            
⠇ |        5799 | spectra_subsetting                                            
⠋ |        5801 | spectra_subsetting                                            
⠹ |        5803 | spectra_subsetting                                            
⠼ |        5805 | spectra_subsetting                                            
⠦ |        5807 | spectra_subsetting                                            
⠧ |        5808 | spectra_subsetting                                            
⠏ |        5810 | spectra_subsetting                                            
⠋ |        5811 | spectra_subsetting                                            
⠹ |        5813 | spectra_subsetting                                            
⠼ |        5815 | spectra_subsetting                                            
⠴ |        5816 | spectra_subsetting                                            
⠧ |        5818 | spectra_subsetting                                            
⠏ |        5820 | spectra_subsetting                                            
⠋ |        5821 | spectra_subsetting                                            
⠹ |        5823 | spectra_subsetting                                            
⠼ |        5825 | spectra_subsetting                                            
⠴ |        5826 | spectra_subsetting                                            
⠧ |        5828 | spectra_subsetting                                            
⠏ |        5830 | spectra_subsetting                                            
⠙ |        5832 | spectra_subsetting                                            
⠸ |        5834 | spectra_subsetting                                            
⠴ |        5836 | spectra_subsetting                                            
⠧ |        5838 | spectra_subsetting                                            
⠏ |        5840 | spectra_subsetting                                            
⠙ |        5842 | spectra_subsetting                                            
⠸ |        5844 | spectra_subsetting                                            
⠴ |        5846 | spectra_subsetting                                            
⠦ |        5847 | spectra_subsetting                                            
⠇ |        5849 | spectra_subsetting                                            
⠋ |        5851 | spectra_subsetting                                            
⠹ |        5853 | spectra_subsetting                                            
⠸ |        5854 | spectra_subsetting                                            
⠴ |        5856 | spectra_subsetting                                            
⠧ |        5858 | spectra_subsetting                                            
⠏ |        5860 | spectra_subsetting                                            
⠙ |        5862 | spectra_subsetting                                            
⠸ |        5864 | spectra_subsetting                                            
⠴ |        5866 | spectra_subsetting                                            
⠦ |        5867 | spectra_subsetting                                            
⠇ |        5869 | spectra_subsetting                                            
⠋ |        5871 | spectra_subsetting                                            
⠹ |        5873 | spectra_subsetting                                            
⠼ |        5875 | spectra_subsetting                                            
⠦ |        5877 | spectra_subsetting                                            
⠇ |        5879 | spectra_subsetting                                            
⠋ |        5881 | spectra_subsetting                                            
⠹ |        5883 | spectra_subsetting                                            
⠼ |        5885 | spectra_subsetting                                            
⠦ |        5887 | spectra_subsetting                                            
⠧ |        5888 | spectra_subsetting                                            
⠏ |        5890 | spectra_subsetting                                            
⠙ |        5892 | spectra_subsetting                                            
⠸ |        5894 | spectra_subsetting                                            
⠴ |        5896 | spectra_subsetting                                            
⠧ |        5898 | spectra_subsetting                                            
⠏ |        5900 | spectra_subsetting                                            
⠙ |        5902 | spectra_subsetting                                            
⠸ |        5904 | spectra_subsetting                                            
⠴ |        5906 | spectra_subsetting                                            
⠧ |        5908 | spectra_subsetting                                            
⠏ |        5910 | spectra_subsetting                                            
⠙ |        5912 | spectra_subsetting                                            
⠸ |        5914 | spectra_subsetting                                            
⠴ |        5916 | spectra_subsetting                                            
⠧ |        5918 | spectra_subsetting                                            
⠏ |        5920 | spectra_subsetting                                            
⠙ |        5922 | spectra_subsetting                                            
⠹ |        5923 | spectra_subsetting                                            
⠼ |        5925 | spectra_subsetting                                            
⠦ |        5927 | spectra_subsetting                                            
⠇ |        5929 | spectra_subsetting                                            
⠋ |        5931 | spectra_subsetting                                            
⠹ |        5933 | spectra_subsetting                                            
⠼ |        5935 | spectra_subsetting                                            
⠦ |        5937 | spectra_subsetting                                            
⠇ |        5939 | spectra_subsetting                                            
⠋ |        5941 | spectra_subsetting                                            
⠹ |        5943 | spectra_subsetting                                            
⠼ |        5945 | spectra_subsetting                                            
⠦ |        5947 | spectra_subsetting                                            
⠇ |        5949 | spectra_subsetting                                            
⠋ |        5951 | spectra_subsetting                                            
⠹ |        5953 | spectra_subsetting                                            
⠼ |        5955 | spectra_subsetting                                            
⠦ |        5957 | spectra_subsetting                                            
⠇ |        5959 | spectra_subsetting                                            
⠋ |        5961 | spectra_subsetting                                            
⠹ |        5963 | spectra_subsetting                                            
⠼ |        5965 | spectra_subsetting                                            
⠦ |        5967 | spectra_subsetting                                            
⠇ |        5969 | spectra_subsetting                                            
⠋ |        5971 | spectra_subsetting                                            
⠹ |        5973 | spectra_subsetting                                            
⠼ |        5975 | spectra_subsetting                                            
⠦ |        5977 | spectra_subsetting                                            
⠇ |        5979 | spectra_subsetting                                            
⠋ |        5981 | spectra_subsetting                                            
⠹ |        5983 | spectra_subsetting                                            
⠸ |        5984 | spectra_subsetting                                            
⠴ |        5986 | spectra_subsetting                                            
⠧ |        5988 | spectra_subsetting                                            
⠇ |        5989 | spectra_subsetting                                            
⠋ |        5991 | spectra_subsetting                                            
⠹ |        5993 | spectra_subsetting                                            
⠼ |        5995 | spectra_subsetting                                            
⠦ |        5997 | spectra_subsetting                                            
⠇ |        5999 | spectra_subsetting                                            
⠏ |        6000 | spectra_subsetting                                            
⠙ |        6002 | spectra_subsetting                                            
⠸ |        6004 | spectra_subsetting                                            
⠴ |        6006 | spectra_subsetting                                            
⠧ |        6008 | spectra_subsetting                                            
⠏ |        6010 | spectra_subsetting                                            
⠙ |        6012 | spectra_subsetting                                            
⠸ |        6014 | spectra_subsetting                                            
⠴ |        6016 | spectra_subsetting                                            
⠧ |        6018 | spectra_subsetting                                            
⠇ |        6019 | spectra_subsetting                                            
⠏ |        6020 | spectra_subsetting                                            
⠙ |        6022 | spectra_subsetting                                            
⠹ |        6023 | spectra_subsetting                                            
⠼ |        6025 | spectra_subsetting                                            
⠦ |        6027 | spectra_subsetting                                            
⠇ |        6029 | spectra_subsetting                                            
⠋ |        6031 | spectra_subsetting                                            
⠹ |        6033 | spectra_subsetting                                            
⠼ |        6035 | spectra_subsetting                                            
⠦ |        6037 | spectra_subsetting                                            
⠇ |        6039 | spectra_subsetting                                            
⠋ |        6041 | spectra_subsetting                                            
⠹ |        6043 | spectra_subsetting                                            
⠼ |        6045 | spectra_subsetting                                            
⠦ |        6047 | spectra_subsetting                                            
⠇ |        6049 | spectra_subsetting                                            
⠋ |        6051 | spectra_subsetting                                            
⠹ |        6053 | spectra_subsetting                                            
⠸ |        6054 | spectra_subsetting                                            
⠴ |        6056 | spectra_subsetting                                            
⠧ |        6058 | spectra_subsetting                                            
⠏ |        6060 | spectra_subsetting                                            
⠙ |        6062 | spectra_subsetting                                            
⠹ |        6063 | spectra_subsetting                                            
⠼ |        6065 | spectra_subsetting                                            
⠦ |        6067 | spectra_subsetting                                            
⠇ |        6069 | spectra_subsetting                                            
⠋ |        6071 | spectra_subsetting                                            
⠹ |        6073 | spectra_subsetting                                            
⠼ |        6075 | spectra_subsetting                                            
⠦ |        6077 | spectra_subsetting                                            
⠇ |        6079 | spectra_subsetting                                            
⠏ |        6080 | spectra_subsetting                                            
⠙ |        6082 | spectra_subsetting                                            
⠸ |        6084 | spectra_subsetting                                            
⠼ |        6085 | spectra_subsetting                                            
⠦ |        6087 | spectra_subsetting                                            
⠧ |        6088 | spectra_subsetting                                            
⠏ |        6090 | spectra_subsetting                                            
⠙ |        6092 | spectra_subsetting                                            
⠸ |        6094 | spectra_subsetting                                            
⠴ |        6096 | spectra_subsetting                                            
⠧ |        6098 | spectra_subsetting                                            
⠏ |        6100 | spectra_subsetting                                            
⠙ |        6102 | spectra_subsetting                                            
⠸ |        6104 | spectra_subsetting                                            
⠴ |        6106 | spectra_subsetting                                            
⠧ |        6108 | spectra_subsetting                                            
⠏ |        6110 | spectra_subsetting                                            
⠙ |        6112 | spectra_subsetting                                            
⠸ |        6114 | spectra_subsetting                                            
⠴ |        6116 | spectra_subsetting                                            
⠧ |        6118 | spectra_subsetting                                            
⠏ |        6120 | spectra_subsetting                                            
⠙ |        6122 | spectra_subsetting                                            
⠸ |        6124 | spectra_subsetting                                            
⠴ |        6126 | spectra_subsetting                                            
⠧ |        6128 | spectra_subsetting                                            
⠏ |        6130 | spectra_subsetting                                            
⠋ |        6131 | spectra_subsetting                                            
⠹ |        6133 | spectra_subsetting                                            
⠼ |        6135 | spectra_subsetting                                            
⠦ |        6137 | spectra_subsetting                                            
⠇ |        6139 | spectra_subsetting                                            
⠋ |        6141 | spectra_subsetting                                            
⠹ |        6143 | spectra_subsetting                                            
⠼ |        6145 | spectra_subsetting                                            
⠦ |        6147 | spectra_subsetting                                            
⠇ |        6149 | spectra_subsetting                                            
⠋ |        6151 | spectra_subsetting                                            
⠙ |        6152 | spectra_subsetting                                            
⠸ |        6154 | spectra_subsetting                                            
⠴ |        6156 | spectra_subsetting                                            
⠧ |        6158 | spectra_subsetting                                            
⠏ |        6160 | spectra_subsetting                                            
⠙ |        6162 | spectra_subsetting                                            
⠹ |        6163 | spectra_subsetting                                            
⠼ |        6165 | spectra_subsetting                                            
⠦ |        6167 | spectra_subsetting                                            
⠧ |        6168 | spectra_subsetting                                            
⠏ |        6170 | spectra_subsetting                                            
⠙ |        6172 | spectra_subsetting                                            
⠸ |        6174 | spectra_subsetting                                            
⠴ |        6176 | spectra_subsetting                                            
⠧ |        6178 | spectra_subsetting                                            
⠏ |        6180 | spectra_subsetting                                            
⠙ |        6182 | spectra_subsetting                                            
⠸ |        6184 | spectra_subsetting                                            
⠼ |        6185 | spectra_subsetting                                            
⠦ |        6187 | spectra_subsetting                                            
⠇ |        6189 | spectra_subsetting                                            
⠋ |        6191 | spectra_subsetting                                            
⠹ |        6193 | spectra_subsetting                                            
⠼ |        6195 | spectra_subsetting                                            
⠦ |        6197 | spectra_subsetting                                            
⠇ |        6199 | spectra_subsetting                                            
⠋ |        6201 | spectra_subsetting                                            
⠹ |        6203 | spectra_subsetting                                            
⠼ |        6205 | spectra_subsetting                                            
⠴ |        6206 | spectra_subsetting                                            
⠧ |        6208 | spectra_subsetting                                            
⠏ |        6210 | spectra_subsetting                                            
⠙ |        6212 | spectra_subsetting                                            
⠸ |        6214 | spectra_subsetting                                            
⠴ |        6216 | spectra_subsetting                                            
⠧ |        6218 | spectra_subsetting                                            
⠏ |        6220 | spectra_subsetting                                            
⠙ |        6222 | spectra_subsetting                                            
⠹ |        6223 | spectra_subsetting                                            
⠼ |        6225 | spectra_subsetting                                            
⠦ |        6227 | spectra_subsetting                                            
⠇ |        6229 | spectra_subsetting                                            
⠋ |        6231 | spectra_subsetting                                            
⠹ |        6233 | spectra_subsetting                                            
⠼ |        6235 | spectra_subsetting                                            
⠦ |        6237 | spectra_subsetting                                            
⠧ |        6238 | spectra_subsetting                                            
⠏ |        6240 | spectra_subsetting                                            
⠙ |        6242 | spectra_subsetting                                            
⠸ |        6244 | spectra_subsetting                                            
⠴ |        6246 | spectra_subsetting                                            
⠧ |        6248 | spectra_subsetting                                            
⠇ |        6249 | spectra_subsetting                                            
⠋ |        6251 | spectra_subsetting                                            
⠹ |        6253 | spectra_subsetting                                            
⠼ |        6255 | spectra_subsetting                                            
⠦ |        6257 | spectra_subsetting                                            
⠧ |        6258 | spectra_subsetting                                            
⠏ |        6260 | spectra_subsetting                                            
⠙ |        6262 | spectra_subsetting                                            
⠸ |        6264 | spectra_subsetting                                            
⠴ |        6266 | spectra_subsetting                                            
⠧ |        6268 | spectra_subsetting                                            
⠏ |        6270 | spectra_subsetting                                            
⠙ |        6272 | spectra_subsetting                                            
⠸ |        6274 | spectra_subsetting                                            
⠴ |        6276 | spectra_subsetting                                            
⠧ |        6278 | spectra_subsetting                                            
⠇ |        6279 | spectra_subsetting                                            
⠋ |        6281 | spectra_subsetting                                            
⠹ |        6283 | spectra_subsetting                                            
⠼ |        6285 | spectra_subsetting                                            
⠦ |        6287 | spectra_subsetting                                            
⠧ |        6288 | spectra_subsetting                                            
⠏ |        6290 | spectra_subsetting                                            
⠙ |        6292 | spectra_subsetting                                            
⠸ |        6294 | spectra_subsetting                                            
⠴ |        6296 | spectra_subsetting                                            
⠧ |        6298 | spectra_subsetting                                            
⠏ |        6300 | spectra_subsetting                                            
⠙ |        6302 | spectra_subsetting                                            
⠸ |        6304 | spectra_subsetting                                            
⠴ |        6306 | spectra_subsetting                                            
⠧ |        6308 | spectra_subsetting                                            
⠏ |        6310 | spectra_subsetting                                            
⠙ |        6312 | spectra_subsetting                                            
⠸ |        6314 | spectra_subsetting                                            
⠼ |        6315 | spectra_subsetting                                            
⠦ |        6317 | spectra_subsetting                                            
⠇ |        6319 | spectra_subsetting                                            
⠏ |        6320 | spectra_subsetting                                            
⠙ |        6322 | spectra_subsetting                                            
⠸ |        6324 | spectra_subsetting                                            
⠴ |        6326 | spectra_subsetting                                            
⠧ |        6328 | spectra_subsetting                                            
⠏ |        6330 | spectra_subsetting                                            
⠙ |        6332 | spectra_subsetting                                            
⠸ |        6334 | spectra_subsetting                                            
⠼ |        6335 | spectra_subsetting                                            
⠦ |        6337 | spectra_subsetting                                            
⠇ |        6339 | spectra_subsetting                                            
⠋ |        6341 | spectra_subsetting                                            
⠹ |        6343 | spectra_subsetting                                            
⠼ |        6345 | spectra_subsetting                                            
⠦ |        6347 | spectra_subsetting                                            
⠇ |        6349 | spectra_subsetting                                            
⠏ |        6350 | spectra_subsetting                                            
⠙ |        6352 | spectra_subsetting                                            
⠸ |        6354 | spectra_subsetting                                            
⠴ |        6356 | spectra_subsetting                                            
⠧ |        6358 | spectra_subsetting                                            
⠏ |        6360 | spectra_subsetting                                            
⠙ |        6362 | spectra_subsetting                                            
⠸ |        6364 | spectra_subsetting                                            
⠴ |        6366 | spectra_subsetting                                            
⠧ |        6368 | spectra_subsetting                                            
⠏ |        6370 | spectra_subsetting                                            
⠙ |        6372 | spectra_subsetting                                            
⠸ |        6374 | spectra_subsetting                                            
⠴ |        6376 | spectra_subsetting                                            
⠧ |        6378 | spectra_subsetting                                            
⠏ |        6380 | spectra_subsetting                                            
⠙ |        6382 | spectra_subsetting                                            
⠸ |        6384 | spectra_subsetting                                            
⠴ |        6386 | spectra_subsetting                                            
⠧ |        6388 | spectra_subsetting                                            
⠏ |        6390 | spectra_subsetting                                            
⠙ |        6392 | spectra_subsetting                                            
⠸ |        6394 | spectra_subsetting                                            
⠴ |        6396 | spectra_subsetting                                            
⠧ |        6398 | spectra_subsetting                                            
⠇ |        6399 | spectra_subsetting                                            
⠋ |        6401 | spectra_subsetting                                            
⠹ |        6403 | spectra_subsetting                                            
⠼ |        6405 | spectra_subsetting                                            
⠦ |        6407 | spectra_subsetting                                            
⠇ |        6409 | spectra_subsetting                                            
⠋ |        6411 | spectra_subsetting                                            
⠹ |        6413 | spectra_subsetting                                            
⠼ |        6415 | spectra_subsetting                                            
⠦ |        6417 | spectra_subsetting                                            
⠇ |        6419 | spectra_subsetting                                            
⠋ |        6421 | spectra_subsetting                                            
⠹ |        6423 | spectra_subsetting                                            
⠼ |        6425 | spectra_subsetting                                            
⠦ |        6427 | spectra_subsetting                                            
⠇ |        6429 | spectra_subsetting                                            
⠏ |        6430 | spectra_subsetting                                            
⠙ |        6432 | spectra_subsetting                                            
⠸ |        6434 | spectra_subsetting                                            
⠴ |        6436 | spectra_subsetting                                            
⠧ |        6438 | spectra_subsetting                                            
⠏ |        6440 | spectra_subsetting                                            
⠙ |        6442 | spectra_subsetting                                            
⠸ |        6444 | spectra_subsetting                                            
⠼ |        6445 | spectra_subsetting                                            
⠦ |        6447 | spectra_subsetting                                            
⠇ |        6449 | spectra_subsetting                                            
⠋ |        6451 | spectra_subsetting                                            
⠹ |        6453 | spectra_subsetting                                            
⠼ |        6455 | spectra_subsetting                                            
⠦ |        6457 | spectra_subsetting                                            
⠇ |        6459 | spectra_subsetting                                            
⠋ |        6461 | spectra_subsetting                                            
⠹ |        6463 | spectra_subsetting                                            
⠼ |        6465 | spectra_subsetting                                            
⠦ |        6467 | spectra_subsetting                                            
⠇ |        6469 | spectra_subsetting                                            
⠋ |        6471 | spectra_subsetting                                            
⠹ |        6473 | spectra_subsetting                                            
⠸ |        6474 | spectra_subsetting                                            
⠴ |        6476 | spectra_subsetting                                            
⠧ |        6478 | spectra_subsetting                                            
⠏ |        6480 | spectra_subsetting                                            
⠙ |        6482 | spectra_subsetting                                            
⠸ |        6484 | spectra_subsetting                                            
⠴ |        6486 | spectra_subsetting                                            
⠧ |        6488 | spectra_subsetting                                            
⠏ |        6490 | spectra_subsetting                                            
⠙ |        6492 | spectra_subsetting                                            
⠸ |        6494 | spectra_subsetting                                            
⠼ |        6495 | spectra_subsetting                                            
⠦ |        6497 | spectra_subsetting                                            
⠇ |        6499 | spectra_subsetting                                            
⠋ |        6501 | spectra_subsetting                                            
⠹ |        6503 | spectra_subsetting                                            
⠼ |        6505 | spectra_subsetting                                            
⠦ |        6507 | spectra_subsetting                                            
⠇ |        6509 | spectra_subsetting                                            
⠋ |        6511 | spectra_subsetting                                            
⠹ |        6513 | spectra_subsetting                                            
⠼ |        6515 | spectra_subsetting                                            
⠴ |        6516 | spectra_subsetting                                            
⠧ |        6518 | spectra_subsetting                                            
⠏ |        6520 | spectra_subsetting                                            
⠙ |        6522 | spectra_subsetting                                            
⠸ |        6524 | spectra_subsetting                                            
⠴ |        6526 | spectra_subsetting                                            
⠧ |        6528 | spectra_subsetting                                            
⠏ |        6530 | spectra_subsetting                                            
⠙ |        6532 | spectra_subsetting                                            
⠸ |        6534 | spectra_subsetting                                            
⠴ |        6536 | spectra_subsetting                                            
⠧ |        6538 | spectra_subsetting                                            
⠏ |        6540 | spectra_subsetting                                            
⠙ |        6542 | spectra_subsetting                                            
⠸ |        6544 | spectra_subsetting                                            
⠴ |        6546 | spectra_subsetting                                            
⠧ |        6548 | spectra_subsetting                                            
⠏ |        6550 | spectra_subsetting                                            
⠋ |        6551 | spectra_subsetting                                            
⠹ |        6553 | spectra_subsetting                                            
⠼ |        6555 | spectra_subsetting                                            
⠦ |        6557 | spectra_subsetting                                            
⠇ |        6559 | spectra_subsetting                                            
⠏ |        6560 | spectra_subsetting                                            
⠙ |        6562 | spectra_subsetting                                            
⠸ |        6564 | spectra_subsetting                                            
⠴ |        6566 | spectra_subsetting                                            
⠧ |        6568 | spectra_subsetting                                            
⠏ |        6570 | spectra_subsetting                                            
⠙ |        6572 | spectra_subsetting                                            
⠸ |        6574 | spectra_subsetting                                            
⠴ |        6576 | spectra_subsetting                                            
⠧ |        6578 | spectra_subsetting                                            
⠏ |        6580 | spectra_subsetting                                            
⠙ |        6582 | spectra_subsetting                                            
⠸ |        6584 | spectra_subsetting                                            
⠴ |        6586 | spectra_subsetting                                            
⠧ |        6588 | spectra_subsetting                                            
⠏ |        6590 | spectra_subsetting                                            
⠙ |        6592 | spectra_subsetting                                            
⠸ |        6594 | spectra_subsetting                                            
⠴ |        6596 | spectra_subsetting                                            
⠧ |        6598 | spectra_subsetting                                            
⠏ |        6600 | spectra_subsetting                                            
⠋ |        6601 | spectra_subsetting                                            
⠹ |        6603 | spectra_subsetting                                            
⠼ |        6605 | spectra_subsetting                                            
⠦ |        6607 | spectra_subsetting                                            
⠇ |        6609 | spectra_subsetting                                            
⠋ |        6611 | spectra_subsetting                                            
⠹ |        6613 | spectra_subsetting                                            
⠼ |        6615 | spectra_subsetting                                            
⠦ |        6617 | spectra_subsetting                                            
⠇ |        6619 | spectra_subsetting                                            
⠋ |        6621 | spectra_subsetting                                            
⠹ |        6623 | spectra_subsetting                                            
⠼ |        6625 | spectra_subsetting                                            
⠦ |        6627 | spectra_subsetting                                            
⠇ |        6629 | spectra_subsetting                                            
⠋ |        6631 | spectra_subsetting                                            
⠹ |        6633 | spectra_subsetting                                            
⠼ |        6635 | spectra_subsetting                                            
⠦ |        6637 | spectra_subsetting                                            
⠧ |        6638 | spectra_subsetting                                            
⠏ |        6640 | spectra_subsetting                                            
⠙ |        6642 | spectra_subsetting                                            
⠸ |        6644 | spectra_subsetting                                            
⠴ |        6646 | spectra_subsetting                                            
⠧ |        6648 | spectra_subsetting                                            
⠏ |        6650 | spectra_subsetting                                            
⠋ |        6651 | spectra_subsetting                                            
⠹ |        6653 | spectra_subsetting                                            
⠼ |        6655 | spectra_subsetting                                            
⠦ |        6657 | spectra_subsetting                                            
⠇ |        6659 | spectra_subsetting                                            
⠹ |        6663 | spectra_subsetting                                            
⠇ |        6669 | spectra_subsetting                                            
⠹ |        6673 | spectra_subsetting                                            
⠇ |        6679 | spectra_subsetting                                            
⠸ |        6694 | spectra_subsetting                                            
✔ |        6702 | spectra_subsetting [171.9s]

⠏ |          0 | spectra_variables                                              
⠙ |         12 | spectra_variables                                              
⠸ |         14 | spectra_variables                                              
⠴ |         16 | spectra_variables                                              
⠦ |         27 | spectra_variables                                              
⠇ |         29 | spectra_variables                                              
⠋ |         31 | spectra_variables                                              
⠹ |         43 | spectra_variables                                              
⠸ |         54 | spectra_variables                                              
✔ |      1  62 | spectra_variables [2.0s]

══ Results ═════════════════════════════════════════════════════════════════════
Duration: 174.4 s

── Skipped tests (1) ───────────────────────────────────────────────────────────
• empty test (1): 'test_spectra_variables.R:262:1'

[ FAIL 0 | WARN 0 | SKIP 1 | PASS 6768 ]
> 
> proc.time()
   user  system elapsed 
161.830  14.671 552.792 

Example timings

MsBackendMetaboLights.Rcheck/MsBackendMetaboLights-Ex.timings

nameusersystemelapsed
MetaboLights-utils 0.130 0.02042.167
MsBackendMetaboLights 3.200 0.60011.623