Back to Multiple platform build/check report for BioC 3.22:   simplified   long
ABCDEFGHIJKL[M]NOPQRSTUVWXYZ

This page was generated on 2025-10-14 12:04 -0400 (Tue, 14 Oct 2025).

HostnameOSArch (*)R versionInstalled pkgs
nebbiolo2Linux (Ubuntu 24.04.3 LTS)x86_644.5.1 Patched (2025-08-23 r88802) -- "Great Square Root" 4864
lconwaymacOS 12.7.1 Montereyx86_644.5.1 Patched (2025-09-10 r88807) -- "Great Square Root" 4652
kjohnson3macOS 13.7.7 Venturaarm644.5.1 Patched (2025-09-10 r88807) -- "Great Square Root" 4597
taishanLinux (openEuler 24.03 LTS)aarch644.5.0 (2025-04-11) -- "How About a Twenty-Six" 4610
Click on any hostname to see more info about the system (e.g. compilers)      (*) as reported by 'uname -p', except on Windows and Mac OS X

Package 1369/2346HostnameOS / ArchINSTALLBUILDCHECKBUILD BIN
MsBackendRawFileReader 1.15.1  (landing page)
Christian Panse
Snapshot Date: 2025-10-13 13:45 -0400 (Mon, 13 Oct 2025)
git_url: https://git.bioconductor.org/packages/MsBackendRawFileReader
git_branch: devel
git_last_commit: 1998d81
git_last_commit_date: 2025-06-12 03:00:23 -0400 (Thu, 12 Jun 2025)
nebbiolo2Linux (Ubuntu 24.04.3 LTS) / x86_64  OK    OK    OK  UNNEEDED, same version is already published
lconwaymacOS 12.7.1 Monterey / x86_64  OK    OK    OK    OK  UNNEEDED, same version is already published
kjohnson3macOS 13.7.7 Ventura / arm64  OK    OK    OK    OK  UNNEEDED, same version is already published
taishanLinux (openEuler 24.03 LTS) / aarch64  OK    ERROR  skipped


CHECK results for MsBackendRawFileReader on lconway

To the developers/maintainers of the MsBackendRawFileReader package:
- Allow up to 24 hours (and sometimes 48 hours) for your latest push to git@git.bioconductor.org:packages/MsBackendRawFileReader.git to reflect on this report. See Troubleshooting Build Report for more information.
- Use the following Renviron settings to reproduce errors and warnings.
- If 'R CMD check' started to fail recently on the Linux builder(s) over a missing dependency, add the missing dependency to 'Suggests:' in your DESCRIPTION file. See Renviron.bioc for more information.

raw results


Summary

Package: MsBackendRawFileReader
Version: 1.15.1
Command: /Library/Frameworks/R.framework/Resources/bin/R CMD check --install=check:MsBackendRawFileReader.install-out.txt --library=/Library/Frameworks/R.framework/Resources/library --no-vignettes --timings MsBackendRawFileReader_1.15.1.tar.gz
StartedAt: 2025-10-13 23:39:10 -0400 (Mon, 13 Oct 2025)
EndedAt: 2025-10-13 23:43:14 -0400 (Mon, 13 Oct 2025)
EllapsedTime: 243.7 seconds
RetCode: 0
Status:   OK  
CheckDir: MsBackendRawFileReader.Rcheck
Warnings: 0

Command output

##############################################################################
##############################################################################
###
### Running command:
###
###   /Library/Frameworks/R.framework/Resources/bin/R CMD check --install=check:MsBackendRawFileReader.install-out.txt --library=/Library/Frameworks/R.framework/Resources/library --no-vignettes --timings MsBackendRawFileReader_1.15.1.tar.gz
###
##############################################################################
##############################################################################


* using log directory ‘/Users/biocbuild/bbs-3.22-bioc/meat/MsBackendRawFileReader.Rcheck’
* using R version 4.5.1 Patched (2025-09-10 r88807)
* using platform: x86_64-apple-darwin20
* R was compiled by
    Apple clang version 14.0.0 (clang-1400.0.29.202)
    GNU Fortran (GCC) 14.2.0
* running under: macOS Monterey 12.7.6
* using session charset: UTF-8
* using option ‘--no-vignettes’
* checking for file ‘MsBackendRawFileReader/DESCRIPTION’ ... OK
* checking extension type ... Package
* this is package ‘MsBackendRawFileReader’ version ‘1.15.1’
* package encoding: UTF-8
* checking package namespace information ... OK
* checking package dependencies ... OK
* checking if this is a source package ... OK
* checking if there is a namespace ... OK
* checking for hidden files and directories ... OK
* checking for portable file names ... OK
* checking for sufficient/correct file permissions ... OK
* checking whether package ‘MsBackendRawFileReader’ can be installed ... OK
* checking installed package size ... OK
* checking package directory ... OK
* checking ‘build’ directory ... OK
* checking DESCRIPTION meta-information ... OK
* checking top-level files ... OK
* checking for left-over files ... OK
* checking index information ... OK
* checking package subdirectories ... OK
* checking code files for non-ASCII characters ... OK
* checking R files for syntax errors ... OK
* checking whether the package can be loaded ... OK
* checking whether the package can be loaded with stated dependencies ... OK
* checking whether the package can be unloaded cleanly ... OK
* checking whether the namespace can be loaded with stated dependencies ... OK
* checking whether the namespace can be unloaded cleanly ... OK
* checking whether startup messages can be suppressed ... OK
* checking dependencies in R code ... OK
* checking S3 generic/method consistency ... OK
* checking replacement functions ... OK
* checking foreign function calls ... OK
* checking R code for possible problems ... OK
* checking Rd files ... OK
* checking Rd metadata ... OK
* checking Rd cross-references ... OK
* checking for missing documentation entries ... OK
* checking for code/documentation mismatches ... OK
* checking Rd \usage sections ... OK
* checking Rd contents ... OK
* checking for unstated dependencies in examples ... OK
* checking files in ‘vignettes’ ... OK
* checking examples ... OK
Examples with CPU (user + system) or elapsed time > 5s
                               user system elapsed
ioBenchmark                  30.722 12.134  16.210
MsBackendRawFileReader        7.851  3.232  11.515
MsBackendRawFileReader-class  3.570  1.151   5.087
* checking for unstated dependencies in ‘tests’ ... OK
* checking tests ...
  Running ‘testthat.R’
 OK
* checking for unstated dependencies in vignettes ... OK
* checking package vignettes ... OK
* checking running R code from vignettes ... SKIPPED
* checking re-building of vignette outputs ... SKIPPED
* checking PDF version of manual ... OK
* DONE

Status: OK


Installation output

MsBackendRawFileReader.Rcheck/00install.out

##############################################################################
##############################################################################
###
### Running command:
###
###   /Library/Frameworks/R.framework/Resources/bin/R CMD INSTALL MsBackendRawFileReader
###
##############################################################################
##############################################################################


* installing to library ‘/Library/Frameworks/R.framework/Versions/4.5-x86_64/Resources/library’
* installing *source* package ‘MsBackendRawFileReader’ ...
** this is package ‘MsBackendRawFileReader’ version ‘1.15.1’
** using staged installation
** R
** inst
** byte-compile and prepare package for lazy loading
** help
*** installing help indices
** building package indices
** installing vignettes
** testing if installed package can be loaded from temporary location
** testing if installed package can be loaded from final location
** testing if installed package keeps a record of temporary installation path
* DONE (MsBackendRawFileReader)

Tests output

MsBackendRawFileReader.Rcheck/tests/testthat.Rout


R version 4.5.1 Patched (2025-09-10 r88807) -- "Great Square Root"
Copyright (C) 2025 The R Foundation for Statistical Computing
Platform: x86_64-apple-darwin20

R is free software and comes with ABSOLUTELY NO WARRANTY.
You are welcome to redistribute it under certain conditions.
Type 'license()' or 'licence()' for distribution details.

R is a collaborative project with many contributors.
Type 'contributors()' for more information and
'citation()' on how to cite R or R packages in publications.

Type 'demo()' for some demos, 'help()' for on-line help, or
'help.start()' for an HTML browser interface to help.
Type 'q()' to quit R.

> library("testthat")
> library("MsBackendRawFileReader")
Loading required package: Spectra
Loading required package: S4Vectors
Loading required package: stats4
Loading required package: BiocGenerics
Loading required package: generics

Attaching package: 'generics'

The following objects are masked from 'package:base':

    as.difftime, as.factor, as.ordered, intersect, is.element, setdiff,
    setequal, union


Attaching package: 'BiocGenerics'

The following objects are masked from 'package:stats':

    IQR, mad, sd, var, xtabs

The following objects are masked from 'package:base':

    Filter, Find, Map, Position, Reduce, anyDuplicated, aperm, append,
    as.data.frame, basename, cbind, colnames, dirname, do.call,
    duplicated, eval, evalq, get, grep, grepl, is.unsorted, lapply,
    mapply, match, mget, order, paste, pmax, pmax.int, pmin, pmin.int,
    rank, rbind, rownames, sapply, saveRDS, table, tapply, unique,
    unsplit, which.max, which.min


Attaching package: 'S4Vectors'

The following object is masked from 'package:utils':

    findMatches

The following objects are masked from 'package:base':

    I, expand.grid, unname

Loading required package: BiocParallel
> library("Spectra")
> 
> 
> sample_raw_file <- file.path(system.file(package = "rawrr"),
+                                 'extdata', 'sample.raw')
> 
> sample_mzXML_file <- file.path(path.package(package = 'MsBackendRawFileReader'),
+                                 'extdata', 'sample.mzXML')
> 
> 
> sample_raw <-  backendInitialize(MsBackendRawFileReader::MsBackendRawFileReader(), files = sample_raw_file)
> 
> 
> #sample_mzr <-  backendInitialize(MsBackendMzR(), files = sample_mzXML_file)
> 
> 
> mgf_file <- file.path(system.file(package = "MsBackendRawFileReader"),
+                              'extdata', '3159619b11ed_4590_9594.mgf')
> 
> 
> rv <- lapply(1:2, function(x){
+   file.copy(from = sample_raw_file, to = tempfile(fileext='.raw'))})
> 
> 
> register(SnowParam(workers = 1, type = "SOCK") , default = TRUE); 
> sample_raw_2 <- backendInitialize(MsBackendRawFileReader(),
+     files = file.path(tempdir(),
+          list.files(path = tempdir(), pattern = 'raw$')))
> 
> 
> test_check("MsBackendRawFileReader")
[ FAIL 0 | WARN 1 | SKIP 2 | PASS 21 ]

══ Skipped tests (2) ═══════════════════════════════════════════════════════════
• isFALSE(file.exists(sample_mzXML_file)) is TRUE (1):
  'test_MsBackendMzR_MsBackendRawFileReader.R:1:1'
• isFALSE(require(MsBackendRawMgf)) is TRUE (1): 'test_top_n_mgf.R:1:1'

[ FAIL 0 | WARN 1 | SKIP 2 | PASS 21 ]
> 
> 
> be <- Spectra::backendInitialize(MsBackendRawFileReader::MsBackendRawFileReader(),
+                                  files = c(sample_raw_file))
> 
> ## Run the MsBackend spectra variable test suite
> 
> test_suite <- system.file("test_backends", "test_MsBackend",
+                           package = "Spectra")
> 
> #res <- test_file(paste0(test_suite, "/test_spectra_variables.R"),
> #                 reporter = check_reporter(), stop_on_failure = TRUE)
> 
> 
> ## Run the whole suite.
> res <- test_dir(test_suite, stop_on_failure = TRUE)
✔ | F W  S  OK | Context

⠏ |          0 | peaks_variables                                                
⠙ |          2 | peaks_variables                                                
⠸ |          4 | peaks_variables                                                
✔ |          4 | peaks_variables [5.1s]

⠏ |          0 | spectra_subsetting                                             
⠋ |          1 | spectra_subsetting                                             
⠋ |         11 | spectra_subsetting                                             
⠙ |         22 | spectra_subsetting                                             
⠋ |         31 | spectra_subsetting                                             
⠋ |         41 | spectra_subsetting                                             
⠙ |         52 | spectra_subsetting                                             
⠋ |         61 | spectra_subsetting                                             
⠋ |         71 | spectra_subsetting                                             
⠏ |         80 | spectra_subsetting                                             
⠋ |         91 | spectra_subsetting                                             
⠏ |        100 | spectra_subsetting                                             
⠇ |        109 | spectra_subsetting                                             
⠇ |        119 | spectra_subsetting                                             
⠧ |        128 | spectra_subsetting                                             
⠇ |        139 | spectra_subsetting                                             
⠋ |        151 | spectra_subsetting                                             
⠋ |        161 | spectra_subsetting                                             
⠏ |        170 | spectra_subsetting                                             
⠋ |        181 | spectra_subsetting                                             
⠋ |        191 | spectra_subsetting                                             
⠏ |        200 | spectra_subsetting                                             
⠇ |        209 | spectra_subsetting                                             
⠏ |        220 | spectra_subsetting                                             
⠏ |        230 | spectra_subsetting                                             
⠇ |        239 | spectra_subsetting                                             
⠏ |        250 | spectra_subsetting                                             
⠇ |        259 | spectra_subsetting                                             
⠧ |        268 | spectra_subsetting                                             
⠧ |        278 | spectra_subsetting                                             
⠇ |        289 | spectra_subsetting                                             
⠧ |        298 | spectra_subsetting                                             
⠦ |        307 | spectra_subsetting                                             
⠦ |        317 | spectra_subsetting                                             
⠴ |        326 | spectra_subsetting                                             
⠴ |        336 | spectra_subsetting                                             
⠴ |        346 | spectra_subsetting                                             
⠧ |        358 | spectra_subsetting                                             
⠦ |        367 | spectra_subsetting                                             
⠇ |        379 | spectra_subsetting                                             
⠏ |        390 | spectra_subsetting                                             
⠧ |        398 | spectra_subsetting                                             
⠦ |        407 | spectra_subsetting                                             
⠧ |        418 | spectra_subsetting                                             
⠇ |        429 | spectra_subsetting                                             
⠧ |        438 | spectra_subsetting                                             
⠧ |        448 | spectra_subsetting                                             
⠧ |        458 | spectra_subsetting                                             
⠧ |        468 | spectra_subsetting                                             
⠧ |        478 | spectra_subsetting                                             
⠏ |        490 | spectra_subsetting                                             
⠇ |        499 | spectra_subsetting                                             
⠧ |        508 | spectra_subsetting                                             
⠧ |        518 | spectra_subsetting                                             
⠦ |        527 | spectra_subsetting                                             
⠧ |        538 | spectra_subsetting                                             
⠏ |        550 | spectra_subsetting                                             
⠏ |        560 | spectra_subsetting                                             
⠧ |        568 | spectra_subsetting                                             
⠦ |        577 | spectra_subsetting                                             
⠇ |        589 | spectra_subsetting                                             
⠇ |        599 | spectra_subsetting                                             
⠏ |        610 | spectra_subsetting                                             
⠙ |        622 | spectra_subsetting                                             
⠋ |        631 | spectra_subsetting                                             
⠋ |        641 | spectra_subsetting                                             
⠙ |        652 | spectra_subsetting                                             
⠋ |        661 | spectra_subsetting                                             
⠋ |        671 | spectra_subsetting                                             
⠙ |        682 | spectra_subsetting                                             
⠙ |        692 | spectra_subsetting                                             
⠹ |        703 | spectra_subsetting                                             
⠼ |        715 | spectra_subsetting                                             
⠦ |        727 | spectra_subsetting                                             
⠴ |        736 | spectra_subsetting                                             
⠧ |        748 | spectra_subsetting                                             
⠧ |        758 | spectra_subsetting                                             
⠧ |        768 | spectra_subsetting                                             
⠧ |        778 | spectra_subsetting                                             
⠏ |        790 | spectra_subsetting                                             
⠇ |        799 | spectra_subsetting                                             
⠇ |        809 | spectra_subsetting                                             
⠏ |        820 | spectra_subsetting                                             
⠇ |        829 | spectra_subsetting                                             
⠏ |        840 | spectra_subsetting                                             
⠏ |        850 | spectra_subsetting                                             
⠇ |        859 | spectra_subsetting                                             
⠧ |        868 | spectra_subsetting                                             
⠏ |        880 | spectra_subsetting                                             
⠙ |        892 | spectra_subsetting                                             
⠙ |        902 | spectra_subsetting                                             
⠹ |        913 | spectra_subsetting                                             
⠹ |        923 | spectra_subsetting                                             
⠙ |        932 | spectra_subsetting                                             
⠹ |        943 | spectra_subsetting                                             
⠼ |        955 | spectra_subsetting                                             
⠸ |        964 | spectra_subsetting                                             
⠴ |        976 | spectra_subsetting                                             
⠧ |        988 | spectra_subsetting                                             
⠧ |        998 | spectra_subsetting                                             
⠇ |        1009 | spectra_subsetting                                            
⠋ |        1021 | spectra_subsetting                                            
⠏ |        1030 | spectra_subsetting                                            
⠏ |        1040 | spectra_subsetting                                            
⠋ |        1051 | spectra_subsetting                                            
⠋ |        1061 | spectra_subsetting                                            
⠙ |        1072 | spectra_subsetting                                            
⠸ |        1084 | spectra_subsetting                                            
⠹ |        1093 | spectra_subsetting                                            
⠹ |        1103 | spectra_subsetting                                            
⠸ |        1114 | spectra_subsetting                                            
⠸ |        1124 | spectra_subsetting                                            
⠹ |        1133 | spectra_subsetting                                            
⠸ |        1144 | spectra_subsetting                                            
⠹ |        1153 | spectra_subsetting                                            
⠙ |        1162 | spectra_subsetting                                            
⠸ |        1174 | spectra_subsetting                                            
⠼ |        1185 | spectra_subsetting                                            
⠼ |        1195 | spectra_subsetting                                            
⠸ |        1204 | spectra_subsetting                                            
⠴ |        1216 | spectra_subsetting                                            
⠼ |        1225 | spectra_subsetting                                            
⠸ |        1234 | spectra_subsetting                                            
⠴ |        1246 | spectra_subsetting                                            
⠼ |        1255 | spectra_subsetting                                            
⠼ |        1265 | spectra_subsetting                                            
⠴ |        1276 | spectra_subsetting                                            
⠴ |        1286 | spectra_subsetting                                            
⠦ |        1297 | spectra_subsetting                                            
⠇ |        1309 | spectra_subsetting                                            
⠋ |        1321 | spectra_subsetting                                            
⠋ |        1331 | spectra_subsetting                                            
⠙ |        1342 | spectra_subsetting                                            
⠹ |        1353 | spectra_subsetting                                            
⠹ |        1363 | spectra_subsetting                                            
⠼ |        1375 | spectra_subsetting                                            
⠼ |        1385 | spectra_subsetting                                            
⠴ |        1396 | spectra_subsetting                                            
⠧ |        1408 | spectra_subsetting                                            
⠇ |        1419 | spectra_subsetting                                            
⠇ |        1429 | spectra_subsetting                                            
⠋ |        1441 | spectra_subsetting                                            
⠏ |        1450 | spectra_subsetting                                            
⠏ |        1460 | spectra_subsetting                                            
⠙ |        1472 | spectra_subsetting                                            
⠹ |        1483 | spectra_subsetting                                            
⠙ |        1492 | spectra_subsetting                                            
⠸ |        1504 | spectra_subsetting                                            
⠴ |        1516 | spectra_subsetting                                            
⠧ |        1528 | spectra_subsetting                                            
⠏ |        1540 | spectra_subsetting                                            
⠇ |        1549 | spectra_subsetting                                            
⠇ |        1559 | spectra_subsetting                                            
⠏ |        1570 | spectra_subsetting                                            
⠙ |        1582 | spectra_subsetting                                            
⠸ |        1594 | spectra_subsetting                                            
⠴ |        1606 | spectra_subsetting                                            
⠼ |        1615 | spectra_subsetting                                            
⠦ |        1627 | spectra_subsetting                                            
⠇ |        1639 | spectra_subsetting                                            
⠧ |        1648 | spectra_subsetting                                            
⠧ |        1658 | spectra_subsetting                                            
⠇ |        1669 | spectra_subsetting                                            
⠇ |        1679 | spectra_subsetting                                            
⠧ |        1688 | spectra_subsetting                                            
⠇ |        1699 | spectra_subsetting                                            
⠇ |        1709 | spectra_subsetting                                            
⠏ |        1720 | spectra_subsetting                                            
⠦ |        1727 | spectra_subsetting                                            
⠇ |        1729 | spectra_subsetting                                            
⠋ |        1731 | spectra_subsetting                                            
⠹ |        1733 | spectra_subsetting                                            
⠼ |        1735 | spectra_subsetting                                            
⠦ |        1737 | spectra_subsetting                                            
⠇ |        1739 | spectra_subsetting                                            
⠋ |        1741 | spectra_subsetting                                            
⠹ |        1743 | spectra_subsetting                                            
⠼ |        1745 | spectra_subsetting                                            
⠦ |        1747 | spectra_subsetting                                            
⠇ |        1749 | spectra_subsetting                                            
⠋ |        1751 | spectra_subsetting                                            
⠹ |        1753 | spectra_subsetting                                            
⠼ |        1755 | spectra_subsetting                                            
⠦ |        1757 | spectra_subsetting                                            
⠇ |        1759 | spectra_subsetting                                            
⠋ |        1761 | spectra_subsetting                                            
⠹ |        1763 | spectra_subsetting                                            
⠼ |        1765 | spectra_subsetting                                            
⠦ |        1767 | spectra_subsetting                                            
⠇ |        1769 | spectra_subsetting                                            
⠋ |        1771 | spectra_subsetting                                            
⠹ |        1773 | spectra_subsetting                                            
⠼ |        1775 | spectra_subsetting                                            
⠦ |        1777 | spectra_subsetting                                            
⠇ |        1779 | spectra_subsetting                                            
⠋ |        1781 | spectra_subsetting                                            
⠹ |        1783 | spectra_subsetting                                            
⠼ |        1785 | spectra_subsetting                                            
⠦ |        1787 | spectra_subsetting                                            
⠇ |        1789 | spectra_subsetting                                            
⠋ |        1791 | spectra_subsetting                                            
⠹ |        1793 | spectra_subsetting                                            
⠼ |        1795 | spectra_subsetting                                            
⠦ |        1797 | spectra_subsetting                                            
⠇ |        1799 | spectra_subsetting                                            
⠋ |        1801 | spectra_subsetting                                            
⠹ |        1803 | spectra_subsetting                                            
⠼ |        1805 | spectra_subsetting                                            
⠦ |        1807 | spectra_subsetting                                            
⠇ |        1809 | spectra_subsetting                                            
⠋ |        1811 | spectra_subsetting                                            
⠹ |        1813 | spectra_subsetting                                            
⠼ |        1815 | spectra_subsetting                                            
⠦ |        1817 | spectra_subsetting                                            
⠇ |        1819 | spectra_subsetting                                            
⠋ |        1821 | spectra_subsetting                                            
⠹ |        1823 | spectra_subsetting                                            
⠼ |        1825 | spectra_subsetting                                            
⠦ |        1827 | spectra_subsetting                                            
⠇ |        1829 | spectra_subsetting                                            
⠋ |        1831 | spectra_subsetting                                            
⠹ |        1833 | spectra_subsetting                                            
⠼ |        1835 | spectra_subsetting                                            
⠦ |        1837 | spectra_subsetting                                            
⠇ |        1839 | spectra_subsetting                                            
⠋ |        1841 | spectra_subsetting                                            
⠹ |        1843 | spectra_subsetting                                            
⠼ |        1845 | spectra_subsetting                                            
⠦ |        1847 | spectra_subsetting                                            
⠇ |        1849 | spectra_subsetting                                            
⠋ |        1851 | spectra_subsetting                                            
⠹ |        1853 | spectra_subsetting                                            
⠼ |        1855 | spectra_subsetting                                            
⠦ |        1857 | spectra_subsetting                                            
⠇ |        1859 | spectra_subsetting                                            
⠋ |        1861 | spectra_subsetting                                            
⠹ |        1863 | spectra_subsetting                                            
⠼ |        1865 | spectra_subsetting                                            
⠧ |        1868 | spectra_subsetting                                            
⠏ |        1870 | spectra_subsetting                                            
⠙ |        1872 | spectra_subsetting                                            
⠸ |        1874 | spectra_subsetting                                            
⠦ |        1877 | spectra_subsetting                                            
⠇ |        1879 | spectra_subsetting                                            
⠋ |        1881 | spectra_subsetting                                            
⠹ |        1883 | spectra_subsetting                                            
⠼ |        1885 | spectra_subsetting                                            
⠦ |        1887 | spectra_subsetting                                            
⠇ |        1889 | spectra_subsetting                                            
⠋ |        1891 | spectra_subsetting                                            
⠹ |        1893 | spectra_subsetting                                            
⠼ |        1895 | spectra_subsetting                                            
⠦ |        1897 | spectra_subsetting                                            
⠇ |        1899 | spectra_subsetting                                            
⠋ |        1901 | spectra_subsetting                                            
⠹ |        1903 | spectra_subsetting                                            
⠼ |        1905 | spectra_subsetting                                            
⠦ |        1907 | spectra_subsetting                                            
⠇ |        1909 | spectra_subsetting                                            
⠋ |        1911 | spectra_subsetting                                            
⠹ |        1913 | spectra_subsetting                                            
⠼ |        1915 | spectra_subsetting                                            
⠦ |        1917 | spectra_subsetting                                            
⠇ |        1919 | spectra_subsetting                                            
⠋ |        1921 | spectra_subsetting                                            
⠹ |        1923 | spectra_subsetting                                            
⠼ |        1925 | spectra_subsetting                                            
⠦ |        1927 | spectra_subsetting                                            
⠇ |        1929 | spectra_subsetting                                            
⠋ |        1931 | spectra_subsetting                                            
⠹ |        1933 | spectra_subsetting                                            
⠼ |        1935 | spectra_subsetting                                            
⠦ |        1937 | spectra_subsetting                                            
⠇ |        1939 | spectra_subsetting                                            
⠋ |        1941 | spectra_subsetting                                            
⠹ |        1943 | spectra_subsetting                                            
⠼ |        1945 | spectra_subsetting                                            
⠦ |        1947 | spectra_subsetting                                            
⠏ |        1950 | spectra_subsetting                                            
⠙ |        1952 | spectra_subsetting                                            
⠼ |        1955 | spectra_subsetting                                            
⠦ |        1957 | spectra_subsetting                                            
⠇ |        1959 | spectra_subsetting                                            
⠋ |        1961 | spectra_subsetting                                            
⠹ |        1963 | spectra_subsetting                                            
⠼ |        1965 | spectra_subsetting                                            
⠦ |        1967 | spectra_subsetting                                            
⠇ |        1969 | spectra_subsetting                                            
⠋ |        1971 | spectra_subsetting                                            
⠹ |        1973 | spectra_subsetting                                            
⠼ |        1975 | spectra_subsetting                                            
⠦ |        1977 | spectra_subsetting                                            
⠇ |        1979 | spectra_subsetting                                            
⠋ |        1981 | spectra_subsetting                                            
⠹ |        1983 | spectra_subsetting                                            
⠼ |        1985 | spectra_subsetting                                            
⠦ |        1987 | spectra_subsetting                                            
⠇ |        1989 | spectra_subsetting                                            
⠋ |        1991 | spectra_subsetting                                            
⠹ |        1993 | spectra_subsetting                                            
⠼ |        1995 | spectra_subsetting                                            
⠦ |        1997 | spectra_subsetting                                            
⠇ |        1999 | spectra_subsetting                                            
⠋ |        2001 | spectra_subsetting                                            
⠹ |        2003 | spectra_subsetting                                            
⠼ |        2005 | spectra_subsetting                                            
⠦ |        2007 | spectra_subsetting                                            
⠇ |        2009 | spectra_subsetting                                            
⠋ |        2011 | spectra_subsetting                                            
⠹ |        2013 | spectra_subsetting                                            
⠼ |        2015 | spectra_subsetting                                            
⠦ |        2017 | spectra_subsetting                                            
⠇ |        2019 | spectra_subsetting                                            
⠋ |        2021 | spectra_subsetting                                            
⠹ |        2023 | spectra_subsetting                                            
⠼ |        2025 | spectra_subsetting                                            
⠦ |        2027 | spectra_subsetting                                            
⠇ |        2029 | spectra_subsetting                                            
⠋ |        2031 | spectra_subsetting                                            
⠹ |        2033 | spectra_subsetting                                            
⠼ |        2035 | spectra_subsetting                                            
⠦ |        2037 | spectra_subsetting                                            
⠇ |        2039 | spectra_subsetting                                            
⠋ |        2041 | spectra_subsetting                                            
⠹ |        2043 | spectra_subsetting                                            
⠼ |        2045 | spectra_subsetting                                            
⠦ |        2047 | spectra_subsetting                                            
⠇ |        2049 | spectra_subsetting                                            
⠋ |        2051 | spectra_subsetting                                            
⠹ |        2053 | spectra_subsetting                                            
⠼ |        2055 | spectra_subsetting                                            
⠦ |        2057 | spectra_subsetting                                            
⠇ |        2059 | spectra_subsetting                                            
⠋ |        2061 | spectra_subsetting                                            
⠹ |        2063 | spectra_subsetting                                            
⠼ |        2065 | spectra_subsetting                                            
⠧ |        2068 | spectra_subsetting                                            
⠏ |        2070 | spectra_subsetting                                            
⠙ |        2072 | spectra_subsetting                                            
⠸ |        2074 | spectra_subsetting                                            
⠴ |        2076 | spectra_subsetting                                            
⠧ |        2078 | spectra_subsetting                                            
⠏ |        2080 | spectra_subsetting                                            
⠙ |        2082 | spectra_subsetting                                            
⠸ |        2084 | spectra_subsetting                                            
⠴ |        2086 | spectra_subsetting                                            
⠇ |        2089 | spectra_subsetting                                            
⠋ |        2091 | spectra_subsetting                                            
⠹ |        2093 | spectra_subsetting                                            
⠼ |        2095 | spectra_subsetting                                            
⠦ |        2097 | spectra_subsetting                                            
⠇ |        2099 | spectra_subsetting                                            
⠋ |        2101 | spectra_subsetting                                            
⠸ |        2104 | spectra_subsetting                                            
⠦ |        2107 | spectra_subsetting                                            
⠇ |        2109 | spectra_subsetting                                            
⠋ |        2111 | spectra_subsetting                                            
⠹ |        2113 | spectra_subsetting                                            
⠼ |        2115 | spectra_subsetting                                            
⠦ |        2117 | spectra_subsetting                                            
⠇ |        2119 | spectra_subsetting                                            
⠋ |        2121 | spectra_subsetting                                            
⠹ |        2123 | spectra_subsetting                                            
⠼ |        2125 | spectra_subsetting                                            
⠦ |        2127 | spectra_subsetting                                            
⠇ |        2129 | spectra_subsetting                                            
⠋ |        2131 | spectra_subsetting                                            
⠹ |        2133 | spectra_subsetting                                            
⠼ |        2135 | spectra_subsetting                                            
⠦ |        2137 | spectra_subsetting                                            
⠇ |        2139 | spectra_subsetting                                            
⠋ |        2141 | spectra_subsetting                                            
⠹ |        2143 | spectra_subsetting                                            
⠼ |        2145 | spectra_subsetting                                            
⠦ |        2147 | spectra_subsetting                                            
⠇ |        2149 | spectra_subsetting                                            
⠋ |        2151 | spectra_subsetting                                            
⠹ |        2153 | spectra_subsetting                                            
⠼ |        2155 | spectra_subsetting                                            
⠦ |        2157 | spectra_subsetting                                            
⠇ |        2159 | spectra_subsetting                                            
⠋ |        2161 | spectra_subsetting                                            
⠹ |        2163 | spectra_subsetting                                            
⠼ |        2165 | spectra_subsetting                                            
⠦ |        2167 | spectra_subsetting                                            
⠇ |        2169 | spectra_subsetting                                            
⠋ |        2171 | spectra_subsetting                                            
⠹ |        2173 | spectra_subsetting                                            
⠼ |        2175 | spectra_subsetting                                            
⠦ |        2177 | spectra_subsetting                                            
⠇ |        2179 | spectra_subsetting                                            
⠋ |        2181 | spectra_subsetting                                            
⠸ |        2184 | spectra_subsetting                                            
⠴ |        2186 | spectra_subsetting                                            
⠧ |        2188 | spectra_subsetting                                            
⠏ |        2190 | spectra_subsetting                                            
⠙ |        2192 | spectra_subsetting                                            
⠸ |        2194 | spectra_subsetting                                            
⠴ |        2196 | spectra_subsetting                                            
⠧ |        2198 | spectra_subsetting                                            
⠏ |        2200 | spectra_subsetting                                            
⠙ |        2202 | spectra_subsetting                                            
⠸ |        2204 | spectra_subsetting                                            
⠴ |        2206 | spectra_subsetting                                            
⠧ |        2208 | spectra_subsetting                                            
⠏ |        2210 | spectra_subsetting                                            
⠙ |        2212 | spectra_subsetting                                            
⠸ |        2214 | spectra_subsetting                                            
⠴ |        2216 | spectra_subsetting                                            
⠧ |        2218 | spectra_subsetting                                            
⠏ |        2220 | spectra_subsetting                                            
⠙ |        2222 | spectra_subsetting                                            
⠸ |        2224 | spectra_subsetting                                            
⠴ |        2226 | spectra_subsetting                                            
⠧ |        2228 | spectra_subsetting                                            
⠏ |        2230 | spectra_subsetting                                            
⠙ |        2232 | spectra_subsetting                                            
⠸ |        2234 | spectra_subsetting                                            
⠴ |        2236 | spectra_subsetting                                            
⠧ |        2238 | spectra_subsetting                                            
⠏ |        2240 | spectra_subsetting                                            
⠙ |        2242 | spectra_subsetting                                            
⠸ |        2244 | spectra_subsetting                                            
⠴ |        2246 | spectra_subsetting                                            
⠧ |        2248 | spectra_subsetting                                            
⠏ |        2250 | spectra_subsetting                                            
⠙ |        2252 | spectra_subsetting                                            
⠸ |        2254 | spectra_subsetting                                            
⠴ |        2256 | spectra_subsetting                                            
⠧ |        2258 | spectra_subsetting                                            
⠏ |        2260 | spectra_subsetting                                            
⠙ |        2262 | spectra_subsetting                                            
⠸ |        2264 | spectra_subsetting                                            
⠴ |        2266 | spectra_subsetting                                            
⠧ |        2268 | spectra_subsetting                                            
⠏ |        2270 | spectra_subsetting                                            
⠙ |        2272 | spectra_subsetting                                            
⠸ |        2274 | spectra_subsetting                                            
⠴ |        2276 | spectra_subsetting                                            
⠧ |        2278 | spectra_subsetting                                            
⠏ |        2280 | spectra_subsetting                                            
⠙ |        2282 | spectra_subsetting                                            
⠸ |        2284 | spectra_subsetting                                            
⠴ |        2286 | spectra_subsetting                                            
⠧ |        2288 | spectra_subsetting                                            
⠏ |        2290 | spectra_subsetting                                            
⠙ |        2292 | spectra_subsetting                                            
⠸ |        2294 | spectra_subsetting                                            
⠴ |        2296 | spectra_subsetting                                            
⠧ |        2298 | spectra_subsetting                                            
⠏ |        2300 | spectra_subsetting                                            
⠸ |        2304 | spectra_subsetting                                            
⠙ |        2312 | spectra_subsetting                                            
⠧ |        2318 | spectra_subsetting                                            
⠴ |        2326 | spectra_subsetting                                            
⠋ |        2331 | spectra_subsetting                                            
⠸ |        2334 | spectra_subsetting                                            
✔ |        2342 | spectra_subsetting [54.3s]

⠏ |          0 | spectra_variables                                              
⠙ |         12 | spectra_variables                                              
⠸ |         14 | spectra_variables                                              
⠴ |         16 | spectra_variables                                              
⠦ |         27 | spectra_variables                                              
⠇ |         29 | spectra_variables                                              
⠋ |         31 | spectra_variables                                              
⠹ |         43 | spectra_variables                                              
⠧ |      1  57 | spectra_variables                                              
✔ |      1  62 | spectra_variables [18.7s]

══ Results ═════════════════════════════════════════════════════════════════════
Duration: 78.0 s

── Skipped tests (1) ───────────────────────────────────────────────────────────
• empty test (1): 'test_spectra_variables.R:262:1'

[ FAIL 0 | WARN 0 | SKIP 1 | PASS 2408 ]
> 
> proc.time()
   user  system elapsed 
 99.392  14.098 117.720 

Example timings

MsBackendRawFileReader.Rcheck/MsBackendRawFileReader-Ex.timings

nameusersystemelapsed
MsBackendRawFileReader-class3.5701.1515.087
MsBackendRawFileReader 7.851 3.23211.515
hidden_aliases2.6131.1003.818
ioBenchmark30.72212.13416.210