Back to Multiple platform build/check report for BioC 3.22:   simplified   long
ABCDEFGHIJKL[M]NOPQRSTUVWXYZ

This page was generated on 2025-10-14 12:06 -0400 (Tue, 14 Oct 2025).

HostnameOSArch (*)R versionInstalled pkgs
nebbiolo2Linux (Ubuntu 24.04.3 LTS)x86_644.5.1 Patched (2025-08-23 r88802) -- "Great Square Root" 4864
lconwaymacOS 12.7.1 Montereyx86_644.5.1 Patched (2025-09-10 r88807) -- "Great Square Root" 4652
kjohnson3macOS 13.7.7 Venturaarm644.5.1 Patched (2025-09-10 r88807) -- "Great Square Root" 4597
taishanLinux (openEuler 24.03 LTS)aarch644.5.0 (2025-04-11) -- "How About a Twenty-Six" 4610
Click on any hostname to see more info about the system (e.g. compilers)      (*) as reported by 'uname -p', except on Windows and Mac OS X

Package 1370/2346HostnameOS / ArchINSTALLBUILDCHECKBUILD BIN
MsBackendSql 1.9.2  (landing page)
Johannes Rainer
Snapshot Date: 2025-10-13 13:45 -0400 (Mon, 13 Oct 2025)
git_url: https://git.bioconductor.org/packages/MsBackendSql
git_branch: devel
git_last_commit: c03a805
git_last_commit_date: 2025-10-07 01:48:20 -0400 (Tue, 07 Oct 2025)
nebbiolo2Linux (Ubuntu 24.04.3 LTS) / x86_64  OK    OK    OK  UNNEEDED, same version is already published
lconwaymacOS 12.7.1 Monterey / x86_64  OK    OK    OK    OK  UNNEEDED, same version is already published
kjohnson3macOS 13.7.7 Ventura / arm64  OK    OK    OK    OK  UNNEEDED, same version is already published
taishanLinux (openEuler 24.03 LTS) / aarch64  OK    OK    OK  


CHECK results for MsBackendSql on kjohnson3

To the developers/maintainers of the MsBackendSql package:
- Allow up to 24 hours (and sometimes 48 hours) for your latest push to git@git.bioconductor.org:packages/MsBackendSql.git to reflect on this report. See Troubleshooting Build Report for more information.
- Use the following Renviron settings to reproduce errors and warnings.
- If 'R CMD check' started to fail recently on the Linux builder(s) over a missing dependency, add the missing dependency to 'Suggests:' in your DESCRIPTION file. See Renviron.bioc for more information.

raw results


Summary

Package: MsBackendSql
Version: 1.9.2
Command: /Library/Frameworks/R.framework/Resources/bin/R CMD check --install=check:MsBackendSql.install-out.txt --library=/Library/Frameworks/R.framework/Resources/library --no-vignettes --timings MsBackendSql_1.9.2.tar.gz
StartedAt: 2025-10-13 20:37:32 -0400 (Mon, 13 Oct 2025)
EndedAt: 2025-10-13 20:39:45 -0400 (Mon, 13 Oct 2025)
EllapsedTime: 132.7 seconds
RetCode: 0
Status:   OK  
CheckDir: MsBackendSql.Rcheck
Warnings: 0

Command output

##############################################################################
##############################################################################
###
### Running command:
###
###   /Library/Frameworks/R.framework/Resources/bin/R CMD check --install=check:MsBackendSql.install-out.txt --library=/Library/Frameworks/R.framework/Resources/library --no-vignettes --timings MsBackendSql_1.9.2.tar.gz
###
##############################################################################
##############################################################################


* using log directory ‘/Users/biocbuild/bbs-3.22-bioc/meat/MsBackendSql.Rcheck’
* using R version 4.5.1 Patched (2025-09-10 r88807)
* using platform: aarch64-apple-darwin20
* R was compiled by
    Apple clang version 16.0.0 (clang-1600.0.26.6)
    GNU Fortran (GCC) 14.2.0
* running under: macOS Ventura 13.7.7
* using session charset: UTF-8
* using option ‘--no-vignettes’
* checking for file ‘MsBackendSql/DESCRIPTION’ ... OK
* this is package ‘MsBackendSql’ version ‘1.9.2’
* package encoding: UTF-8
* checking package namespace information ... OK
* checking package dependencies ... OK
* checking if this is a source package ... OK
* checking if there is a namespace ... OK
* checking for hidden files and directories ... OK
* checking for portable file names ... OK
* checking for sufficient/correct file permissions ... OK
* checking whether package ‘MsBackendSql’ can be installed ... OK
* checking installed package size ... OK
* checking package directory ... OK
* checking ‘build’ directory ... OK
* checking DESCRIPTION meta-information ... OK
* checking top-level files ... OK
* checking for left-over files ... OK
* checking index information ... OK
* checking package subdirectories ... OK
* checking code files for non-ASCII characters ... OK
* checking R files for syntax errors ... OK
* checking whether the package can be loaded ... OK
* checking whether the package can be loaded with stated dependencies ... OK
* checking whether the package can be unloaded cleanly ... OK
* checking whether the namespace can be loaded with stated dependencies ... OK
* checking whether the namespace can be unloaded cleanly ... OK
* checking dependencies in R code ... OK
* checking S3 generic/method consistency ... OK
* checking replacement functions ... OK
* checking foreign function calls ... OK
* checking R code for possible problems ... OK
* checking Rd files ... OK
* checking Rd metadata ... OK
* checking Rd cross-references ... OK
* checking for missing documentation entries ... OK
* checking for code/documentation mismatches ... OK
* checking Rd \usage sections ... OK
* checking Rd contents ... OK
* checking for unstated dependencies in examples ... OK
* checking files in ‘vignettes’ ... OK
* checking examples ... OK
* checking for unstated dependencies in ‘tests’ ... OK
* checking tests ...
  Running ‘testthat.R’
 OK
* checking for unstated dependencies in vignettes ... OK
* checking package vignettes ... OK
* checking running R code from vignettes ... SKIPPED
* checking re-building of vignette outputs ... SKIPPED
* checking PDF version of manual ... OK
* DONE

Status: OK


Installation output

MsBackendSql.Rcheck/00install.out

##############################################################################
##############################################################################
###
### Running command:
###
###   /Library/Frameworks/R.framework/Resources/bin/R CMD INSTALL MsBackendSql
###
##############################################################################
##############################################################################


* installing to library ‘/Library/Frameworks/R.framework/Versions/4.5-arm64/Resources/library’
* installing *source* package ‘MsBackendSql’ ...
** this is package ‘MsBackendSql’ version ‘1.9.2’
** using staged installation
** R
** byte-compile and prepare package for lazy loading
** help
*** installing help indices
*** copying figures
** building package indices
** installing vignettes
** testing if installed package can be loaded from temporary location
** testing if installed package can be loaded from final location
** testing if installed package keeps a record of temporary installation path
* DONE (MsBackendSql)

Tests output

MsBackendSql.Rcheck/tests/testthat.Rout


R version 4.5.1 Patched (2025-09-10 r88807) -- "Great Square Root"
Copyright (C) 2025 The R Foundation for Statistical Computing
Platform: aarch64-apple-darwin20

R is free software and comes with ABSOLUTELY NO WARRANTY.
You are welcome to redistribute it under certain conditions.
Type 'license()' or 'licence()' for distribution details.

R is a collaborative project with many contributors.
Type 'contributors()' for more information and
'citation()' on how to cite R or R packages in publications.

Type 'demo()' for some demos, 'help()' for on-line help, or
'help.start()' for an HTML browser interface to help.
Type 'q()' to quit R.

> library(testthat)
> library(MsBackendSql)
Loading required package: Spectra
Loading required package: S4Vectors
Loading required package: stats4
Loading required package: BiocGenerics
Loading required package: generics

Attaching package: 'generics'

The following objects are masked from 'package:base':

    as.difftime, as.factor, as.ordered, intersect, is.element, setdiff,
    setequal, union


Attaching package: 'BiocGenerics'

The following objects are masked from 'package:stats':

    IQR, mad, sd, var, xtabs

The following objects are masked from 'package:base':

    Filter, Find, Map, Position, Reduce, anyDuplicated, aperm, append,
    as.data.frame, basename, cbind, colnames, dirname, do.call,
    duplicated, eval, evalq, get, grep, grepl, is.unsorted, lapply,
    mapply, match, mget, order, paste, pmax, pmax.int, pmin, pmin.int,
    rank, rbind, rownames, sapply, saveRDS, table, tapply, unique,
    unsplit, which.max, which.min


Attaching package: 'S4Vectors'

The following object is masked from 'package:utils':

    findMatches

The following objects are masked from 'package:base':

    I, expand.grid, unname

Loading required package: BiocParallel
> library(Spectra)
> library(RSQLite)
> library(msdata)
> 
> setClass("DummySQL",
+          contains = "SQLiteConnection")
> 
> setMethod("dbExecute", c("DummySQL", "character"),
+           function(conn, statement, ...) {
+               TRUE
+           })
> 
> mm8_file <- system.file("microtofq", "MM8.mzML", package = "msdata")
> mm8_sps <- Spectra(mm8_file)
> mm8_db_long <- dbConnect(SQLite(), tempfile())
> createMsBackendSqlDatabase(mm8_db_long, mm8_file, blob = FALSE,
+                            peaksStorageMode = "long")
Importing data ... 

[==========================================================] 1/1 (100%) in  0s
Creating indices .... Done
[1] TRUE
> mm8_be_long <- backendInitialize(MsBackendSql(), mm8_db_long)
> 
> mm8_db_blob <- dbConnect(SQLite(), tempfile())
> createMsBackendSqlDatabase(mm8_db_blob, mm8_file, blob = TRUE,
+                            peaksStorageMode = "blob")
Importing data ... 

[==========================================================] 1/1 (100%) in  0s
Creating indices .... Done
[1] TRUE
> mm8_be_blob <- backendInitialize(MsBackendSql(), mm8_db_blob)
> 
> mm8_db_blob2 <- dbConnect(SQLite(), tempfile())
> createMsBackendSqlDatabase(mm8_db_blob2, mm8_file, blob = TRUE,
+                            peaksStorageMode = "blob2")
Importing data ... 

[==========================================================] 1/1 (100%) in  0s
Creating indices .... Done
[1] TRUE
> mm8_be_blob2 <- backendInitialize(MsBackendSql(), mm8_db_blob2)
> 
> mm14_file <- system.file("microtofq", "MM14.mzML", package = "msdata")
> mm_db <- dbConnect(SQLite(), tempfile())
> createMsBackendSqlDatabase(mm_db, c(mm8_file, mm14_file), blob = FALSE)
Importing data ... 

[==========================================================] 1/1 (100%) in  1s
Creating indices .... Done
[1] TRUE
> mm_be <- backendInitialize(MsBackendSql(), mm_db)
> 
> tmt_file <- proteomics(full.names = TRUE)[4L]
> tmt_mzr <- backendInitialize(MsBackendMzR(), tmt_file)
> tmt_db <- dbConnect(SQLite(), tempfile())
> createMsBackendSqlDatabase(tmt_db, tmt_file, blob = FALSE)
Importing data ... 

[==========================================================] 1/1 (100%) in 28s
Creating indices .... Done
[1] TRUE
> tmt_be <- backendInitialize(MsBackendSql(), tmt_db)
> 
> test_check("MsBackendSql")
[ FAIL 0 | WARN 1 | SKIP 1 | PASS 586 ]

══ Skipped tests (1) ═══════════════════════════════════════════════════════════
• empty test (1): 'test_MsBackendSql-functions.R:426:1'

[ FAIL 0 | WARN 1 | SKIP 1 | PASS 586 ]
> 
> test_suite <- system.file("test_backends", "test_MsBackend",
+                           package = "Spectra")
> 
> be <- mm8_be_blob
> test_dir(test_suite, stop_on_failure = TRUE)
✔ | F W  S  OK | Context

⠏ |          0 | peaks_variables                                                
✔ |          4 | peaks_variables

⠏ |          0 | spectra_subsetting                                             
⠧ |         68 | spectra_subsetting                                             
⠙ |        172 | spectra_subsetting                                             
⠧ |        268 | spectra_subsetting                                             
⠴ |        366 | spectra_subsetting                                             
⠸ |        464 | spectra_subsetting                                             
⠦ |        557 | spectra_subsetting                                             
⠋ |        601 | spectra_subsetting                                             
⠴ |        606 | spectra_subsetting                                             
⠋ |        611 | spectra_subsetting                                             
⠴ |        616 | spectra_subsetting                                             
⠋ |        621 | spectra_subsetting                                             
⠴ |        626 | spectra_subsetting                                             
⠋ |        631 | spectra_subsetting                                             
⠴ |        636 | spectra_subsetting                                             
⠋ |        641 | spectra_subsetting                                             
⠴ |        646 | spectra_subsetting                                             
⠋ |        651 | spectra_subsetting                                             
⠴ |        656 | spectra_subsetting                                             
⠋ |        661 | spectra_subsetting                                             
⠴ |        666 | spectra_subsetting                                             
⠋ |        671 | spectra_subsetting                                             
⠴ |        676 | spectra_subsetting                                             
⠋ |        681 | spectra_subsetting                                             
⠴ |        686 | spectra_subsetting                                             
⠋ |        691 | spectra_subsetting                                             
⠴ |        696 | spectra_subsetting                                             
⠋ |        701 | spectra_subsetting                                             
⠴ |        706 | spectra_subsetting                                             
⠋ |        711 | spectra_subsetting                                             
⠴ |        716 | spectra_subsetting                                             
⠋ |        721 | spectra_subsetting                                             
⠴ |        726 | spectra_subsetting                                             
⠋ |        731 | spectra_subsetting                                             
⠴ |        736 | spectra_subsetting                                             
⠋ |        741 | spectra_subsetting                                             
⠴ |        746 | spectra_subsetting                                             
⠋ |        751 | spectra_subsetting                                             
⠴ |        756 | spectra_subsetting                                             
⠋ |        761 | spectra_subsetting                                             
⠴ |        766 | spectra_subsetting                                             
⠋ |        771 | spectra_subsetting                                             
⠴ |        776 | spectra_subsetting                                             
⠋ |        781 | spectra_subsetting                                             
⠴ |        786 | spectra_subsetting                                             
⠋ |        791 | spectra_subsetting                                             
⠴ |        796 | spectra_subsetting                                             
⠼ |        815 | spectra_subsetting                                             
⠋ |        831 | spectra_subsetting                                             
✔ |        838 | spectra_subsetting [5.1s]

⠏ |          0 | spectra_variables                                              
⠦ |         27 | spectra_variables                                              
✔ |         64 | spectra_variables

══ Results ═════════════════════════════════════════════════════════════════════
Duration: 5.4 s

[ FAIL 0 | WARN 0 | SKIP 0 | PASS 906 ]

🌈 Your tests are over the rainbow 🌈
Warning message:
call dbDisconnect() when finished working with a connection 
> 
> be <- tmt_be[sample(seq_along(tmt_be), 300)]
> test_dir(test_suite, stop_on_failure = TRUE)
✔ | F W  S  OK | Context

⠏ |          0 | peaks_variables                                                
⠙ |          2 | peaks_variables                                                
⠸ |          4 | peaks_variables                                                
✔ |          4 | peaks_variables [1.9s]

⠏ |          0 | spectra_subsetting                                             
⠴ |         76 | spectra_subsetting                                             
⠸ |        164 | spectra_subsetting                                             
⠴ |        266 | spectra_subsetting                                             
⠼ |        365 | spectra_subsetting                                             
⠋ |        451 | spectra_subsetting                                             
⠸ |        554 | spectra_subsetting                                             
⠹ |        653 | spectra_subsetting                                             
⠏ |        750 | spectra_subsetting                                             
⠸ |        854 | spectra_subsetting                                             
⠦ |        907 | spectra_subsetting                                             
⠏ |        910 | spectra_subsetting                                             
⠹ |        913 | spectra_subsetting                                             
⠧ |        918 | spectra_subsetting                                             
⠏ |        920 | spectra_subsetting                                             
⠹ |        923 | spectra_subsetting                                             
⠧ |        928 | spectra_subsetting                                             
⠹ |        933 | spectra_subsetting                                             
⠴ |        936 | spectra_subsetting                                             
⠋ |        941 | spectra_subsetting                                             
⠸ |        944 | spectra_subsetting                                             
⠴ |        946 | spectra_subsetting                                             
⠋ |        951 | spectra_subsetting                                             
⠙ |        952 | spectra_subsetting                                             
⠦ |        957 | spectra_subsetting                                             
⠹ |        963 | spectra_subsetting                                             
⠴ |        966 | spectra_subsetting                                             
⠏ |        970 | spectra_subsetting                                             
⠹ |        973 | spectra_subsetting                                             
⠧ |        978 | spectra_subsetting                                             
⠋ |        981 | spectra_subsetting                                             
⠸ |        984 | spectra_subsetting                                             
⠧ |        988 | spectra_subsetting                                             
⠹ |        993 | spectra_subsetting                                             
⠧ |        998 | spectra_subsetting                                             
⠙ |        1002 | spectra_subsetting                                            
⠦ |        1007 | spectra_subsetting                                            
⠙ |        1012 | spectra_subsetting                                            
⠦ |        1017 | spectra_subsetting                                            
⠙ |        1022 | spectra_subsetting                                            
⠼ |        1025 | spectra_subsetting                                            
⠏ |        1030 | spectra_subsetting                                            
⠹ |        1033 | spectra_subsetting                                            
⠦ |        1037 | spectra_subsetting                                            
⠋ |        1041 | spectra_subsetting                                            
⠸ |        1044 | spectra_subsetting                                            
⠇ |        1049 | spectra_subsetting                                            
⠹ |        1053 | spectra_subsetting                                            
⠦ |        1057 | spectra_subsetting                                            
⠙ |        1062 | spectra_subsetting                                            
⠦ |        1067 | spectra_subsetting                                            
⠏ |        1070 | spectra_subsetting                                            
⠼ |        1075 | spectra_subsetting                                            
⠦ |        1077 | spectra_subsetting                                            
⠋ |        1081 | spectra_subsetting                                            
⠸ |        1084 | spectra_subsetting                                            
⠦ |        1087 | spectra_subsetting                                            
⠙ |        1092 | spectra_subsetting                                            
⠦ |        1097 | spectra_subsetting                                            
⠋ |        1101 | spectra_subsetting                                            
⠸ |        1104 | spectra_subsetting                                            
⠇ |        1109 | spectra_subsetting                                            
⠋ |        1111 | spectra_subsetting                                            
⠴ |        1116 | spectra_subsetting                                            
⠋ |        1121 | spectra_subsetting                                            
⠸ |        1124 | spectra_subsetting                                            
⠇ |        1129 | spectra_subsetting                                            
⠸ |        1134 | spectra_subsetting                                            
⠇ |        1139 | spectra_subsetting                                            
⠸ |        1144 | spectra_subsetting                                            
⠇ |        1149 | spectra_subsetting                                            
⠹ |        1153 | spectra_subsetting                                            
⠧ |        1158 | spectra_subsetting                                            
⠹ |        1163 | spectra_subsetting                                            
⠧ |        1168 | spectra_subsetting                                            
⠹ |        1173 | spectra_subsetting                                            
⠴ |        1176 | spectra_subsetting                                            
⠋ |        1181 | spectra_subsetting                                            
⠹ |        1183 | spectra_subsetting                                            
⠧ |        1188 | spectra_subsetting                                            
⠹ |        1193 | spectra_subsetting                                            
⠴ |        1196 | spectra_subsetting                                            
⠏ |        1200 | spectra_subsetting                                            
⠦ |        1207 | spectra_subsetting                                            
⠦ |        1217 | spectra_subsetting                                            
⠹ |        1223 | spectra_subsetting                                            
⠧ |        1238 | spectra_subsetting                                            
✔ |        1246 | spectra_subsetting [14.7s]

⠏ |          0 | spectra_variables                                              
⠙ |         12 | spectra_variables                                              
⠸ |         14 | spectra_variables                                              
⠴ |         16 | spectra_variables                                              
⠦ |         27 | spectra_variables                                              
⠇ |         29 | spectra_variables                                              
⠋ |         31 | spectra_variables                                              
⠹ |         43 | spectra_variables                                              
⠸ |         54 | spectra_variables                                              
✔ |         64 | spectra_variables [6.1s]

══ Results ═════════════════════════════════════════════════════════════════════
Duration: 22.8 s

[ FAIL 0 | WARN 0 | SKIP 0 | PASS 1314 ]
> 
> dbDisconnect(mm8_db_long)
> dbDisconnect(mm8_db_blob)
> dbDisconnect(mm8_db_blob2)
> dbDisconnect(mm_db)
> dbDisconnect(tmt_db)
> 
> proc.time()
   user  system elapsed 
 88.909   9.964  98.593 

Example timings

MsBackendSql.Rcheck/MsBackendSql-Ex.timings

nameusersystemelapsed
MsBackendSql1.2640.1991.464