Back to Multiple platform build/check report for BioC 3.23:   simplified   long
ABCDEFGHIJKL[M]NOPQRSTUVWXYZ

This page was generated on 2025-11-27 11:37 -0500 (Thu, 27 Nov 2025).

HostnameOSArch (*)R versionInstalled pkgs
nebbiolo1Linux (Ubuntu 24.04.3 LTS)x86_64R Under development (unstable) (2025-10-20 r88955) -- "Unsuffered Consequences" 4865
lconwaymacOS 12.7.6 Montereyx86_64R Under development (unstable) (2025-10-21 r88958) -- "Unsuffered Consequences" 4614
kjohnson3macOS 13.7.7 Venturaarm64R Under development (unstable) (2025-11-04 r88984) -- "Unsuffered Consequences" 4571
Click on any hostname to see more info about the system (e.g. compilers)      (*) as reported by 'uname -p', except on Windows and Mac OS X

Package 1414/2328HostnameOS / ArchINSTALLBUILDCHECKBUILD BIN
MutationalPatterns 3.21.0  (landing page)
Mark van Roosmalen
Snapshot Date: 2025-11-26 13:40 -0500 (Wed, 26 Nov 2025)
git_url: https://git.bioconductor.org/packages/MutationalPatterns
git_branch: devel
git_last_commit: b3f3115
git_last_commit_date: 2025-10-29 10:35:07 -0500 (Wed, 29 Oct 2025)
nebbiolo1Linux (Ubuntu 24.04.3 LTS) / x86_64  OK    OK    ERROR  
lconwaymacOS 12.7.6 Monterey / x86_64  OK    ERROR  skippedskipped
kjohnson3macOS 13.7.7 Ventura / arm64  OK    ERROR  skippedskipped


CHECK results for MutationalPatterns on nebbiolo1

To the developers/maintainers of the MutationalPatterns package:
- Allow up to 24 hours (and sometimes 48 hours) for your latest push to git@git.bioconductor.org:packages/MutationalPatterns.git to reflect on this report. See Troubleshooting Build Report for more information.
- Use the following Renviron settings to reproduce errors and warnings.
- If 'R CMD check' started to fail recently on the Linux builder(s) over a missing dependency, add the missing dependency to 'Suggests:' in your DESCRIPTION file. See Renviron.bioc for more information.

raw results


Summary

Package: MutationalPatterns
Version: 3.21.0
Command: /home/biocbuild/bbs-3.23-bioc/R/bin/R CMD check --install=check:MutationalPatterns.install-out.txt --library=/home/biocbuild/bbs-3.23-bioc/R/site-library --timings MutationalPatterns_3.21.0.tar.gz
StartedAt: 2025-11-27 01:56:51 -0500 (Thu, 27 Nov 2025)
EndedAt: 2025-11-27 02:17:33 -0500 (Thu, 27 Nov 2025)
EllapsedTime: 1242.0 seconds
RetCode: 1
Status:   ERROR  
CheckDir: MutationalPatterns.Rcheck
Warnings: NA

Command output

##############################################################################
##############################################################################
###
### Running command:
###
###   /home/biocbuild/bbs-3.23-bioc/R/bin/R CMD check --install=check:MutationalPatterns.install-out.txt --library=/home/biocbuild/bbs-3.23-bioc/R/site-library --timings MutationalPatterns_3.21.0.tar.gz
###
##############################################################################
##############################################################################


* using log directory ‘/home/biocbuild/bbs-3.23-bioc/meat/MutationalPatterns.Rcheck’
* using R Under development (unstable) (2025-10-20 r88955)
* using platform: x86_64-pc-linux-gnu
* R was compiled by
    gcc (Ubuntu 13.3.0-6ubuntu2~24.04) 13.3.0
    GNU Fortran (Ubuntu 13.3.0-6ubuntu2~24.04) 13.3.0
* running under: Ubuntu 24.04.3 LTS
* using session charset: UTF-8
* checking for file ‘MutationalPatterns/DESCRIPTION’ ... OK
* checking extension type ... Package
* this is package ‘MutationalPatterns’ version ‘3.21.0’
* package encoding: UTF-8
* checking package namespace information ... OK
* checking package dependencies ... OK
* checking if this is a source package ... OK
* checking if there is a namespace ... OK
* checking for hidden files and directories ... OK
* checking for portable file names ... OK
* checking for sufficient/correct file permissions ... OK
* checking whether package ‘MutationalPatterns’ can be installed ... OK
* checking installed package size ... OK
* checking package directory ... OK
* checking ‘build’ directory ... OK
* checking DESCRIPTION meta-information ... NOTE
License stub is invalid DCF.
* checking top-level files ... OK
* checking for left-over files ... OK
* checking index information ... OK
* checking package subdirectories ... OK
* checking code files for non-ASCII characters ... OK
* checking R files for syntax errors ... OK
* checking whether the package can be loaded ... OK
* checking whether the package can be loaded with stated dependencies ... OK
* checking whether the package can be unloaded cleanly ... OK
* checking whether the namespace can be loaded with stated dependencies ... OK
* checking whether the namespace can be unloaded cleanly ... OK
* checking loading without being on the library search path ... OK
* checking dependencies in R code ... OK
* checking S3 generic/method consistency ... OK
* checking replacement functions ... OK
* checking foreign function calls ... OK
* checking R code for possible problems ... OK
* checking Rd files ... OK
* checking Rd metadata ... OK
* checking Rd cross-references ... OK
* checking for missing documentation entries ... OK
* checking for code/documentation mismatches ... OK
* checking Rd \usage sections ... OK
* checking Rd contents ... OK
* checking for unstated dependencies in examples ... OK
* checking files in ‘vignettes’ ... OK
* checking examples ... OK
Examples with CPU (user + system) or elapsed time > 5s
                                    user system elapsed
read_vcfs_as_granges              20.385  3.844  28.582
context_potential_damage_analysis 23.505  0.679  24.185
plot_lesion_segregation           17.142  0.121  17.263
bin_mutation_density              11.026  0.618  11.650
get_mut_type                      11.206  0.001  11.223
calculate_lesion_segregation      10.678  0.504  11.184
plot_compare_indels               10.654  0.031  10.686
plot_indel_contexts               10.462  0.046  10.508
genomic_distribution              10.091  0.163  10.259
get_indel_context                  6.459  0.891   7.352
fit_to_signatures_bootstrapped     6.818  0.236   7.055
plot_compare_dbs                   6.767  0.034   6.802
mut_matrix_stranded                5.261  0.449   5.711
plot_profile_heatmap               5.608  0.030   5.638
plot_spectrum_region               5.378  0.133   5.511
plot_river                         5.455  0.009   5.463
plot_spectrum                      5.105  0.219   5.335
* checking for unstated dependencies in ‘tests’ ... OK
* checking tests ...
  Running ‘testthat.R’
 ERROR
Running the tests in ‘tests/testthat.R’ failed.
Last 13 lines of output:
  [68] 2 - 1 ==  1
  [69] 4 - 3 ==  1
  [70] 5 - 6 == -1
  [71] 2 - 1 ==  1
  [72] 1 - 0 ==  1
  [74] 3 - 2 ==  1
  [77] 4 - 3 ==  1
  [78] 2 - 1 ==  1
  [79] 1 - 0 ==  1
  ...
  
  [ FAIL 3 | WARN 41 | SKIP 0 | PASS 471 ]
  Error:
  ! Test failures.
  Execution halted
* checking for unstated dependencies in vignettes ... OK
* checking package vignettes ... OK
* checking re-building of vignette outputs ... OK
* checking PDF version of manual ... OK
* DONE

Status: 1 ERROR, 1 NOTE
See
  ‘/home/biocbuild/bbs-3.23-bioc/meat/MutationalPatterns.Rcheck/00check.log’
for details.


Installation output

MutationalPatterns.Rcheck/00install.out

##############################################################################
##############################################################################
###
### Running command:
###
###   /home/biocbuild/bbs-3.23-bioc/R/bin/R CMD INSTALL MutationalPatterns
###
##############################################################################
##############################################################################


* installing to library ‘/home/biocbuild/bbs-3.23-bioc/R/site-library’
* installing *source* package ‘MutationalPatterns’ ...
** this is package ‘MutationalPatterns’ version ‘3.21.0’
** using staged installation
** R
** inst
** byte-compile and prepare package for lazy loading
** help
*** installing help indices
** building package indices
** installing vignettes
** testing if installed package can be loaded from temporary location
** testing if installed package can be loaded from final location
** testing if installed package keeps a record of temporary installation path
* DONE (MutationalPatterns)

Tests output

MutationalPatterns.Rcheck/tests/testthat.Rout.fail


R Under development (unstable) (2025-10-20 r88955) -- "Unsuffered Consequences"
Copyright (C) 2025 The R Foundation for Statistical Computing
Platform: x86_64-pc-linux-gnu

R is free software and comes with ABSOLUTELY NO WARRANTY.
You are welcome to redistribute it under certain conditions.
Type 'license()' or 'licence()' for distribution details.

R is a collaborative project with many contributors.
Type 'contributors()' for more information and
'citation()' on how to cite R or R packages in publications.

Type 'demo()' for some demos, 'help()' for on-line help, or
'help.start()' for an HTML browser interface to help.
Type 'q()' to quit R.

> library(testthat)
> library(MutationalPatterns)
Loading required package: GenomicRanges
Loading required package: stats4
Loading required package: BiocGenerics
Loading required package: generics

Attaching package: 'generics'

The following objects are masked from 'package:base':

    as.difftime, as.factor, as.ordered, intersect, is.element, setdiff,
    setequal, union


Attaching package: 'BiocGenerics'

The following objects are masked from 'package:stats':

    IQR, mad, sd, var, xtabs

The following objects are masked from 'package:base':

    Filter, Find, Map, Position, Reduce, anyDuplicated, aperm, append,
    as.data.frame, basename, cbind, colnames, dirname, do.call,
    duplicated, eval, evalq, get, grep, grepl, is.unsorted, lapply,
    mapply, match, mget, order, paste, pmax, pmax.int, pmin, pmin.int,
    rank, rbind, rownames, sapply, saveRDS, table, tapply, unique,
    unsplit, which.max, which.min

Loading required package: S4Vectors

Attaching package: 'S4Vectors'

The following object is masked from 'package:utils':

    findMatches

The following objects are masked from 'package:base':

    I, expand.grid, unname

Loading required package: IRanges
Loading required package: Seqinfo
Loading required package: NMF
Loading required package: registry
Loading required package: rngtools
Loading required package: cluster
NMF - BioConductor layer [OK] | Shared memory capabilities [NO: bigmemory] | Cores 2/2
  To enable shared memory capabilities, try: install.extras('
NMF
')

Attaching package: 'NMF'

The following object is masked from 'package:S4Vectors':

    nrun

The following object is masked from 'package:generics':

    fit

The following object is masked from 'package:testthat':

    compare

> 
> test_check("MutationalPatterns")
Saving _problems/test-context_potential_damage_analysis-46.R
Saving _problems/test-mut_matrix_stranded-20.R
Saving _problems/test-mut_matrix_stranded-29.R
[ FAIL 3 | WARN 41 | SKIP 0 | PASS 471 ]

══ Failed tests ════════════════════════════════════════════════════════════════
── Failure ('test-context_potential_damage_analysis.R:46:3'): Output is equal to expected ──
Expected `output` to equal `expected`.
Differences:
Component "n": Mean relative difference: 0.09452736
Component "ratio": Mean relative difference: 0.06150134
Component "blosum62": Mean relative difference: 0.2656804
── Failure ('test-mut_matrix_stranded.R:20:3'): transforms correctly ───────────
Expected `output` to equal `expected`.
Differences:
382/1728 mismatches (average diff: 1.45)
[68] 2 - 1 ==  1
[69] 4 - 3 ==  1
[70] 5 - 6 == -1
[71] 2 - 1 ==  1
[72] 1 - 0 ==  1
[74] 3 - 2 ==  1
[77] 4 - 3 ==  1
[78] 2 - 1 ==  1
[79] 1 - 0 ==  1
...
── Failure ('test-mut_matrix_stranded.R:29:3'): a list is also acceptable input ──
Expected `output_list` to equal `expected`.
Differences:
382/1728 mismatches (average diff: 1.45)
[68] 2 - 1 ==  1
[69] 4 - 3 ==  1
[70] 5 - 6 == -1
[71] 2 - 1 ==  1
[72] 1 - 0 ==  1
[74] 3 - 2 ==  1
[77] 4 - 3 ==  1
[78] 2 - 1 ==  1
[79] 1 - 0 ==  1
...

[ FAIL 3 | WARN 41 | SKIP 0 | PASS 471 ]
Error:
! Test failures.
Execution halted

Example timings

MutationalPatterns.Rcheck/MutationalPatterns-Ex.timings

nameusersystemelapsed
bin_mutation_density11.026 0.61811.650
binomial_test0.0090.0010.009
calculate_lesion_segregation10.678 0.50411.184
cluster_signatures0.0450.0010.046
context_potential_damage_analysis23.505 0.67924.185
convert_sigs_to_ref0.0410.0020.045
cos_sim000
cos_sim_matrix0.0210.0030.024
count_dbs_contexts0.0840.0020.087
count_indel_contexts0.1470.0010.148
count_mbs_contexts0.0770.0000.078
determine_regional_similarity2.8760.4063.282
enrichment_depletion_test0.1310.0080.140
extract_signatures0.0010.0000.002
fit_to_signatures0.0830.0180.102
fit_to_signatures_bootstrapped6.8180.2367.055
fit_to_signatures_strict3.6700.0083.678
genomic_distribution10.091 0.16310.259
get_dbs_context0.3530.0030.357
get_indel_context6.4590.8917.352
get_known_signatures0.2180.4460.669
get_mut_type11.206 0.00111.223
lengthen_mut_matrix0.0110.0080.020
merge_signatures1.0600.1311.191
mut_context1.0470.1871.235
mut_matrix1.8640.2502.113
mut_matrix_stranded5.2610.4495.711
mut_strand1.8390.0711.911
mut_type0.0310.0000.030
mut_type_occurrences0.9130.1421.055
mutations_from_vcf0.0280.0000.028
plot_192_profile3.4520.0143.467
plot_96_profile2.8470.0042.852
plot_bootstrapped_contribution2.5060.0042.511
plot_compare_dbs6.7670.0346.802
plot_compare_indels10.654 0.03110.686
plot_compare_mbs1.3830.0021.385
plot_compare_profiles2.7190.0032.722
plot_contribution2.2750.0022.277
plot_contribution_heatmap2.3120.0032.315
plot_correlation_bootstrap1.8490.0221.871
plot_cosine_heatmap2.8070.0032.812
plot_dbs_contexts4.9600.0054.965
plot_enrichment_depletion4.8880.0164.904
plot_indel_contexts10.462 0.04610.508
plot_lesion_segregation17.142 0.12117.263
plot_main_dbs_contexts0.880.000.88
plot_main_indel_contexts0.8360.0010.836
plot_mbs_contexts0.7750.0170.793
plot_original_vs_reconstructed1.0070.0291.037
plot_profile_heatmap5.6080.0305.638
plot_profile_region1.2660.0011.267
plot_rainfall2.1050.0062.111
plot_regional_similarity2.4840.0042.488
plot_river5.4550.0095.463
plot_signature_strand_bias2.2270.0892.316
plot_spectrum5.1050.2195.335
plot_spectrum_region5.3780.1335.511
plot_strand0.2830.0010.283
plot_strand_bias0.8880.0010.889
pool_mut_mat0.0340.0020.037
read_vcfs_as_granges20.385 3.84428.582
rename_nmf_signatures0.0290.0340.063
signature_potential_damage_analysis0.0950.0110.106
split_muts_region4.2470.3824.632
strand_bias_test0.1090.0060.114
strand_occurrences0.1370.0130.150
type_context1.2580.2811.539