Back to Multiple platform build/check report for BioC 3.22:   simplified   long
ABCDEFGHIJKLMNOPQ[R]STUVWXYZ

This page was generated on 2025-10-04 12:05 -0400 (Sat, 04 Oct 2025).

HostnameOSArch (*)R versionInstalled pkgs
nebbiolo2Linux (Ubuntu 24.04.3 LTS)x86_644.5.1 Patched (2025-08-23 r88802) -- "Great Square Root" 4853
lconwaymacOS 12.7.1 Montereyx86_644.5.1 Patched (2025-09-10 r88807) -- "Great Square Root" 4640
kjohnson3macOS 13.7.7 Venturaarm644.5.1 Patched (2025-09-10 r88807) -- "Great Square Root" 4585
taishanLinux (openEuler 24.03 LTS)aarch644.5.0 (2025-04-11) -- "How About a Twenty-Six" 4576
Click on any hostname to see more info about the system (e.g. compilers)      (*) as reported by 'uname -p', except on Windows and Mac OS X

Package 1757/2341HostnameOS / ArchINSTALLBUILDCHECKBUILD BIN
ReUseData 1.9.0  (landing page)
Qian Liu
Snapshot Date: 2025-10-03 13:45 -0400 (Fri, 03 Oct 2025)
git_url: https://git.bioconductor.org/packages/ReUseData
git_branch: devel
git_last_commit: c5927b9
git_last_commit_date: 2025-04-15 13:01:44 -0400 (Tue, 15 Apr 2025)
nebbiolo2Linux (Ubuntu 24.04.3 LTS) / x86_64  OK    OK    OK  UNNEEDED, same version is already published
lconwaymacOS 12.7.1 Monterey / x86_64  OK    OK    OK    OK  UNNEEDED, same version is already published
kjohnson3macOS 13.7.7 Ventura / arm64  OK    OK    OK    OK  UNNEEDED, same version is already published
taishanLinux (openEuler 24.03 LTS) / aarch64  OK    OK    OK  


CHECK results for ReUseData on lconway

To the developers/maintainers of the ReUseData package:
- Allow up to 24 hours (and sometimes 48 hours) for your latest push to git@git.bioconductor.org:packages/ReUseData.git to reflect on this report. See Troubleshooting Build Report for more information.
- Use the following Renviron settings to reproduce errors and warnings.
- If 'R CMD check' started to fail recently on the Linux builder(s) over a missing dependency, add the missing dependency to 'Suggests:' in your DESCRIPTION file. See Renviron.bioc for more information.

raw results


Summary

Package: ReUseData
Version: 1.9.0
Command: /Library/Frameworks/R.framework/Resources/bin/R CMD check --install=check:ReUseData.install-out.txt --library=/Library/Frameworks/R.framework/Resources/library --no-vignettes --timings ReUseData_1.9.0.tar.gz
StartedAt: 2025-10-04 00:06:38 -0400 (Sat, 04 Oct 2025)
EndedAt: 2025-10-04 00:09:05 -0400 (Sat, 04 Oct 2025)
EllapsedTime: 146.9 seconds
RetCode: 0
Status:   OK  
CheckDir: ReUseData.Rcheck
Warnings: 0

Command output

##############################################################################
##############################################################################
###
### Running command:
###
###   /Library/Frameworks/R.framework/Resources/bin/R CMD check --install=check:ReUseData.install-out.txt --library=/Library/Frameworks/R.framework/Resources/library --no-vignettes --timings ReUseData_1.9.0.tar.gz
###
##############################################################################
##############################################################################


* using log directory ‘/Users/biocbuild/bbs-3.22-bioc/meat/ReUseData.Rcheck’
* using R version 4.5.1 Patched (2025-09-10 r88807)
* using platform: x86_64-apple-darwin20
* R was compiled by
    Apple clang version 14.0.0 (clang-1400.0.29.202)
    GNU Fortran (GCC) 14.2.0
* running under: macOS Monterey 12.7.6
* using session charset: UTF-8
* using option ‘--no-vignettes’
* checking for file ‘ReUseData/DESCRIPTION’ ... OK
* this is package ‘ReUseData’ version ‘1.9.0’
* package encoding: UTF-8
* checking package namespace information ... OK
* checking package dependencies ... OK
* checking if this is a source package ... OK
* checking if there is a namespace ... OK
* checking for hidden files and directories ... NOTE
Found the following hidden files and directories:
  .BBSoptions
These were most likely included in error. See section ‘Package
structure’ in the ‘Writing R Extensions’ manual.
* checking for portable file names ... OK
* checking for sufficient/correct file permissions ... OK
* checking whether package ‘ReUseData’ can be installed ... OK
* checking installed package size ... OK
* checking package directory ... OK
* checking ‘build’ directory ... OK
* checking DESCRIPTION meta-information ... OK
* checking top-level files ... OK
* checking for left-over files ... OK
* checking index information ... OK
* checking package subdirectories ... OK
* checking code files for non-ASCII characters ... OK
* checking R files for syntax errors ... OK
* checking whether the package can be loaded ... OK
* checking whether the package can be loaded with stated dependencies ... OK
* checking whether the package can be unloaded cleanly ... OK
* checking whether the namespace can be loaded with stated dependencies ... OK
* checking whether the namespace can be unloaded cleanly ... OK
* checking dependencies in R code ... OK
* checking S3 generic/method consistency ... OK
* checking replacement functions ... OK
* checking foreign function calls ... OK
* checking R code for possible problems ... OK
* checking Rd files ... OK
* checking Rd metadata ... OK
* checking Rd cross-references ... OK
* checking for missing documentation entries ... OK
* checking for code/documentation mismatches ... OK
* checking Rd \usage sections ... OK
* checking Rd contents ... OK
* checking for unstated dependencies in examples ... OK
* checking files in ‘vignettes’ ... OK
* checking examples ... OK
Examples with CPU (user + system) or elapsed time > 5s
               user system elapsed
dataHub-class 7.373  0.892   8.393
* checking for unstated dependencies in ‘tests’ ... OK
* checking tests ...
  Running ‘testthat.R’
 OK
* checking for unstated dependencies in vignettes ... OK
* checking package vignettes ... OK
* checking running R code from vignettes ... SKIPPED
* checking re-building of vignette outputs ... SKIPPED
* checking PDF version of manual ... OK
* DONE

Status: 1 NOTE
See
  ‘/Users/biocbuild/bbs-3.22-bioc/meat/ReUseData.Rcheck/00check.log’
for details.


Installation output

ReUseData.Rcheck/00install.out

##############################################################################
##############################################################################
###
### Running command:
###
###   /Library/Frameworks/R.framework/Resources/bin/R CMD INSTALL ReUseData
###
##############################################################################
##############################################################################


* installing to library ‘/Library/Frameworks/R.framework/Versions/4.5-x86_64/Resources/library’
* installing *source* package ‘ReUseData’ ...
** this is package ‘ReUseData’ version ‘1.9.0’
** using staged installation
** R
** inst
** byte-compile and prepare package for lazy loading
** help
*** installing help indices
** building package indices
** installing vignettes
** testing if installed package can be loaded from temporary location
** testing if installed package can be loaded from final location
** testing if installed package keeps a record of temporary installation path
* DONE (ReUseData)

Tests output

ReUseData.Rcheck/tests/testthat.Rout


R version 4.5.1 Patched (2025-09-10 r88807) -- "Great Square Root"
Copyright (C) 2025 The R Foundation for Statistical Computing
Platform: x86_64-apple-darwin20

R is free software and comes with ABSOLUTELY NO WARRANTY.
You are welcome to redistribute it under certain conditions.
Type 'license()' or 'licence()' for distribution details.

R is a collaborative project with many contributors.
Type 'contributors()' for more information and
'citation()' on how to cite R or R packages in publications.

Type 'demo()' for some demos, 'help()' for on-line help, or
'help.start()' for an HTML browser interface to help.
Type 'q()' to quit R.

> library(testthat)
> library(ReUseData)
> 
> test_check("ReUseData")
Note: you need to assign a name for the recipe: rcpName <- recipeLoad('xx')
Data recipe loaded!
Use inputs() to check required input parameters before evaluation.
Check here: https://rcwl.org/dataRecipes/echo_out.html
for user instructions (e.g., eligible input values, data source, etc.)

}INFO Final process status is success

Updating data record...
outfile.txt added

Updating data record...
7f204e811af6_GRCh38.primary_assembly.genome.fa.1.bt2 added
7f207e1134bd_GRCh38.primary_assembly.genome.fa.2.bt2 added
7f201b9da4f4_GRCh38.primary_assembly.genome.fa.3.bt2 added
7f20ab89d56_GRCh38.primary_assembly.genome.fa.4.bt2 added
7f205e617e99_GRCh38.primary_assembly.genome.fa.rev.1.bt2 added
7f2052be9f37_GRCh38.primary_assembly.genome.fa.rev.2.bt2 added
7f2060c6fe51_outfile.txt added
7f202862a97a_GRCh37_to_GRCh38.chain added
7f2065649d4c_GRCh37_to_NCBI34.chain added
7f2030931c95_GRCh37_to_NCBI35.chain added
7f20a39931d_GRCh37_to_NCBI36.chain added
7f2049e95a29_GRCh38_to_GRCh37.chain added
7f20771e5fa7_GRCh38_to_NCBI34.chain added
7f206b1a0a09_GRCh38_to_NCBI35.chain added
7f207a890bcd_GRCh38_to_NCBI36.chain added
7f203b65fe94_NCBI34_to_GRCh37.chain added
7f20252cc503_NCBI34_to_GRCh38.chain added
7f201e3a5b06_NCBI35_to_GRCh37.chain added
7f2092df66b_NCBI35_to_GRCh38.chain added
7f20288cef82_NCBI36_to_GRCh37.chain added
7f203cc0549a_NCBI36_to_GRCh38.chain added
7f2076f2699e_GRCm38_to_NCBIM36.chain added
7f2024f44114_GRCm38_to_NCBIM37.chain added
7f201fdc9b00_NCBIM36_to_GRCm38.chain added
7f204c442d57_NCBIM37_to_GRCm38.chain added
7f20ffcd1df_1000G_omni2.5.b37.vcf.gz added
7f201f368fac_1000G_omni2.5.b37.vcf.gz.tbi added
7f2037127536_Mills_and_1000G_gold_standard.indels.b37.vcf.gz added
7f201ccd4879_Mills_and_1000G_gold_standard.indels.b37.vcf.gz.tbi added
7f2069510eb4_1000G_omni2.5.hg38.vcf.gz added
7f20489c8170_1000G_omni2.5.hg38.vcf.gz.tbi added
7f201af6054e_Mills_and_1000G_gold_standard.indels.hg38.vcf.gz added
7f20dd651b6_Mills_and_1000G_gold_standard.indels.hg38.vcf.gz.tbi added
7f20718e8ad2_af-only-gnomad.raw.sites.vcf added
7f20453c1b3c_af-only-gnomad.raw.sites.vcf.idx added
7f206d2023a6_Mutect2-exome-panel.vcf.idx added
7f2059049f42_Mutect2-WGS-panel-b37.vcf added
7f203e73d3b6_Mutect2-WGS-panel-b37.vcf.idx added
7f20265071c2_small_exac_common_3.vcf added
7f206b5c8b34_small_exac_common_3.vcf.idx added
7f208b739fd_1000g_pon.hg38.vcf.gz added
7f2035401583_1000g_pon.hg38.vcf.gz.tbi added
7f2024466c5_af-only-gnomad.hg38.vcf.gz added
7f2058b710ac_af-only-gnomad.hg38.vcf.gz.tbi added
7f205aa7b9b4_small_exac_common_3.hg38.vcf.gz added
7f20399106eb_small_exac_common_3.hg38.vcf.gz.tbi added
7f20605d4bd3_gencode.v41.annotation.gtf added
7f20d1d3b12_gencode.v42.annotation.gtf added
7f207a112177_gencode.vM30.annotation.gtf added
7f207aac4a3c_gencode.vM31.annotation.gtf added
7f20453de80f_gencode.v41.transcripts.fa added
7f20634e544c_gencode.v41.transcripts.fa.fai added
7f202b807c83_gencode.v42.transcripts.fa added
7f206e92c5_gencode.v42.transcripts.fa.fai added
7f205b65c3bb_gencode.vM30.pc_transcripts.fa added
7f20761558dd_gencode.vM30.pc_transcripts.fa.fai added
7f20737d51bb_gencode.vM31.pc_transcripts.fa added
7f2028810739_gencode.vM31.pc_transcripts.fa.fai added
7f202f0143f5_GRCh38.primary_assembly.genome.fa.1.ht2 added
7f207c14a1ee_GRCh38.primary_assembly.genome.fa.2.ht2 added
7f202e934fe6_GRCh38.primary_assembly.genome.fa.3.ht2 added
7f2049629ced_GRCh38.primary_assembly.genome.fa.4.ht2 added
7f20692cb13e_GRCh38.primary_assembly.genome.fa.5.ht2 added
7f2075289363_GRCh38.primary_assembly.genome.fa.6.ht2 added
7f203ae484ac_GRCh38.primary_assembly.genome.fa.7.ht2 added
7f2070c25668_GRCh38.primary_assembly.genome.fa.8.ht2 added
7f2066b6ffad_GRCh38_full_analysis_set_plus_decoy_hla.fa.fai added
7f20784beb89_GRCh38_full_analysis_set_plus_decoy_hla.fa.amb added
7f204054ad12_GRCh38_full_analysis_set_plus_decoy_hla.fa.ann added
7f20772e99bc_GRCh38_full_analysis_set_plus_decoy_hla.fa.bwt added
7f20146f42c5_GRCh38_full_analysis_set_plus_decoy_hla.fa.pac added
7f2014889dfe_GRCh38_full_analysis_set_plus_decoy_hla.fa.sa added
7f20153c993a_GRCh38_full_analysis_set_plus_decoy_hla.fa added
7f203d6fb9ba_GRCh38.primary_assembly.genome.fa.fai added
7f20720a81d8_GRCh38.primary_assembly.genome.fa.amb added
7f20fd2c666_GRCh38.primary_assembly.genome.fa.ann added
7f2056df5aa7_GRCh38.primary_assembly.genome.fa.bwt added
7f2061b8b67f_GRCh38.primary_assembly.genome.fa.pac added
7f2025d57df8_GRCh38.primary_assembly.genome.fa.sa added
7f206341382f_GRCh38.primary_assembly.genome.fa added
7f204ecfc891_hs37d5.fa.fai added
7f202b78d003_hs37d5.fa.amb added
7f208a08b41_hs37d5.fa.ann added
7f2064165cd3_hs37d5.fa.bwt added
7f20782853fa_hs37d5.fa.pac added
7f201fa17fb7_hs37d5.fa.sa added
7f2023c7d79a_hs37d5.fa added
7f20151bd1d0_complete_ref_lens.bin added
7f20556bb983_ctable.bin added
7f2013607345_ctg_offsets.bin added
7f20212fc0f3_duplicate_clusters.tsv added
7f204624a28a_info.json added
7f20f2b3600_mphf.bin added
7f205de641c7_pos.bin added
7f2037e89ffa_pre_indexing.log added
7f2095ef2c3_rank.bin added
7f203893e503_ref_indexing.log added
7f2075a044f9_refAccumLengths.bin added
7f206d1073c3_reflengths.bin added
7f2053203f25_refseq.bin added
7f206a11c0c5_seq.bin added
7f203386fbea_versionInfo.json added
7f206304da13_salmon_index added
7f205389482e_chrLength.txt added
7f2059e1eeda_chrName.txt added
7f2085850_chrNameLength.txt added
7f2023ddec34_chrStart.txt added
7f203ebe5c51_exonGeTrInfo.tab added
7f20439eea05_exonInfo.tab added
7f20761610f1_geneInfo.tab added
7f2022b27ac8_Genome added
7f20739af243_genomeParameters.txt added
7f2041974800_Log.out added
7f2032f819a4_SA added
7f203e5b7820_SAindex added
7f20672b9cdb_sjdbInfo.txt added
7f20604722c7_sjdbList.fromGTF.out.tab added
7f205e3c6832_sjdbList.out.tab added
7f204fdcdaf3_transcriptInfo.tab added
7f202caab07b_GRCh38.GENCODE.v42_100 added
7f207a287225_knownGene_hg38.sql added
7f20755e19ca_knownGene_hg38.txt added
7f2074ef58f8_refGene_hg38.sql added
7f20dba3dc2_refGene_hg38.txt added
7f203e2c9298_knownGene_mm39.sql added
7f20604c590b_knownGene_mm39.txt added
7f20346a1291_refGene_mm39.sql added
7f201fe90879_refGene_mm39.txt added
trying URL 'https://storage.googleapis.com/reusedata/echo/outfile.txt'
Content type 'text/plain' length 30 bytes
==================================================
downloaded 30 bytes

trying URL 'https://storage.googleapis.com/reusedata/echo/echo_out_Hello_World!_outfile.yml'
Content type 'application/x-yaml' length 151 bytes
==================================================
downloaded 151 bytes

trying URL 'https://storage.googleapis.com/reusedata/echo/echo_out_Hello_World!_outfile.cwl'
Content type 'application/octet-stream' length 1152 bytes
==================================================
downloaded 1152 bytes

trying URL 'https://storage.googleapis.com/reusedata/echo/echo_out_Hello_World!_outfile.md5'
Content type 'application/octet-stream' length 45 bytes
==================================================
downloaded 45 bytes

trying URL 'https://storage.googleapis.com/reusedata/echo/echo_out_Hello_World!_outfile.sh'
Content type 'application/x-shellscript' length 68 bytes
==================================================
downloaded 68 bytes

Data is downloaded: 
/tmp/RtmpnQgu50/test_gcpData/outfile.txt
}INFO Final process status is success
NOTE: existing caches will be removed and regenerated!
Updating recipes...
STAR_index.R added
bowtie2_index.R added
echo_out.R added
ensembl_liftover.R added
gcp_broad_gatk_hg19.R added
gcp_broad_gatk_hg38.R added
gcp_gatk_mutect2_b37.R added
gcp_gatk_mutect2_hg38.R added
gencode_annotation.R added
gencode_genome_grch38.R added
gencode_transcripts.R added
hisat2_index.R added
reference_genome.R added
salmon_index.R added
ucsc_database.R added

Data recipe loaded!
Use inputs(ensembl_liftover) to check required input parameters before evaluation.
Check here: https://rcwl.org/dataRecipes/ensembl_liftover.html
for user instructions (e.g., eligible input values, data source, etc.)

[ FAIL 0 | WARN 0 | SKIP 0 | PASS 44 ]
> Sys.setenv(cachePath = file.path(tempdir(), "cache"))
> 
> 
> 
> proc.time()
   user  system elapsed 
 21.280   2.408  24.778 

Example timings

ReUseData.Rcheck/ReUseData-Ex.timings

nameusersystemelapsed
dataHub-class7.3730.8928.393
dataSearch1.2740.0531.334
dataUpdate000
getCloudData2.6680.1634.184
getData0.0010.0000.001
meta_data0.0010.0000.001
recipeHub-class0.1470.0110.159
recipeLoad1.5090.0971.618
recipeMake0.0000.0010.001
recipeSearch0.6450.0430.695
recipeUpdate0.0000.0010.000