Back to Build/check report for BioC 3.23:   simplified   long
ABCDEFGHIJKLMNOPQ[R]STUVWXYZ

This page was generated on 2025-11-05 11:32 -0500 (Wed, 05 Nov 2025).

HostnameOSArch (*)R versionInstalled pkgs
nebbiolo1Linux (Ubuntu 24.04.3 LTS)x86_64R Under development (unstable) (2025-10-20 r88955) -- "Unsuffered Consequences" 4818
Click on any hostname to see more info about the system (e.g. compilers)      (*) as reported by 'uname -p', except on Windows and Mac OS X

Package 1717/2323HostnameOS / ArchINSTALLBUILDCHECKBUILD BIN
ReactomeGSA 1.25.0  (landing page)
Johannes Griss
Snapshot Date: 2025-11-04 13:40 -0500 (Tue, 04 Nov 2025)
git_url: https://git.bioconductor.org/packages/ReactomeGSA
git_branch: devel
git_last_commit: 473b5b6
git_last_commit_date: 2025-10-29 10:54:21 -0500 (Wed, 29 Oct 2025)
nebbiolo1Linux (Ubuntu 24.04.3 LTS) / x86_64  OK    OK    OK  UNNEEDED, same version is already published


CHECK results for ReactomeGSA on nebbiolo1

To the developers/maintainers of the ReactomeGSA package:
- Allow up to 24 hours (and sometimes 48 hours) for your latest push to git@git.bioconductor.org:packages/ReactomeGSA.git to reflect on this report. See Troubleshooting Build Report for more information.
- Use the following Renviron settings to reproduce errors and warnings.
- If 'R CMD check' started to fail recently on the Linux builder(s) over a missing dependency, add the missing dependency to 'Suggests:' in your DESCRIPTION file. See Renviron.bioc for more information.

raw results


Summary

Package: ReactomeGSA
Version: 1.25.0
Command: /home/biocbuild/bbs-3.23-bioc/R/bin/R CMD check --install=check:ReactomeGSA.install-out.txt --library=/home/biocbuild/bbs-3.23-bioc/R/site-library --timings ReactomeGSA_1.25.0.tar.gz
StartedAt: 2025-11-05 02:52:24 -0500 (Wed, 05 Nov 2025)
EndedAt: 2025-11-05 03:12:39 -0500 (Wed, 05 Nov 2025)
EllapsedTime: 1215.3 seconds
RetCode: 0
Status:   OK  
CheckDir: ReactomeGSA.Rcheck
Warnings: 0

Command output

##############################################################################
##############################################################################
###
### Running command:
###
###   /home/biocbuild/bbs-3.23-bioc/R/bin/R CMD check --install=check:ReactomeGSA.install-out.txt --library=/home/biocbuild/bbs-3.23-bioc/R/site-library --timings ReactomeGSA_1.25.0.tar.gz
###
##############################################################################
##############################################################################


* using log directory ‘/home/biocbuild/bbs-3.23-bioc/meat/ReactomeGSA.Rcheck’
* using R Under development (unstable) (2025-10-20 r88955)
* using platform: x86_64-pc-linux-gnu
* R was compiled by
    gcc (Ubuntu 13.3.0-6ubuntu2~24.04) 13.3.0
    GNU Fortran (Ubuntu 13.3.0-6ubuntu2~24.04) 13.3.0
* running under: Ubuntu 24.04.3 LTS
* using session charset: UTF-8
* checking for file ‘ReactomeGSA/DESCRIPTION’ ... OK
* checking extension type ... Package
* this is package ‘ReactomeGSA’ version ‘1.25.0’
* package encoding: UTF-8
* checking package namespace information ... OK
* checking package dependencies ... OK
* checking if this is a source package ... OK
* checking if there is a namespace ... OK
* checking for hidden files and directories ... OK
* checking for portable file names ... OK
* checking for sufficient/correct file permissions ... OK
* checking whether package ‘ReactomeGSA’ can be installed ... OK
* checking installed package size ... OK
* checking package directory ... OK
* checking ‘build’ directory ... OK
* checking DESCRIPTION meta-information ... OK
* checking top-level files ... OK
* checking for left-over files ... OK
* checking index information ... OK
* checking package subdirectories ... OK
* checking code files for non-ASCII characters ... OK
* checking R files for syntax errors ... OK
* checking whether the package can be loaded ... OK
* checking whether the package can be loaded with stated dependencies ... OK
* checking whether the package can be unloaded cleanly ... OK
* checking whether the namespace can be loaded with stated dependencies ... OK
* checking whether the namespace can be unloaded cleanly ... OK
* checking loading without being on the library search path ... OK
* checking whether startup messages can be suppressed ... OK
* checking dependencies in R code ... OK
* checking S3 generic/method consistency ... OK
* checking replacement functions ... OK
* checking foreign function calls ... OK
* checking R code for possible problems ... NOTE
plot_correlations,ReactomeAnalysisResult: no visible binding for global
  variable ‘combined_sig’
plot_correlations,ReactomeAnalysisResult: no visible binding for global
  variable ‘alpha’
plot_gsva_pathway,ReactomeAnalysisResult: no visible binding for global
  variable ‘cluster_id’
plot_gsva_pathway,ReactomeAnalysisResult: no visible binding for global
  variable ‘expr’
plot_gsva_pca,ReactomeAnalysisResult: no visible binding for global
  variable ‘gsva_result’
plot_gsva_pca,ReactomeAnalysisResult: no visible binding for global
  variable ‘PC1’
plot_gsva_pca,ReactomeAnalysisResult: no visible binding for global
  variable ‘PC2’
plot_heatmap,ReactomeAnalysisResult: no visible global function
  definition for ‘desc’
plot_heatmap,ReactomeAnalysisResult: no visible binding for global
  variable ‘n_sig’
plot_heatmap,ReactomeAnalysisResult: no visible binding for global
  variable ‘dataset’
plot_heatmap,ReactomeAnalysisResult: no visible binding for global
  variable ‘Name’
plot_volcano,ReactomeAnalysisResult: no visible binding for global
  variable ‘av_foldchange’
plot_volcano,ReactomeAnalysisResult: no visible binding for global
  variable ‘FDR’
Undefined global functions or variables:
  FDR Name PC1 PC2 alpha av_foldchange cluster_id combined_sig dataset
  desc expr gsva_result n_sig
* checking Rd files ... OK
* checking Rd metadata ... OK
* checking Rd cross-references ... OK
* checking for missing documentation entries ... OK
* checking for code/documentation mismatches ... OK
* checking Rd \usage sections ... OK
* checking Rd contents ... OK
* checking for unstated dependencies in examples ... OK
* checking files in ‘vignettes’ ... OK
* checking examples ... OK
Examples with CPU (user + system) or elapsed time > 5s
                                                  user system elapsed
plot_gsva_heatmap-ReactomeAnalysisResult-method 39.142  2.275 124.065
plot_gsva_pathway                               38.146  2.252  74.465
plot_gsva_heatmap                               37.127  1.942 109.711
plot_gsva_pca                                   33.743  1.747  74.238
analyse_sc_clusters-Seurat-method               33.793  1.244  74.812
plot_gsva_pca-ReactomeAnalysisResult-method     32.889  1.735  67.893
plot_gsva_pathway-ReactomeAnalysisResult-method 32.515  1.676  70.018
analyse_sc_clusters-SingleCellExperiment-method 32.381  1.476  70.344
analyse_sc_clusters                             31.097  1.516  67.030
generate_pseudo_bulk_data                       13.858  1.543  15.404
load_public_dataset                              5.249  0.363  45.046
ReactomeAnalysisRequest                          4.843  0.237   5.083
perform_reactome_analysis                        3.100  0.573  16.357
* checking for unstated dependencies in ‘tests’ ... OK
* checking tests ...
  Running ‘testthat.R’
 OK
* checking for unstated dependencies in vignettes ... OK
* checking package vignettes ... OK
* checking re-building of vignette outputs ... OK
* checking PDF version of manual ... OK
* DONE

Status: 1 NOTE
See
  ‘/home/biocbuild/bbs-3.23-bioc/meat/ReactomeGSA.Rcheck/00check.log’
for details.


Installation output

ReactomeGSA.Rcheck/00install.out

##############################################################################
##############################################################################
###
### Running command:
###
###   /home/biocbuild/bbs-3.23-bioc/R/bin/R CMD INSTALL ReactomeGSA
###
##############################################################################
##############################################################################


* installing to library ‘/home/biocbuild/bbs-3.23-bioc/R/site-library’
* installing *source* package ‘ReactomeGSA’ ...
** this is package ‘ReactomeGSA’ version ‘1.25.0’
** using staged installation
** R
** inst
** byte-compile and prepare package for lazy loading
in method for ‘analyse_sc_clusters’ with signature ‘object="Seurat"’: no definition for class “Seurat”
in method for ‘analyse_sc_clusters’ with signature ‘object="SingleCellExperiment"’: no definition for class “SingleCellExperiment”
in method for ‘add_dataset’ with signature ‘request="ReactomeAnalysisRequest",expression_values="EList"’: no definition for class “EList”
in method for ‘add_dataset’ with signature ‘request="ReactomeAnalysisRequest",expression_values="DGEList"’: no definition for class “DGEList”
in method for ‘generate_pseudo_bulk_data’ with signature ‘object="Seurat"’: no definition for class “Seurat”
in method for ‘generate_pseudo_bulk_data’ with signature ‘object="SingleCellExperiment"’: no definition for class “SingleCellExperiment”
** help
*** installing help indices
** building package indices
** installing vignettes
** testing if installed package can be loaded from temporary location
** testing if installed package can be loaded from final location
** testing if installed package keeps a record of temporary installation path
* DONE (ReactomeGSA)

Tests output

ReactomeGSA.Rcheck/tests/testthat.Rout


R Under development (unstable) (2025-10-20 r88955) -- "Unsuffered Consequences"
Copyright (C) 2025 The R Foundation for Statistical Computing
Platform: x86_64-pc-linux-gnu

R is free software and comes with ABSOLUTELY NO WARRANTY.
You are welcome to redistribute it under certain conditions.
Type 'license()' or 'licence()' for distribution details.

R is a collaborative project with many contributors.
Type 'contributors()' for more information and
'citation()' on how to cite R or R packages in publications.

Type 'demo()' for some demos, 'help()' for on-line help, or
'help.start()' for an HTML browser interface to help.
Type 'q()' to quit R.

> library(testthat)
> library(ReactomeGSA)
> 
> test_check("ReactomeGSA")
[ FAIL 0 | WARN 0 | SKIP 0 | PASS 17 ]
> 
> proc.time()
   user  system elapsed 
  1.784   0.134   1.905 

Example timings

ReactomeGSA.Rcheck/ReactomeGSA-Ex.timings

nameusersystemelapsed
ReactomeAnalysisRequest4.8430.2375.083
ReactomeAnalysisResult-class0.1800.0060.187
add_dataset-ReactomeAnalysisRequest-DGEList-method0.8830.0130.895
add_dataset-ReactomeAnalysisRequest-EList-method0.5300.0010.531
add_dataset-ReactomeAnalysisRequest-ExpressionSet-method0.5240.0200.544
add_dataset-ReactomeAnalysisRequest-data.frame-method0.5090.0050.515
add_dataset-ReactomeAnalysisRequest-matrix-method0.5300.0020.533
add_dataset0.5130.0050.518
analyse_sc_clusters-Seurat-method33.793 1.24474.812
analyse_sc_clusters-SingleCellExperiment-method32.381 1.47670.344
analyse_sc_clusters31.097 1.51667.030
find_public_datasets0.5470.0294.965
generate_metadata0.0020.0000.003
generate_pseudo_bulk_data13.858 1.54315.404
get_public_species0.1400.0050.582
get_reactome_data_types0.3180.0071.405
get_reactome_methods0.4950.0282.157
get_result-ReactomeAnalysisResult-method0.5740.1740.748
get_result0.2650.0160.280
load_public_dataset 5.249 0.36345.046
names-ReactomeAnalysisResult-method0.2300.0610.292
open_reactome-ReactomeAnalysisResult-method0.2250.0170.242
open_reactome0.2090.0310.240
pathways-ReactomeAnalysisResult-method0.2600.0320.292
pathways0.2170.0180.235
perform_reactome_analysis 3.100 0.57316.357
plot_correlations-ReactomeAnalysisResult-method0.3130.0410.354
plot_correlations0.2560.0300.286
plot_gsva_heatmap-ReactomeAnalysisResult-method 39.142 2.275124.065
plot_gsva_heatmap 37.127 1.942109.711
plot_gsva_pathway-ReactomeAnalysisResult-method32.515 1.67670.018
plot_gsva_pathway38.146 2.25274.465
plot_gsva_pca-ReactomeAnalysisResult-method32.889 1.73567.893
plot_gsva_pca33.743 1.74774.238
plot_heatmap-ReactomeAnalysisResult-method0.5650.0540.620
plot_heatmap0.6850.0580.744
plot_volcano-ReactomeAnalysisResult-method0.2390.0220.261
plot_volcano0.2670.0090.277
print-ReactomeAnalysisRequest-method0.0010.0010.002
print-ReactomeAnalysisResult-method0.2210.0130.233
reactome_links-ReactomeAnalysisResult-method0.2120.0060.219
reactome_links0.2320.0020.233
result_types-ReactomeAnalysisResult-method0.2330.0110.244
result_types0.2150.0060.221
set_method-ReactomeAnalysisRequest-method0.0010.0010.002
set_method0.0020.0000.002
set_parameters-ReactomeAnalysisRequest-method0.0010.0000.002
set_parameters0.0010.0010.002
show-ReactomeAnalysisRequest-method0.0020.0000.002
show-ReactomeAnalysisResult-method0.2330.0070.240