Back to Multiple platform build/check report for BioC 3.22: simplified long |
|
This page was generated on 2025-10-22 12:05 -0400 (Wed, 22 Oct 2025).
Hostname | OS | Arch (*) | R version | Installed pkgs |
---|---|---|---|---|
nebbiolo2 | Linux (Ubuntu 24.04.3 LTS) | x86_64 | 4.5.1 Patched (2025-08-23 r88802) -- "Great Square Root" | 4890 |
lconway | macOS 12.7.6 Monterey | x86_64 | 4.5.1 Patched (2025-09-10 r88807) -- "Great Square Root" | 4680 |
kjohnson3 | macOS 13.7.7 Ventura | arm64 | 4.5.1 Patched (2025-09-10 r88807) -- "Great Square Root" | 4625 |
taishan | Linux (openEuler 24.03 LTS) | aarch64 | 4.5.0 (2025-04-11) -- "How About a Twenty-Six" | 4642 |
Click on any hostname to see more info about the system (e.g. compilers) (*) as reported by 'uname -p', except on Windows and Mac OS X |
Package 2091/2355 | Hostname | OS / Arch | INSTALL | BUILD | CHECK | BUILD BIN | ||||||||
SPIAT 1.11.1 (landing page) Yuzhou Feng
| nebbiolo2 | Linux (Ubuntu 24.04.3 LTS) / x86_64 | OK | OK | OK | ![]() | ||||||||
lconway | macOS 12.7.6 Monterey / x86_64 | OK | OK | OK | OK | ![]() | ||||||||
kjohnson3 | macOS 13.7.7 Ventura / arm64 | OK | OK | OK | OK | ![]() | ||||||||
taishan | Linux (openEuler 24.03 LTS) / aarch64 | OK | OK | NA | ||||||||||
To the developers/maintainers of the SPIAT package: - Allow up to 24 hours (and sometimes 48 hours) for your latest push to git@git.bioconductor.org:packages/SPIAT.git to reflect on this report. See Troubleshooting Build Report for more information. - Use the following Renviron settings to reproduce errors and warnings. - If 'R CMD check' started to fail recently on the Linux builder(s) over a missing dependency, add the missing dependency to 'Suggests:' in your DESCRIPTION file. See Renviron.bioc for more information. |
Package: SPIAT |
Version: 1.11.1 |
Command: /Library/Frameworks/R.framework/Resources/bin/R CMD check --install=check:SPIAT.install-out.txt --library=/Library/Frameworks/R.framework/Resources/library --no-vignettes --timings SPIAT_1.11.1.tar.gz |
StartedAt: 2025-10-22 01:16:07 -0400 (Wed, 22 Oct 2025) |
EndedAt: 2025-10-22 01:22:21 -0400 (Wed, 22 Oct 2025) |
EllapsedTime: 374.5 seconds |
RetCode: 0 |
Status: OK |
CheckDir: SPIAT.Rcheck |
Warnings: 0 |
############################################################################## ############################################################################## ### ### Running command: ### ### /Library/Frameworks/R.framework/Resources/bin/R CMD check --install=check:SPIAT.install-out.txt --library=/Library/Frameworks/R.framework/Resources/library --no-vignettes --timings SPIAT_1.11.1.tar.gz ### ############################################################################## ############################################################################## * using log directory ‘/Users/biocbuild/bbs-3.22-bioc/meat/SPIAT.Rcheck’ * using R version 4.5.1 Patched (2025-09-10 r88807) * using platform: x86_64-apple-darwin20 * R was compiled by Apple clang version 14.0.0 (clang-1400.0.29.202) GNU Fortran (GCC) 14.2.0 * running under: macOS Monterey 12.7.6 * using session charset: UTF-8 * using option ‘--no-vignettes’ * checking for file ‘SPIAT/DESCRIPTION’ ... OK * checking extension type ... Package * this is package ‘SPIAT’ version ‘1.11.1’ * package encoding: UTF-8 * checking package namespace information ... OK * checking package dependencies ... OK * checking if this is a source package ... OK * checking if there is a namespace ... OK * checking for hidden files and directories ... OK * checking for portable file names ... OK * checking for sufficient/correct file permissions ... OK * checking whether package ‘SPIAT’ can be installed ... OK * checking installed package size ... OK * checking package directory ... OK * checking ‘build’ directory ... OK * checking DESCRIPTION meta-information ... NOTE License components with restrictions not permitted: Artistic-2.0 + file LICENSE * checking top-level files ... OK * checking for left-over files ... OK * checking index information ... OK * checking package subdirectories ... OK * checking code files for non-ASCII characters ... OK * checking R files for syntax errors ... OK * checking whether the package can be loaded ... OK * checking whether the package can be loaded with stated dependencies ... OK * checking whether the package can be unloaded cleanly ... OK * checking whether the namespace can be loaded with stated dependencies ... OK * checking whether the namespace can be unloaded cleanly ... OK * checking dependencies in R code ... OK * checking S3 generic/method consistency ... OK * checking replacement functions ... OK * checking foreign function calls ... OK * checking R code for possible problems ... OK * checking Rd files ... OK * checking Rd metadata ... OK * checking Rd cross-references ... OK * checking for missing documentation entries ... OK * checking for code/documentation mismatches ... OK * checking Rd \usage sections ... OK * checking Rd contents ... OK * checking for unstated dependencies in examples ... OK * checking contents of ‘data’ directory ... OK * checking data for non-ASCII characters ... OK * checking LazyData ... OK * checking data for ASCII and uncompressed saves ... OK * checking files in ‘vignettes’ ... OK * checking examples ... OK Examples with CPU (user + system) or elapsed time > 5s user system elapsed dimensionality_reduction_plot 18.613 0.840 19.613 calculate_percentage_of_grids 8.331 0.121 8.487 calculate_pairwise_distances_between_celltypes 5.183 0.727 5.936 * checking for unstated dependencies in ‘tests’ ... OK * checking tests ... Running ‘testthat.R’ OK * checking for unstated dependencies in vignettes ... OK * checking package vignettes ... OK * checking running R code from vignettes ... SKIPPED * checking re-building of vignette outputs ... SKIPPED * checking PDF version of manual ... OK * DONE Status: 1 NOTE See ‘/Users/biocbuild/bbs-3.22-bioc/meat/SPIAT.Rcheck/00check.log’ for details.
SPIAT.Rcheck/00install.out
############################################################################## ############################################################################## ### ### Running command: ### ### /Library/Frameworks/R.framework/Resources/bin/R CMD INSTALL SPIAT ### ############################################################################## ############################################################################## * installing to library ‘/Library/Frameworks/R.framework/Versions/4.5-x86_64/Resources/library’ * installing *source* package ‘SPIAT’ ... ** this is package ‘SPIAT’ version ‘1.11.1’ ** using staged installation ** R ** data *** moving datasets to lazyload DB ** inst ** byte-compile and prepare package for lazy loading ** help *** installing help indices ** building package indices ** installing vignettes ** testing if installed package can be loaded from temporary location ** testing if installed package can be loaded from final location ** testing if installed package keeps a record of temporary installation path * DONE (SPIAT)
SPIAT.Rcheck/tests/testthat.Rout
R version 4.5.1 Patched (2025-09-10 r88807) -- "Great Square Root" Copyright (C) 2025 The R Foundation for Statistical Computing Platform: x86_64-apple-darwin20 R is free software and comes with ABSOLUTELY NO WARRANTY. You are welcome to redistribute it under certain conditions. Type 'license()' or 'licence()' for distribution details. R is a collaborative project with many contributors. Type 'contributors()' for more information and 'citation()' on how to cite R or R packages in publications. Type 'demo()' for some demos, 'help()' for on-line help, or 'help.start()' for an HTML browser interface to help. Type 'q()' to quit R. > library(testthat) > library(SPIAT) Loading required package: SpatialExperiment Loading required package: SingleCellExperiment Loading required package: SummarizedExperiment Loading required package: MatrixGenerics Loading required package: matrixStats Attaching package: 'MatrixGenerics' The following objects are masked from 'package:matrixStats': colAlls, colAnyNAs, colAnys, colAvgsPerRowSet, colCollapse, colCounts, colCummaxs, colCummins, colCumprods, colCumsums, colDiffs, colIQRDiffs, colIQRs, colLogSumExps, colMadDiffs, colMads, colMaxs, colMeans2, colMedians, colMins, colOrderStats, colProds, colQuantiles, colRanges, colRanks, colSdDiffs, colSds, colSums2, colTabulates, colVarDiffs, colVars, colWeightedMads, colWeightedMeans, colWeightedMedians, colWeightedSds, colWeightedVars, rowAlls, rowAnyNAs, rowAnys, rowAvgsPerColSet, rowCollapse, rowCounts, rowCummaxs, rowCummins, rowCumprods, rowCumsums, rowDiffs, rowIQRDiffs, rowIQRs, rowLogSumExps, rowMadDiffs, rowMads, rowMaxs, rowMeans2, rowMedians, rowMins, rowOrderStats, rowProds, rowQuantiles, rowRanges, rowRanks, rowSdDiffs, rowSds, rowSums2, rowTabulates, rowVarDiffs, rowVars, rowWeightedMads, rowWeightedMeans, rowWeightedMedians, rowWeightedSds, rowWeightedVars Loading required package: GenomicRanges Loading required package: stats4 Loading required package: BiocGenerics Loading required package: generics Attaching package: 'generics' The following objects are masked from 'package:base': as.difftime, as.factor, as.ordered, intersect, is.element, setdiff, setequal, union Attaching package: 'BiocGenerics' The following objects are masked from 'package:stats': IQR, mad, sd, var, xtabs The following objects are masked from 'package:base': Filter, Find, Map, Position, Reduce, anyDuplicated, aperm, append, as.data.frame, basename, cbind, colnames, dirname, do.call, duplicated, eval, evalq, get, grep, grepl, is.unsorted, lapply, mapply, match, mget, order, paste, pmax, pmax.int, pmin, pmin.int, rank, rbind, rownames, sapply, saveRDS, table, tapply, unique, unsplit, which.max, which.min Loading required package: S4Vectors Attaching package: 'S4Vectors' The following object is masked from 'package:utils': findMatches The following objects are masked from 'package:base': I, expand.grid, unname Loading required package: IRanges Loading required package: Seqinfo Loading required package: Biobase Welcome to Bioconductor Vignettes contain introductory material; view with 'browseVignettes()'. To cite Bioconductor, see 'citation("Biobase")', and for packages 'citation("pkgname")'. Attaching package: 'Biobase' The following object is masked from 'package:MatrixGenerics': rowMedians The following objects are masked from 'package:matrixStats': anyMissing, rowMedians > > test_check("SPIAT") [1] "Markers had been selected in minimum distance calculation: " [1] "Immune1" "Tumour" [1] "Crossing of cross K function is detected for this image, indicating a potential immune ring." [1] "The crossing happens at the 50% of the specified distance." [1] "The alpha of Polygon is: 63.24375" [1] "Markers had been selected in minimum distance calculation: " [1] "Non-border" "Border" [1] "Tumour_marker" [1] "Immune_marker1" [1] "Immune_marker2" [1] "Immune_marker3" [1] "Immune_marker4" [1] "Tumour_marker" [1] "Immune_marker1" [1] "Immune_marker2" [1] "Immune_marker3" [1] "Immune_marker4" [1] "Tumour_marker threshold intensity: 0.445450443784465" [1] "Immune_marker1 threshold intensity: 0.116980867970434" [1] "Immune_marker2 threshold intensity: 0.124283809517202" [1] "Immune_marker3 threshold intensity: 0.0166413130263845" [1] "Immune_marker4 threshold intensity: 0.00989731350898589" [ FAIL 0 | WARN 0 | SKIP 0 | PASS 80 ] > > proc.time() user system elapsed 66.481 3.537 70.499
SPIAT.Rcheck/SPIAT-Ex.timings
name | user | system | elapsed | |
AUC_of_cross_function | 0.199 | 0.012 | 0.214 | |
R_BC | 1.869 | 0.069 | 1.945 | |
average_marker_intensity_within_radius | 0.055 | 0.003 | 0.059 | |
average_minimum_distance | 0.021 | 0.002 | 0.023 | |
average_nearest_neighbor_index | 0.242 | 0.004 | 0.247 | |
average_percentage_of_cells_within_radius | 1.137 | 0.022 | 1.164 | |
calculate_cell_proportions | 0.011 | 0.000 | 0.012 | |
calculate_cross_functions | 0.157 | 0.007 | 0.164 | |
calculate_distance_to_margin | 1.132 | 0.025 | 1.161 | |
calculate_entropy | 0.010 | 0.000 | 0.011 | |
calculate_minimum_distances_between_celltypes | 0.017 | 0.000 | 0.018 | |
calculate_pairwise_distances_between_celltypes | 5.183 | 0.727 | 5.936 | |
calculate_percentage_of_grids | 8.331 | 0.121 | 8.487 | |
calculate_proportions_of_cells_in_structure | 1.273 | 0.021 | 1.298 | |
calculate_spatial_autocorrelation | 3.426 | 0.042 | 3.480 | |
calculate_summary_distances_between_celltypes | 2.956 | 0.252 | 3.227 | |
calculate_summary_distances_of_cells_to_borders | 1.227 | 0.087 | 1.321 | |
composition_of_neighborhoods | 1.454 | 0.314 | 1.782 | |
compute_gradient | 0.066 | 0.001 | 0.066 | |
crossing_of_crossK | 0.128 | 0.004 | 0.133 | |
define_celltypes | 0.670 | 0.036 | 0.711 | |
define_structure | 1.500 | 0.042 | 1.546 | |
dimensionality_reduction_plot | 18.613 | 0.840 | 19.613 | |
entropy_gradient_aggregated | 0.602 | 0.033 | 0.642 | |
format_cellprofiler_to_spe | 0.132 | 0.002 | 0.135 | |
format_codex_to_spe | 0.117 | 0.004 | 0.122 | |
format_colData_to_spe | 0.113 | 0.002 | 0.117 | |
format_halo_to_spe | 0.482 | 0.102 | 0.520 | |
format_image_to_spe | 0.111 | 0.002 | 0.115 | |
format_inform_to_spe | 0.207 | 0.036 | 0.219 | |
format_spe_to_ppp | 0.016 | 0.001 | 0.017 | |
grid_metrics | 3.167 | 0.044 | 3.224 | |
identify_bordering_cells | 0.598 | 0.008 | 0.607 | |
identify_neighborhoods | 2.245 | 0.209 | 2.472 | |
image_splitter | 0.988 | 0.016 | 1.006 | |
marker_intensity_boxplot | 0.431 | 0.046 | 0.478 | |
marker_prediction_plot | 1.959 | 0.038 | 2.008 | |
marker_surface_plot | 0.200 | 0.038 | 0.240 | |
marker_surface_plot_stack | 0.211 | 0.034 | 0.246 | |
measure_association_to_cell_properties | 0.561 | 0.006 | 0.571 | |
mixing_score_summary | 0.019 | 0.000 | 0.020 | |
number_of_cells_within_radius | 0.012 | 0.000 | 0.013 | |
plot_average_intensity | 0.468 | 0.024 | 0.494 | |
plot_cell_categories | 0.315 | 0.010 | 0.327 | |
plot_cell_distances_violin | 1.381 | 0.086 | 1.473 | |
plot_cell_marker_levels | 0.257 | 0.004 | 0.263 | |
plot_cell_percentages | 0.683 | 0.005 | 0.693 | |
plot_composition_heatmap | 4.598 | 0.351 | 4.986 | |
plot_distance_heatmap | 2.448 | 0.196 | 2.656 | |
plot_marker_level_heatmap | 0.472 | 0.079 | 0.554 | |
predict_phenotypes | 2.888 | 0.063 | 2.977 | |
select_celltypes | 0.034 | 0.001 | 0.036 | |