| Back to Multiple platform build/check report for BioC 3.23: simplified long |
|
This page was generated on 2025-11-20 11:39 -0500 (Thu, 20 Nov 2025).
| Hostname | OS | Arch (*) | R version | Installed pkgs |
|---|---|---|---|---|
| nebbiolo1 | Linux (Ubuntu 24.04.3 LTS) | x86_64 | R Under development (unstable) (2025-10-20 r88955) -- "Unsuffered Consequences" | 4827 |
| lconway | macOS 12.7.6 Monterey | x86_64 | R Under development (unstable) (2025-10-21 r88958) -- "Unsuffered Consequences" | 4600 |
| kjohnson3 | macOS 13.7.7 Ventura | arm64 | R Under development (unstable) (2025-11-04 r88984) -- "Unsuffered Consequences" | 4564 |
| Click on any hostname to see more info about the system (e.g. compilers) (*) as reported by 'uname -p', except on Windows and Mac OS X | ||||
| Package 1912/2325 | Hostname | OS / Arch | INSTALL | BUILD | CHECK | BUILD BIN | ||||||||
| Sconify 1.31.0 (landing page) Tyler J Burns
| nebbiolo1 | Linux (Ubuntu 24.04.3 LTS) / x86_64 | OK | OK | OK | |||||||||
| lconway | macOS 12.7.6 Monterey / x86_64 | OK | OK | OK | OK | |||||||||
| kjohnson3 | macOS 13.7.7 Ventura / arm64 | OK | OK | OK | OK | |||||||||
|
To the developers/maintainers of the Sconify package: - Allow up to 24 hours (and sometimes 48 hours) for your latest push to git@git.bioconductor.org:packages/Sconify.git to reflect on this report. See Troubleshooting Build Report for more information. - Use the following Renviron settings to reproduce errors and warnings. - If 'R CMD check' started to fail recently on the Linux builder(s) over a missing dependency, add the missing dependency to 'Suggests:' in your DESCRIPTION file. See Renviron.bioc for more information. |
| Package: Sconify |
| Version: 1.31.0 |
| Command: /Library/Frameworks/R.framework/Resources/bin/R CMD check --install=check:Sconify.install-out.txt --library=/Library/Frameworks/R.framework/Resources/library --no-vignettes --timings Sconify_1.31.0.tar.gz |
| StartedAt: 2025-11-20 00:00:17 -0500 (Thu, 20 Nov 2025) |
| EndedAt: 2025-11-20 00:02:28 -0500 (Thu, 20 Nov 2025) |
| EllapsedTime: 131.0 seconds |
| RetCode: 0 |
| Status: OK |
| CheckDir: Sconify.Rcheck |
| Warnings: 0 |
##############################################################################
##############################################################################
###
### Running command:
###
### /Library/Frameworks/R.framework/Resources/bin/R CMD check --install=check:Sconify.install-out.txt --library=/Library/Frameworks/R.framework/Resources/library --no-vignettes --timings Sconify_1.31.0.tar.gz
###
##############################################################################
##############################################################################
* using log directory ‘/Users/biocbuild/bbs-3.23-bioc/meat/Sconify.Rcheck’
* using R Under development (unstable) (2025-10-21 r88958)
* using platform: x86_64-apple-darwin20
* R was compiled by
Apple clang version 14.0.0 (clang-1400.0.29.202)
GNU Fortran (GCC) 14.2.0
* running under: macOS Ventura 13.7.8
* using session charset: UTF-8
* using option ‘--no-vignettes’
* checking for file ‘Sconify/DESCRIPTION’ ... OK
* checking extension type ... Package
* this is package ‘Sconify’ version ‘1.31.0’
* package encoding: UTF-8
* checking package namespace information ... OK
* checking package dependencies ... OK
* checking if this is a source package ... OK
* checking if there is a namespace ... OK
* checking for hidden files and directories ... OK
* checking for portable file names ... OK
* checking for sufficient/correct file permissions ... OK
* checking whether package ‘Sconify’ can be installed ... OK
* checking installed package size ... OK
* checking package directory ... OK
* checking ‘build’ directory ... OK
* checking DESCRIPTION meta-information ... OK
* checking top-level files ... OK
* checking for left-over files ... OK
* checking index information ... OK
* checking package subdirectories ... OK
* checking code files for non-ASCII characters ... OK
* checking R files for syntax errors ... OK
* checking whether the package can be loaded ... OK
* checking whether the package can be loaded with stated dependencies ... OK
* checking whether the package can be unloaded cleanly ... OK
* checking whether the namespace can be loaded with stated dependencies ... OK
* checking whether the namespace can be unloaded cleanly ... OK
* checking dependencies in R code ... OK
* checking S3 generic/method consistency ... OK
* checking replacement functions ... OK
* checking foreign function calls ... OK
* checking R code for possible problems ... OK
* checking Rd files ... OK
* checking Rd metadata ... OK
* checking Rd cross-references ... OK
* checking for missing documentation entries ... OK
* checking for code/documentation mismatches ... OK
* checking Rd \usage sections ... OK
* checking Rd contents ... OK
* checking for unstated dependencies in examples ... OK
* checking contents of ‘data’ directory ... OK
* checking data for non-ASCII characters ... OK
* checking LazyData ... OK
* checking data for ASCII and uncompressed saves ... OK
* checking files in ‘vignettes’ ... OK
* checking examples ... OK
Examples with CPU (user + system) or elapsed time > 5s
user system elapsed
SconeValues 13.605 0.184 13.94
* checking for unstated dependencies in ‘tests’ ... OK
* checking tests ...
Running ‘testthat.R’
OK
* checking for unstated dependencies in vignettes ... OK
* checking package vignettes ... OK
* checking running R code from vignettes ... SKIPPED
* checking re-building of vignette outputs ... SKIPPED
* checking PDF version of manual ... OK
* DONE
Status: OK
Sconify.Rcheck/00install.out
############################################################################## ############################################################################## ### ### Running command: ### ### /Library/Frameworks/R.framework/Resources/bin/R CMD INSTALL Sconify ### ############################################################################## ############################################################################## * installing to library ‘/Library/Frameworks/R.framework/Versions/4.6-x86_64/Resources/library’ * installing *source* package ‘Sconify’ ... ** this is package ‘Sconify’ version ‘1.31.0’ ** using staged installation ** R ** data *** moving datasets to lazyload DB ** inst ** byte-compile and prepare package for lazy loading Note: wrong number of arguments to '/' Note: wrong number of arguments to 'asinh' ** help *** installing help indices ** building package indices ** installing vignettes ** testing if installed package can be loaded from temporary location ** testing if installed package can be loaded from final location ** testing if installed package keeps a record of temporary installation path * DONE (Sconify)
Sconify.Rcheck/tests/testthat.Rout
R Under development (unstable) (2025-10-21 r88958) -- "Unsuffered Consequences"
Copyright (C) 2025 The R Foundation for Statistical Computing
Platform: x86_64-apple-darwin20
R is free software and comes with ABSOLUTELY NO WARRANTY.
You are welcome to redistribute it under certain conditions.
Type 'license()' or 'licence()' for distribution details.
R is a collaborative project with many contributors.
Type 'contributors()' for more information and
'citation()' on how to cite R or R packages in publications.
Type 'demo()' for some demos, 'help()' for on-line help, or
'help.start()' for an HTML browser interface to help.
Type 'q()' to quit R.
> library(testthat)
> library(Sconify)
>
> test_check("Sconify")
Read the 100 x 27 data matrix successfully!
Using no_dims = 2, perplexity = 30.000000, and theta = 0.500000
Computing input similarities...
Building tree...
Done in 0.01 seconds (sparsity = 0.968600)!
Learning embedding...
Iteration 50: error is 50.075376 (50 iterations in 0.01 seconds)
Iteration 100: error is 50.290515 (50 iterations in 0.01 seconds)
Iteration 150: error is 53.033564 (50 iterations in 0.01 seconds)
Iteration 200: error is 51.555836 (50 iterations in 0.01 seconds)
Iteration 250: error is 53.445272 (50 iterations in 0.01 seconds)
Iteration 300: error is 1.532664 (50 iterations in 0.01 seconds)
Iteration 350: error is 1.140632 (50 iterations in 0.01 seconds)
Iteration 400: error is 0.870046 (50 iterations in 0.01 seconds)
Iteration 450: error is 0.355391 (50 iterations in 0.01 seconds)
Iteration 500: error is 0.237398 (50 iterations in 0.01 seconds)
Iteration 550: error is 0.229390 (50 iterations in 0.01 seconds)
Iteration 600: error is 0.211387 (50 iterations in 0.01 seconds)
Iteration 650: error is 0.202894 (50 iterations in 0.01 seconds)
Iteration 700: error is 0.203435 (50 iterations in 0.01 seconds)
Iteration 750: error is 0.201647 (50 iterations in 0.01 seconds)
Iteration 800: error is 0.202956 (50 iterations in 0.01 seconds)
Iteration 850: error is 0.201875 (50 iterations in 0.01 seconds)
Iteration 900: error is 0.201841 (50 iterations in 0.01 seconds)
Iteration 950: error is 0.202762 (50 iterations in 0.01 seconds)
Iteration 1000: error is 0.202721 (50 iterations in 0.01 seconds)
Fitting performed in 0.15 seconds.
Read the 1000 x 27 data matrix successfully!
Using no_dims = 2, perplexity = 30.000000, and theta = 0.500000
Computing input similarities...
Building tree...
Done in 0.12 seconds (sparsity = 0.129120)!
Learning embedding...
Iteration 50: error is 66.400237 (50 iterations in 0.20 seconds)
Iteration 100: error is 60.698361 (50 iterations in 0.14 seconds)
Iteration 150: error is 60.280791 (50 iterations in 0.13 seconds)
Iteration 200: error is 60.165316 (50 iterations in 0.12 seconds)
Iteration 250: error is 60.128032 (50 iterations in 0.11 seconds)
Iteration 300: error is 1.331475 (50 iterations in 0.11 seconds)
Iteration 350: error is 1.221219 (50 iterations in 0.11 seconds)
Iteration 400: error is 1.194394 (50 iterations in 0.12 seconds)
Iteration 450: error is 1.182750 (50 iterations in 0.11 seconds)
Iteration 500: error is 1.173353 (50 iterations in 0.11 seconds)
Iteration 550: error is 1.166996 (50 iterations in 0.11 seconds)
Iteration 600: error is 1.162214 (50 iterations in 0.11 seconds)
Iteration 650: error is 1.158664 (50 iterations in 0.11 seconds)
Iteration 700: error is 1.156890 (50 iterations in 0.12 seconds)
Iteration 750: error is 1.154881 (50 iterations in 0.11 seconds)
Iteration 800: error is 1.153459 (50 iterations in 0.11 seconds)
Iteration 850: error is 1.151612 (50 iterations in 0.11 seconds)
Iteration 900: error is 1.150290 (50 iterations in 0.12 seconds)
Iteration 950: error is 1.148805 (50 iterations in 0.11 seconds)
Iteration 1000: error is 1.146834 (50 iterations in 0.14 seconds)
Fitting performed in 2.41 seconds.
[ FAIL 0 | WARN 2 | SKIP 0 | PASS 72 ]
[ FAIL 0 | WARN 2 | SKIP 0 | PASS 72 ]
>
> proc.time()
user system elapsed
21.238 0.778 22.272
Sconify.Rcheck/Sconify-Ex.timings
| name | user | system | elapsed | |
| FcsToTibble | 0.143 | 0.007 | 0.150 | |
| Fnn | 0.363 | 1.166 | 1.622 | |
| GetKnnDe | 0.059 | 0.007 | 0.067 | |
| GetMarkerNames | 0.038 | 0.003 | 0.042 | |
| ImputeTesting | 3.803 | 0.031 | 3.857 | |
| MakeHist | 0.649 | 0.014 | 0.669 | |
| MakeKnnList | 0.357 | 0.043 | 0.403 | |
| MeaningOfLife | 0.000 | 0.000 | 0.001 | |
| ParseMarkers | 0.266 | 0.041 | 0.336 | |
| PostProcessing | 0.085 | 0.003 | 0.089 | |
| ProcessMultipleFiles | 0.127 | 0.009 | 0.140 | |
| QuantNormalizeElements | 0.186 | 0.008 | 0.196 | |
| SconeValues | 13.605 | 0.184 | 13.940 | |
| SplitFile | 0.100 | 0.010 | 0.116 | |
| StringToNumbers | 0.000 | 0.001 | 0.000 | |
| SubsampleAndTsne | 1.437 | 0.049 | 1.499 | |
| TsneVis | 0.193 | 0.002 | 0.207 | |