| Back to Multiple platform build/check report for BioC 3.22: simplified long | 
 | 
This page was generated on 2025-10-30 12:35 -0400 (Thu, 30 Oct 2025).
| Hostname | OS | Arch (*) | R version | Installed pkgs | 
|---|---|---|---|---|
| nebbiolo2 | Linux (Ubuntu 24.04.3 LTS) | x86_64 | 4.5.1 Patched (2025-08-23 r88802) -- "Great Square Root" | 4901 | 
| lconway | macOS 12.7.6 Monterey | x86_64 | 4.5.1 Patched (2025-09-10 r88807) -- "Great Square Root" | 4691 | 
| kjohnson3 | macOS 13.7.7 Ventura | arm64 | 4.5.1 Patched (2025-09-10 r88807) -- "Great Square Root" | 4637 | 
| Click on any hostname to see more info about the system (e.g. compilers) (*) as reported by 'uname -p', except on Windows and Mac OS X | ||||
| Package 2234/2361 | Hostname | OS / Arch | INSTALL | BUILD | CHECK | BUILD BIN | ||||||||
| TOP 1.10.0  (landing page) Harry Robertson 
 | nebbiolo2 | Linux (Ubuntu 24.04.3 LTS) / x86_64 | OK | OK | OK |  | ||||||||
| lconway | macOS 12.7.6 Monterey / x86_64 | OK | OK | OK | OK |  | ||||||||
| kjohnson3 | macOS 13.7.7 Ventura / arm64 | OK | OK | OK | OK |  | ||||||||
| To the developers/maintainers of the TOP package: - Allow up to 24 hours (and sometimes 48 hours) for your latest push to git@git.bioconductor.org:packages/TOP.git to reflect on this report. See Troubleshooting Build Report for more information. - Use the following Renviron settings to reproduce errors and warnings. - If 'R CMD check' started to fail recently on the Linux builder(s) over a missing dependency, add the missing dependency to 'Suggests:' in your DESCRIPTION file. See Renviron.bioc for more information. | 
| Package: TOP | 
| Version: 1.10.0 | 
| Command: /home/biocbuild/bbs-3.22-bioc/R/bin/R CMD build --keep-empty-dirs --no-resave-data --md5 TOP | 
| StartedAt: 2025-10-30 02:58:10 -0400 (Thu, 30 Oct 2025) | 
| EndedAt: 2025-10-30 02:59:24 -0400 (Thu, 30 Oct 2025) | 
| EllapsedTime: 74.2 seconds | 
| RetCode: 0 | 
| Status: OK | 
| PackageFile: TOP_1.10.0.tar.gz | 
| PackageFileSize: 491 KiB | 
##############################################################################
##############################################################################
###
### Running command:
###
###   /home/biocbuild/bbs-3.22-bioc/R/bin/R CMD build --keep-empty-dirs --no-resave-data --md5 TOP
###
##############################################################################
##############################################################################
* checking for file ‘TOP/DESCRIPTION’ ... OK
* preparing ‘TOP’:
* checking DESCRIPTION meta-information ... OK
* installing the package to build vignettes
* creating vignettes ... OK
* checking for LF line-endings in source and make files and shell scripts
* checking for empty or unneeded directories
* looking to see if a ‘data/datalist’ file should be added
  NB: this package now depends on R (>= 3.5.0)
  WARNING: Added dependency on R >= 3.5.0 because serialized objects in
  serialize/load version 3 cannot be read in older versions of R.
  File(s) containing such objects:
    ‘TOP/data/TOP_data_binary.RData’
  NB: this package now depends on R (>= 4.1.0)
  WARNING: Added dependency on R >= 4.1.0 because package code uses the
  pipe |> or function shorthand \(...) syntax added in R 4.1.0.
  File(s) using such syntax:
    ‘Performance.R’ ‘PreProcess_TOP.R’ ‘Surv_Frank_CI.Rd’ ‘TOP_model.R’
    ‘TOP_survival.R’ ‘TOP_survival.Rd’ ‘TOP_survivalPrediction.Rd’
    ‘Utils.R’
* adding MD5 file
* building ‘TOP_1.10.0.tar.gz’