| Back to Multiple platform build/check report for BioC 3.23: simplified long |
|
This page was generated on 2025-11-17 11:40 -0500 (Mon, 17 Nov 2025).
| Hostname | OS | Arch (*) | R version | Installed pkgs |
|---|---|---|---|---|
| nebbiolo1 | Linux (Ubuntu 24.04.3 LTS) | x86_64 | R Under development (unstable) (2025-10-20 r88955) -- "Unsuffered Consequences" | 4826 |
| lconway | macOS 12.7.6 Monterey | x86_64 | R Under development (unstable) (2025-10-21 r88958) -- "Unsuffered Consequences" | 4491 |
| kjohnson3 | macOS 13.7.7 Ventura | arm64 | R Under development (unstable) (2025-11-04 r88984) -- "Unsuffered Consequences" | 4562 |
| Click on any hostname to see more info about the system (e.g. compilers) (*) as reported by 'uname -p', except on Windows and Mac OS X | ||||
| Package 2154/2325 | Hostname | OS / Arch | INSTALL | BUILD | CHECK | BUILD BIN | ||||||||
| TargetSearch 2.13.0 (landing page) Alvaro Cuadros-Inostroza
| nebbiolo1 | Linux (Ubuntu 24.04.3 LTS) / x86_64 | OK | OK | OK | |||||||||
| lconway | macOS 12.7.6 Monterey / x86_64 | OK | OK | OK | OK | |||||||||
| kjohnson3 | macOS 13.7.7 Ventura / arm64 | OK | OK | OK | OK | |||||||||
|
To the developers/maintainers of the TargetSearch package: - Allow up to 24 hours (and sometimes 48 hours) for your latest push to git@git.bioconductor.org:packages/TargetSearch.git to reflect on this report. See Troubleshooting Build Report for more information. - Use the following Renviron settings to reproduce errors and warnings. - If 'R CMD check' started to fail recently on the Linux builder(s) over a missing dependency, add the missing dependency to 'Suggests:' in your DESCRIPTION file. See Renviron.bioc for more information. |
| Package: TargetSearch |
| Version: 2.13.0 |
| Command: /Library/Frameworks/R.framework/Resources/bin/R CMD check --install=check:TargetSearch.install-out.txt --library=/Library/Frameworks/R.framework/Resources/library --no-vignettes --timings TargetSearch_2.13.0.tar.gz |
| StartedAt: 2025-11-17 06:06:07 -0500 (Mon, 17 Nov 2025) |
| EndedAt: 2025-11-17 06:07:48 -0500 (Mon, 17 Nov 2025) |
| EllapsedTime: 100.6 seconds |
| RetCode: 0 |
| Status: OK |
| CheckDir: TargetSearch.Rcheck |
| Warnings: 0 |
##############################################################################
##############################################################################
###
### Running command:
###
### /Library/Frameworks/R.framework/Resources/bin/R CMD check --install=check:TargetSearch.install-out.txt --library=/Library/Frameworks/R.framework/Resources/library --no-vignettes --timings TargetSearch_2.13.0.tar.gz
###
##############################################################################
##############################################################################
* using log directory ‘/Users/biocbuild/bbs-3.23-bioc/meat/TargetSearch.Rcheck’
* using R Under development (unstable) (2025-10-21 r88958)
* using platform: x86_64-apple-darwin20
* R was compiled by
Apple clang version 14.0.0 (clang-1400.0.29.202)
GNU Fortran (GCC) 14.2.0
* running under: macOS Ventura 13.7.8
* using session charset: UTF-8
* using option ‘--no-vignettes’
* checking for file ‘TargetSearch/DESCRIPTION’ ... OK
* checking extension type ... Package
* this is package ‘TargetSearch’ version ‘2.13.0’
* checking package namespace information ... OK
* checking package dependencies ... OK
* checking if this is a source package ... OK
* checking if there is a namespace ... OK
* checking for hidden files and directories ... OK
* checking for portable file names ... OK
* checking for sufficient/correct file permissions ... OK
* checking whether package ‘TargetSearch’ can be installed ... OK
* used C compiler: ‘Apple clang version 14.0.3 (clang-1403.0.22.14.1)’
* used SDK: ‘MacOSX11.3.1.sdk’
* checking installed package size ... OK
* checking package directory ... OK
* checking ‘build’ directory ... OK
* checking DESCRIPTION meta-information ... OK
* checking top-level files ... OK
* checking for left-over files ... OK
* checking index information ... OK
* checking package subdirectories ... OK
* checking code files for non-ASCII characters ... OK
* checking R files for syntax errors ... OK
* checking whether the package can be loaded ... OK
* checking whether the package can be loaded with stated dependencies ... OK
* checking whether the package can be unloaded cleanly ... OK
* checking whether the namespace can be loaded with stated dependencies ... OK
* checking whether the namespace can be unloaded cleanly ... OK
* checking dependencies in R code ... OK
* checking S3 generic/method consistency ... OK
* checking replacement functions ... OK
* checking foreign function calls ... OK
* checking R code for possible problems ... OK
* checking Rd files ... OK
* checking Rd metadata ... OK
* checking Rd cross-references ... OK
* checking for missing documentation entries ... OK
* checking for code/documentation mismatches ... OK
* checking Rd \usage sections ... OK
* checking Rd contents ... OK
* checking for unstated dependencies in examples ... OK
* checking contents of ‘data’ directory ... OK
* checking data for non-ASCII characters ... OK
* checking data for ASCII and uncompressed saves ... OK
* checking line endings in C/C++/Fortran sources/headers ... OK
* checking compiled code ... INFO
Note: information on .o files is not available
* checking sizes of PDF files under ‘inst/doc’ ... OK
* checking installed files from ‘inst/doc’ ... OK
* checking files in ‘vignettes’ ... OK
* checking examples ... OK
Examples with CPU (user + system) or elapsed time > 5s
user system elapsed
RIcorrect 12.109 1.784 14.006
* checking for unstated dependencies in ‘tests’ ... OK
* checking tests ...
Running ‘tinytest.R’
OK
* checking for unstated dependencies in vignettes ... OK
* checking package vignettes ... OK
* checking running R code from vignettes ... SKIPPED
* checking re-building of vignette outputs ... SKIPPED
* checking PDF version of manual ... OK
* DONE
Status: OK
TargetSearch.Rcheck/00install.out
############################################################################## ############################################################################## ### ### Running command: ### ### /Library/Frameworks/R.framework/Resources/bin/R CMD INSTALL TargetSearch ### ############################################################################## ############################################################################## * installing to library ‘/Library/Frameworks/R.framework/Versions/4.6-x86_64/Resources/library’ * installing *source* package ‘TargetSearch’ ... ** this is package ‘TargetSearch’ version ‘2.13.0’ ** using staged installation ** libs using C compiler: ‘Apple clang version 14.0.3 (clang-1403.0.22.14.1)’ using SDK: ‘MacOSX11.3.1.sdk’ clang -arch x86_64 -I"/Library/Frameworks/R.framework/Resources/include" -DNDEBUG -I/opt/R/x86_64/include -fPIC -falign-functions=64 -Wall -g -O2 -c Rinit.c -o Rinit.o clang -arch x86_64 -I"/Library/Frameworks/R.framework/Resources/include" -DNDEBUG -I/opt/R/x86_64/include -fPIC -falign-functions=64 -Wall -g -O2 -c baseline.c -o baseline.o clang -arch x86_64 -I"/Library/Frameworks/R.framework/Resources/include" -DNDEBUG -I/opt/R/x86_64/include -fPIC -falign-functions=64 -Wall -g -O2 -c detection.c -o detection.o clang -arch x86_64 -I"/Library/Frameworks/R.framework/Resources/include" -DNDEBUG -I/opt/R/x86_64/include -fPIC -falign-functions=64 -Wall -g -O2 -c file.c -o file.o clang -arch x86_64 -I"/Library/Frameworks/R.framework/Resources/include" -DNDEBUG -I/opt/R/x86_64/include -fPIC -falign-functions=64 -Wall -g -O2 -c find.c -o find.o clang -arch x86_64 -I"/Library/Frameworks/R.framework/Resources/include" -DNDEBUG -I/opt/R/x86_64/include -fPIC -falign-functions=64 -Wall -g -O2 -c get_line.c -o get_line.o clang -arch x86_64 -I"/Library/Frameworks/R.framework/Resources/include" -DNDEBUG -I/opt/R/x86_64/include -fPIC -falign-functions=64 -Wall -g -O2 -c hpf.c -o hpf.o clang -arch x86_64 -I"/Library/Frameworks/R.framework/Resources/include" -DNDEBUG -I/opt/R/x86_64/include -fPIC -falign-functions=64 -Wall -g -O2 -c matrix.c -o matrix.o clang -arch x86_64 -I"/Library/Frameworks/R.framework/Resources/include" -DNDEBUG -I/opt/R/x86_64/include -fPIC -falign-functions=64 -Wall -g -O2 -c ncdf.c -o ncdf.o clang -arch x86_64 -I"/Library/Frameworks/R.framework/Resources/include" -DNDEBUG -I/opt/R/x86_64/include -fPIC -falign-functions=64 -Wall -g -O2 -c peak.c -o peak.o clang -arch x86_64 -I"/Library/Frameworks/R.framework/Resources/include" -DNDEBUG -I/opt/R/x86_64/include -fPIC -falign-functions=64 -Wall -g -O2 -c spectrum.c -o spectrum.o clang -arch x86_64 -I"/Library/Frameworks/R.framework/Resources/include" -DNDEBUG -I/opt/R/x86_64/include -fPIC -falign-functions=64 -Wall -g -O2 -c strutils.c -o strutils.o clang -arch x86_64 -I"/Library/Frameworks/R.framework/Resources/include" -DNDEBUG -I/opt/R/x86_64/include -fPIC -falign-functions=64 -Wall -g -O2 -c utils.c -o utils.o clang -arch x86_64 -dynamiclib -Wl,-headerpad_max_install_names -undefined dynamic_lookup -L/Library/Frameworks/R.framework/Resources/lib -L/opt/R/x86_64/lib -o TargetSearch.so Rinit.o baseline.o detection.o file.o find.o get_line.o hpf.o matrix.o ncdf.o peak.o spectrum.o strutils.o utils.o -F/Library/Frameworks/R.framework/.. -framework R installing to /Library/Frameworks/R.framework/Versions/4.6-x86_64/Resources/library/00LOCK-TargetSearch/00new/TargetSearch/libs ** R ** data ** inst ** byte-compile and prepare package for lazy loading ** help *** installing help indices ** building package indices ** installing vignettes ** testing if installed package can be loaded from temporary location ** checking absolute paths in shared objects and dynamic libraries ** testing if installed package can be loaded from final location ** testing if installed package keeps a record of temporary installation path * DONE (TargetSearch)
TargetSearch.Rcheck/tests/tinytest.Rout
R Under development (unstable) (2025-10-21 r88958) -- "Unsuffered Consequences"
Copyright (C) 2025 The R Foundation for Statistical Computing
Platform: x86_64-apple-darwin20
R is free software and comes with ABSOLUTELY NO WARRANTY.
You are welcome to redistribute it under certain conditions.
Type 'license()' or 'licence()' for distribution details.
R is a collaborative project with many contributors.
Type 'contributors()' for more information and
'citation()' on how to cite R or R packages in publications.
Type 'demo()' for some demos, 'help()' for on-line help, or
'help.start()' for an HTML browser interface to help.
Type 'q()' to quit R.
> if ( requireNamespace("tinytest", quietly=TRUE) && requireNamespace("TargetSearchData", quietly=TRUE)) {
+ tinytest::test_package("TargetSearch", color=FALSE, verbose=1)
+ }
Loading required package: TargetSearchData
test_FindAllPeaks.R........... 19 tests OK 1.7s
FAMEs were saved in /var/folders/db/4tvgx8jx4z3fm1gzlnlzw9rc0000gq/T//RtmpnnGzFY/file1002373dc6b9f.pdf
FAMEs were saved in /var/folders/db/4tvgx8jx4z3fm1gzlnlzw9rc0000gq/T//RtmpnnGzFY/file1002373dc6b9f.pdf
FAMEs were saved in /var/folders/db/4tvgx8jx4z3fm1gzlnlzw9rc0000gq/T//RtmpnnGzFY/file1002373dc6b9f.pdf
FAMEs were saved in /var/folders/db/4tvgx8jx4z3fm1gzlnlzw9rc0000gq/T//RtmpnnGzFY/file1002373dc6b9f.pdf
test_fameoutliers.R........... 5 tests OK 91ms
test_file.R................... 4 tests OK 0.1s
test_import_fame.R............ 14 tests OK 22ms
test_import_library.R......... 15 tests OK 0.1s
test_ncdf4_plot_peak.R........ 7 tests OK 0.4s
test_quantMatrix.R............ 8 tests OK 28ms
test_ri_data_extract.R........ 6 tests OK 4.4s
test_ri_plot_peak.R........... 22 tests OK 0.2s
test_ricorrect.R.............. 5 tests OK 0.5s
test_tsLib.R.................. 30 tests OK 0.1s
test_tsProfile.R.............. 12 tests OK 19ms
test_tsRim.R.................. 9 tests OK 6ms
test_tsSample.R............... 19 tests OK 39ms
test_write_ri_file.R.......... 6 tests OK 12ms
All ok, 181 results (7.7s)
>
> proc.time()
user system elapsed
7.709 0.391 8.167
TargetSearch.Rcheck/TargetSearch-Ex.timings
| name | user | system | elapsed | |
| FAMEoutliers | 0.079 | 0.020 | 0.109 | |
| FindAllPeaks | 1.300 | 0.061 | 1.381 | |
| FindPeaks | 0.205 | 0.010 | 0.214 | |
| ImportFameSettings | 0.012 | 0.002 | 0.013 | |
| ImportLibrary | 0.025 | 0.002 | 0.028 | |
| ImportSamples | 0.010 | 0.002 | 0.013 | |
| NetCDFPeakFinding | 0.248 | 0.032 | 0.282 | |
| Profile | 0.872 | 0.031 | 0.907 | |
| ProfileCleanUp | 0.751 | 0.024 | 0.776 | |
| RIcorrect | 12.109 | 1.784 | 14.006 | |
| TSExample | 1.609 | 0.276 | 1.898 | |
| Write.Results | 0.054 | 0.009 | 0.062 | |
| baseline | 0.309 | 0.022 | 0.334 | |
| baselineCorrection | 0.308 | 0.021 | 0.330 | |
| baselineCorrectionQuant | 0.370 | 0.018 | 0.394 | |
| checkRimLim | 1.130 | 0.084 | 1.221 | |
| file | 0.094 | 0.013 | 0.107 | |
| fixRI | 1.178 | 0.092 | 1.277 | |
| makeIndex | 0.004 | 0.002 | 0.006 | |
| medianRILib | 0.456 | 0.031 | 0.492 | |
| ncdf4Convert-method | 0.077 | 0.012 | 0.089 | |
| ncdf4_convert | 0.020 | 0.002 | 0.022 | |
| ncdf4_convert_from_path | 2.524 | 0.748 | 3.339 | |
| ncdf4_data_extract | 0.430 | 0.107 | 0.542 | |
| ncdf4_plot_peak | 1.207 | 0.305 | 1.528 | |
| ncdf4_update_ri | 0.301 | 0.057 | 0.364 | |
| peakCDFextraction | 0.521 | 0.142 | 0.677 | |
| peakFind | 0.224 | 0.014 | 0.239 | |
| plotFAME | 0.007 | 0.004 | 0.012 | |
| plotPeak | 0.255 | 0.022 | 0.286 | |
| plotPeakRI | 0.908 | 0.045 | 0.965 | |
| plotPeakSimple | 0.538 | 0.044 | 0.623 | |
| plotRIdev | 0.443 | 0.032 | 0.500 | |
| plotRefSpectra | 0.094 | 0.005 | 0.100 | |
| plotSpectra | 0.208 | 0.013 | 0.223 | |
| quantMatrix | 0.758 | 0.046 | 0.810 | |
| ri2rt | 0.003 | 0.000 | 0.003 | |
| riMatrix | 0.969 | 0.065 | 1.038 | |
| ri_data_extract | 0.054 | 0.003 | 0.058 | |
| ri_plot_peak | 1.305 | 0.076 | 1.393 | |
| rt2ri | 0.004 | 0.001 | 0.004 | |
| sampleRI | 0.450 | 0.023 | 0.473 | |
| tsLib-class | 0.027 | 0.006 | 0.033 | |
| tsMSdata-class | 0.009 | 0.017 | 0.026 | |
| tsProfile-class | 0.006 | 0.003 | 0.009 | |
| tsRim-class | 0.001 | 0.001 | 0.002 | |
| tsSample-class | 0.018 | 0.003 | 0.020 | |
| tsUpdate-method | 0 | 0 | 0 | |
| updateRI | 0.867 | 0.131 | 1.007 | |
| writeLibText | 0.028 | 0.003 | 0.031 | |
| writeMSP | 0.017 | 0.004 | 0.021 | |