Back to Multiple platform build/check report for BioC 3.23:   simplified   long
[A]BCDEFGHIJKLMNOPQRSTUVWXYZ

This page was generated on 2025-11-17 11:39 -0500 (Mon, 17 Nov 2025).

HostnameOSArch (*)R versionInstalled pkgs
nebbiolo1Linux (Ubuntu 24.04.3 LTS)x86_64R Under development (unstable) (2025-10-20 r88955) -- "Unsuffered Consequences" 4826
lconwaymacOS 12.7.6 Montereyx86_64R Under development (unstable) (2025-10-21 r88958) -- "Unsuffered Consequences" 4491
kjohnson3macOS 13.7.7 Venturaarm64R Under development (unstable) (2025-11-04 r88984) -- "Unsuffered Consequences" 4562
Click on any hostname to see more info about the system (e.g. compilers)      (*) as reported by 'uname -p', except on Windows and Mac OS X

Package 2/2325HostnameOS / ArchINSTALLBUILDCHECKBUILD BIN
a4Base 1.59.0  (landing page)
Laure Cougnaud
Snapshot Date: 2025-11-16 13:40 -0500 (Sun, 16 Nov 2025)
git_url: https://git.bioconductor.org/packages/a4Base
git_branch: devel
git_last_commit: 2ae8314
git_last_commit_date: 2025-10-29 10:07:20 -0500 (Wed, 29 Oct 2025)
nebbiolo1Linux (Ubuntu 24.04.3 LTS) / x86_64  OK    OK    OK  UNNEEDED, same version is already published
lconwaymacOS 12.7.6 Monterey / x86_64  OK    OK    ERROR    OK  
kjohnson3macOS 13.7.7 Ventura / arm64  OK    OK    OK    OK  UNNEEDED, same version is already published


CHECK results for a4Base on lconway

To the developers/maintainers of the a4Base package:
- Allow up to 24 hours (and sometimes 48 hours) for your latest push to git@git.bioconductor.org:packages/a4Base.git to reflect on this report. See Troubleshooting Build Report for more information.
- Use the following Renviron settings to reproduce errors and warnings.
- If 'R CMD check' started to fail recently on the Linux builder(s) over a missing dependency, add the missing dependency to 'Suggests:' in your DESCRIPTION file. See Renviron.bioc for more information.

raw results


Summary

Package: a4Base
Version: 1.59.0
Command: /Library/Frameworks/R.framework/Resources/bin/R CMD check --install=check:a4Base.install-out.txt --library=/Library/Frameworks/R.framework/Resources/library --no-vignettes --timings a4Base_1.59.0.tar.gz
StartedAt: 2025-11-17 00:50:39 -0500 (Mon, 17 Nov 2025)
EndedAt: 2025-11-17 00:50:52 -0500 (Mon, 17 Nov 2025)
EllapsedTime: 13.2 seconds
RetCode: 1
Status:   ERROR  
CheckDir: a4Base.Rcheck
Warnings: NA

Command output

##############################################################################
##############################################################################
###
### Running command:
###
###   /Library/Frameworks/R.framework/Resources/bin/R CMD check --install=check:a4Base.install-out.txt --library=/Library/Frameworks/R.framework/Resources/library --no-vignettes --timings a4Base_1.59.0.tar.gz
###
##############################################################################
##############################################################################


* using log directory ‘/Users/biocbuild/bbs-3.23-bioc/meat/a4Base.Rcheck’
* using R Under development (unstable) (2025-10-21 r88958)
* using platform: x86_64-apple-darwin20
* R was compiled by
    Apple clang version 14.0.0 (clang-1400.0.29.202)
    GNU Fortran (GCC) 14.2.0
* running under: macOS Ventura 13.7.8
* using session charset: UTF-8
* using option ‘--no-vignettes’
* checking for file ‘a4Base/DESCRIPTION’ ... OK
* checking extension type ... Package
* this is package ‘a4Base’ version ‘1.59.0’
* checking package namespace information ... OK
* checking package dependencies ... ERROR
Package suggested but not available: ‘ALL’

Package which this enhances but not available for checking: ‘JavaGD’

The suggested packages are required for a complete check.
Checking can be attempted without them by setting the environment
variable _R_CHECK_FORCE_SUGGESTS_ to a false value.

See section ‘The DESCRIPTION file’ in the ‘Writing R Extensions’
manual.
* DONE

Status: 1 ERROR
See
  ‘/Users/biocbuild/bbs-3.23-bioc/meat/a4Base.Rcheck/00check.log’
for details.


Installation output


Tests output


Example timings