Back to Multiple platform build/check report for BioC 3.22:   simplified   long
[A]BCDEFGHIJKLMNOPQRSTUVWXYZ

This page was generated on 2025-07-14 12:11 -0400 (Mon, 14 Jul 2025).

HostnameOSArch (*)R versionInstalled pkgs
nebbiolo2Linux (Ubuntu 24.04.2 LTS)x86_644.5.1 (2025-06-13) -- "Great Square Root" 4784
palomino8Windows Server 2022 Datacenterx644.5.1 (2025-06-13 ucrt) -- "Great Square Root" 4523
lconwaymacOS 12.7.1 Montereyx86_644.5.1 (2025-06-13) -- "Great Square Root" 4565
kjohnson3macOS 13.7.1 Venturaarm644.5.1 Patched (2025-06-14 r88325) -- "Great Square Root" 4507
taishanLinux (openEuler 24.03 LTS)aarch644.5.0 (2025-04-11) -- "How About a Twenty-Six" 4507
Click on any hostname to see more info about the system (e.g. compilers)      (*) as reported by 'uname -p', except on Windows and Mac OS X

Package 70/2311HostnameOS / ArchINSTALLBUILDCHECKBUILD BIN
annotate 1.87.0  (landing page)
Bioconductor Package Maintainer
Snapshot Date: 2025-07-13 13:25 -0400 (Sun, 13 Jul 2025)
git_url: https://git.bioconductor.org/packages/annotate
git_branch: devel
git_last_commit: 22204b6
git_last_commit_date: 2025-06-18 13:57:32 -0400 (Wed, 18 Jun 2025)
nebbiolo2Linux (Ubuntu 24.04.2 LTS) / x86_64  OK    OK    OK  UNNEEDED, same version is already published
palomino8Windows Server 2022 Datacenter / x64  OK    OK    ERROR    OK  
lconwaymacOS 12.7.1 Monterey / x86_64  OK    OK    OK    OK  UNNEEDED, same version is already published
kjohnson3macOS 13.7.1 Ventura / arm64  OK    OK    OK    OK  UNNEEDED, same version is already published
taishanLinux (openEuler 24.03 LTS) / aarch64  OK    OK    OK  


CHECK results for annotate on taishan

To the developers/maintainers of the annotate package:
- Allow up to 24 hours (and sometimes 48 hours) for your latest push to git@git.bioconductor.org:packages/annotate.git to reflect on this report. See Troubleshooting Build Report for more information.
- Use the following Renviron settings to reproduce errors and warnings.
- If 'R CMD check' started to fail recently on the Linux builder(s) over a missing dependency, add the missing dependency to 'Suggests:' in your DESCRIPTION file. See Renviron.bioc for more information.
- See Martin Grigorov's blog post for how to debug Linux ARM64 related issues on a x86_64 host.

raw results


Summary

Package: annotate
Version: 1.87.0
Command: /home/biocbuild/R/R/bin/R CMD check --install=check:annotate.install-out.txt --library=/home/biocbuild/R/R/site-library --no-vignettes --timings annotate_1.87.0.tar.gz
StartedAt: 2025-07-11 05:16:33 -0000 (Fri, 11 Jul 2025)
EndedAt: 2025-07-11 05:22:16 -0000 (Fri, 11 Jul 2025)
EllapsedTime: 342.8 seconds
RetCode: 0
Status:   OK  
CheckDir: annotate.Rcheck
Warnings: 0

Command output

##############################################################################
##############################################################################
###
### Running command:
###
###   /home/biocbuild/R/R/bin/R CMD check --install=check:annotate.install-out.txt --library=/home/biocbuild/R/R/site-library --no-vignettes --timings annotate_1.87.0.tar.gz
###
##############################################################################
##############################################################################


* using log directory ‘/home/biocbuild/bbs-3.22-bioc/meat/annotate.Rcheck’
* using R version 4.5.0 (2025-04-11)
* using platform: aarch64-unknown-linux-gnu
* R was compiled by
    aarch64-unknown-linux-gnu-gcc (GCC) 14.2.0
    GNU Fortran (GCC) 14.2.0
* running under: openEuler 24.03 (LTS)
* using session charset: UTF-8
* using option ‘--no-vignettes’
* checking for file ‘annotate/DESCRIPTION’ ... OK
* this is package ‘annotate’ version ‘1.87.0’
* checking package namespace information ... OK
* checking package dependencies ... OK
* checking if this is a source package ... OK
* checking if there is a namespace ... OK
* checking for hidden files and directories ... OK
* checking for portable file names ... OK
* checking for sufficient/correct file permissions ... OK
* checking whether package ‘annotate’ can be installed ... OK
* checking installed package size ... OK
* checking package directory ... OK
* checking ‘build’ directory ... OK
* checking DESCRIPTION meta-information ... OK
* checking top-level files ... OK
* checking for left-over files ... OK
* checking index information ... OK
* checking package subdirectories ... OK
* checking code files for non-ASCII characters ... OK
* checking R files for syntax errors ... OK
* checking whether the package can be loaded ... OK
* checking whether the package can be loaded with stated dependencies ... OK
* checking whether the package can be unloaded cleanly ... OK
* checking whether the namespace can be loaded with stated dependencies ... OK
* checking whether the namespace can be unloaded cleanly ... OK
* checking loading without being on the library search path ... OK
* checking whether startup messages can be suppressed ... OK
* checking dependencies in R code ... NOTE
Unexported object imported by a ':::' call: ‘BiocGenerics:::testPackage’
  See the note in ?`:::` about the use of this operator.
* checking S3 generic/method consistency ... OK
* checking replacement functions ... OK
* checking foreign function calls ... OK
* checking R code for possible problems ... OK
* checking Rd files ... OK
* checking Rd metadata ... OK
* checking Rd cross-references ... OK
* checking for missing documentation entries ... OK
* checking for code/documentation mismatches ... OK
* checking Rd \usage sections ... OK
* checking Rd contents ... OK
* checking for unstated dependencies in examples ... OK
* checking contents of ‘data’ directory ... OK
* checking data for non-ASCII characters ... OK
* checking data for ASCII and uncompressed saves ... OK
* checking files in ‘vignettes’ ... OK
* checking examples ... OK
Examples with CPU (user + system) or elapsed time > 5s
                   user system elapsed
chrCats          15.529  0.554  17.634
pm.titles         1.626  0.052  31.573
pm.abstGrep       1.305  0.052   5.967
accessionToUID    0.374  0.048  22.046
genbank           0.177  0.024   5.379
blastSequences    0.126  0.007  39.235
pubMedAbst-class  0.042  0.004   5.202
* checking for unstated dependencies in ‘tests’ ... OK
* checking tests ...
  Running ‘annotate_unit_tests.R’
 OK
* checking for unstated dependencies in vignettes ... OK
* checking package vignettes ... OK
* checking running R code from vignettes ... SKIPPED
* checking re-building of vignette outputs ... SKIPPED
* checking PDF version of manual ... OK
* DONE

Status: 1 NOTE
See
  ‘/home/biocbuild/bbs-3.22-bioc/meat/annotate.Rcheck/00check.log’
for details.


Installation output

annotate.Rcheck/00install.out

##############################################################################
##############################################################################
###
### Running command:
###
###   /home/biocbuild/R/R/bin/R CMD INSTALL annotate
###
##############################################################################
##############################################################################


* installing to library ‘/home/biocbuild/R/R-4.5.0/site-library’
* installing *source* package ‘annotate’ ...
** this is package ‘annotate’ version ‘1.87.0’
** using staged installation
** R
** data
** inst
** byte-compile and prepare package for lazy loading
** help
*** installing help indices
** building package indices
** installing vignettes
** testing if installed package can be loaded from temporary location
** testing if installed package can be loaded from final location
** testing if installed package keeps a record of temporary installation path
* DONE (annotate)

Tests output

annotate.Rcheck/tests/annotate_unit_tests.Rout


R version 4.5.0 (2025-04-11) -- "How About a Twenty-Six"
Copyright (C) 2025 The R Foundation for Statistical Computing
Platform: aarch64-unknown-linux-gnu

R is free software and comes with ABSOLUTELY NO WARRANTY.
You are welcome to redistribute it under certain conditions.
Type 'license()' or 'licence()' for distribution details.

R is a collaborative project with many contributors.
Type 'contributors()' for more information and
'citation()' on how to cite R or R packages in publications.

Type 'demo()' for some demos, 'help()' for on-line help, or
'help.start()' for an HTML browser interface to help.
Type 'q()' to quit R.

> BiocGenerics:::testPackage("annotate")

Attaching package: 'generics'

The following objects are masked from 'package:base':

    as.difftime, as.factor, as.ordered, intersect, is.element, setdiff,
    setequal, union


Attaching package: 'BiocGenerics'

The following objects are masked from 'package:stats':

    IQR, mad, sd, var, xtabs

The following objects are masked from 'package:base':

    Filter, Find, Map, Position, Reduce, anyDuplicated, aperm, append,
    as.data.frame, basename, cbind, colnames, dirname, do.call,
    duplicated, eval, evalq, get, grep, grepl, is.unsorted, lapply,
    mapply, match, mget, order, paste, pmax, pmax.int, pmin, pmin.int,
    rank, rbind, rownames, sapply, saveRDS, table, tapply, unique,
    unsplit, which.max, which.min

Welcome to Bioconductor

    Vignettes contain introductory material; view with
    'browseVignettes()'. To cite Bioconductor, see
    'citation("Biobase")', and for packages 'citation("pkgname")'.


Attaching package: 'S4Vectors'

The following object is masked from 'package:utils':

    findMatches

The following objects are masked from 'package:base':

    I, expand.grid, unname

Loading required package: org.Hs.eg.db

'select()' returned 1:many mapping between keys and columns


RUNIT TEST PROTOCOL -- Fri Jul 11 05:22:07 2025 
*********************************************** 
Number of test functions: 1 
Number of errors: 0 
Number of failures: 0 

 
1 Test Suite : 
annotate RUnit Tests - 1 test function, 0 errors, 0 failures
Number of test functions: 1 
Number of errors: 0 
Number of failures: 0 
> 
> proc.time()
   user  system elapsed 
 10.768   0.532  12.927 

Example timings

annotate.Rcheck/annotate-Ex.timings

nameusersystemelapsed
ACCNUMStats1.7340.0521.811
GO2heatmap0.1560.0050.277
GOmnplot0.0560.0000.115
HTMLPage-class000
LL2homology0.0010.0000.000
PMIDAmat0.1170.0010.297
PWAmat2.1220.0482.696
UniGeneQuery0.0020.0000.002
accessionToUID 0.374 0.04822.046
annPkgName0.0010.0000.000
aqListGOIDs0.1500.0000.266
blastSequences 0.126 0.00739.235
buildChromLocation0.9000.0241.261
buildPubMedAbst0.0480.0001.938
chrCats15.529 0.55417.634
chromLocation-class0.7870.0360.826
compatibleVersions0.0370.0000.038
dropECode0.0490.0000.050
entrezGeneByID0.0000.0000.001
entrezGeneQuery0.0010.0000.001
filterGOByOntology0.0510.0000.052
findNeighbors0.0210.0040.072
genbank0.1770.0245.379
getAnnMap0.0340.0000.034
getEvidence0.0580.0040.062
getGOTerm0.2410.0040.388
getOntology0.0490.0000.102
getPMInfo0.4100.0161.993
getSYMBOL0.1360.0040.222
getSeq4Acc0.0200.0002.655
hasGOannote0.0230.0040.052
hgByChroms0.0150.0000.027
hgCLengths0.0010.0000.001
hgu95Achroloc0.0590.0000.063
hgu95Achrom0.0470.0040.064
hgu95All0.0500.0040.056
hgu95Asym0.0530.0040.064
homoData-class0.0030.0000.003
htmlpage0.0160.0040.020
isValidkey000
makeAnchor0.0010.0000.001
organism0.8270.0070.855
pm.abstGrep1.3050.0525.967
pm.getabst1.2040.0484.649
pm.titles 1.626 0.05231.573
pmAbst2HTML0.0590.0001.807
pmid2MIAME000
pmidQuery000
pubMedAbst-class0.0420.0045.202
pubmed0.0300.0001.955
readGEOAnn000
serializeEnv0.0010.0000.002
setRepository0.0000.0000.001
updateSymbolsToValidKeys0.0000.0000.001
usedChromGenes0.0750.0040.160