Back to Multiple platform build/check report for BioC 3.22:   simplified   long
A[B]CDEFGHIJKLMNOPQRSTUVWXYZ

This page was generated on 2025-10-10 12:07 -0400 (Fri, 10 Oct 2025).

HostnameOSArch (*)R versionInstalled pkgs
nebbiolo2Linux (Ubuntu 24.04.3 LTS)x86_644.5.1 Patched (2025-08-23 r88802) -- "Great Square Root" 4854
lconwaymacOS 12.7.1 Montereyx86_644.5.1 Patched (2025-09-10 r88807) -- "Great Square Root" 4642
kjohnson3macOS 13.7.7 Venturaarm644.5.1 Patched (2025-09-10 r88807) -- "Great Square Root" 4587
taishanLinux (openEuler 24.03 LTS)aarch644.5.0 (2025-04-11) -- "How About a Twenty-Six" 4586
Click on any hostname to see more info about the system (e.g. compilers)      (*) as reported by 'uname -p', except on Windows and Mac OS X

Package 157/2341HostnameOS / ArchINSTALLBUILDCHECKBUILD BIN
beadarray 2.59.0  (landing page)
Mark Dunning
Snapshot Date: 2025-10-09 13:45 -0400 (Thu, 09 Oct 2025)
git_url: https://git.bioconductor.org/packages/beadarray
git_branch: devel
git_last_commit: a89dbc2
git_last_commit_date: 2025-04-15 09:37:46 -0400 (Tue, 15 Apr 2025)
nebbiolo2Linux (Ubuntu 24.04.3 LTS) / x86_64  OK    OK    ERROR  
lconwaymacOS 12.7.1 Monterey / x86_64  OK    OK    ERROR    OK  
kjohnson3macOS 13.7.7 Ventura / arm64  OK    OK    ERROR    OK  
taishanLinux (openEuler 24.03 LTS) / aarch64  OK    OK    OK  


CHECK results for beadarray on taishan

To the developers/maintainers of the beadarray package:
- Allow up to 24 hours (and sometimes 48 hours) for your latest push to git@git.bioconductor.org:packages/beadarray.git to reflect on this report. See Troubleshooting Build Report for more information.
- Use the following Renviron settings to reproduce errors and warnings.
- If 'R CMD check' started to fail recently on the Linux builder(s) over a missing dependency, add the missing dependency to 'Suggests:' in your DESCRIPTION file. See Renviron.bioc for more information.
- See Martin Grigorov's blog post for how to debug Linux ARM64 related issues on a x86_64 host.

raw results


Summary

Package: beadarray
Version: 2.59.0
Command: /home/biocbuild/R/R/bin/R CMD check --install=check:beadarray.install-out.txt --library=/home/biocbuild/R/R/site-library --no-vignettes --timings beadarray_2.59.0.tar.gz
StartedAt: 2025-10-10 05:48:12 -0000 (Fri, 10 Oct 2025)
EndedAt: 2025-10-10 05:55:24 -0000 (Fri, 10 Oct 2025)
EllapsedTime: 432.0 seconds
RetCode: 0
Status:   OK  
CheckDir: beadarray.Rcheck
Warnings: 0

Command output

##############################################################################
##############################################################################
###
### Running command:
###
###   /home/biocbuild/R/R/bin/R CMD check --install=check:beadarray.install-out.txt --library=/home/biocbuild/R/R/site-library --no-vignettes --timings beadarray_2.59.0.tar.gz
###
##############################################################################
##############################################################################


* using log directory ‘/home/biocbuild/bbs-3.22-bioc/meat/beadarray.Rcheck’
* using R version 4.5.0 (2025-04-11)
* using platform: aarch64-unknown-linux-gnu
* R was compiled by
    aarch64-unknown-linux-gnu-gcc (GCC) 14.2.0
    GNU Fortran (GCC) 14.2.0
* running under: openEuler 24.03 (LTS)
* using session charset: UTF-8
* using option ‘--no-vignettes’
* checking for file ‘beadarray/DESCRIPTION’ ... OK
* this is package ‘beadarray’ version ‘2.59.0’
* checking package namespace information ... OK
* checking package dependencies ... OK
* checking if this is a source package ... OK
* checking if there is a namespace ... OK
* checking for hidden files and directories ... OK
* checking for portable file names ... OK
* checking for sufficient/correct file permissions ... OK
* checking whether package ‘beadarray’ can be installed ... OK
* used C compiler: ‘aarch64-unknown-linux-gnu-gcc (GCC) 14.2.0’
* checking installed package size ... OK
* checking package directory ... OK
* checking ‘build’ directory ... OK
* checking DESCRIPTION meta-information ... NOTE
License stub is invalid DCF.
* checking top-level files ... OK
* checking for left-over files ... OK
* checking index information ... OK
* checking package subdirectories ... OK
* checking code files for non-ASCII characters ... OK
* checking R files for syntax errors ... OK
* checking whether the package can be loaded ... OK
* checking whether the package can be loaded with stated dependencies ... OK
* checking whether the package can be unloaded cleanly ... OK
* checking whether the namespace can be loaded with stated dependencies ... OK
* checking whether the namespace can be unloaded cleanly ... OK
* checking loading without being on the library search path ... OK
* checking whether startup messages can be suppressed ... OK
* checking dependencies in R code ... NOTE
Package in Depends field not imported from: ‘hexbin’
  These packages need to be imported from (in the NAMESPACE file)
  for when this namespace is loaded but not attached.
Unexported objects imported by ':::' calls:
  ‘BeadDataPackR:::combineFiles’ ‘BeadDataPackR:::readHeader’
  ‘Biobase:::assayDataStorageMode’
  See the note in ?`:::` about the use of this operator.
* checking S3 generic/method consistency ... OK
* checking replacement functions ... OK
* checking foreign function calls ... NOTE
Foreign function call to a different package:
  .Call("roundLocsFileValues", ..., PACKAGE = "BeadDataPackR")
See chapter ‘System and foreign language interfaces’ in the ‘Writing R
Extensions’ manual.
* checking R code for possible problems ... NOTE
combinedControlPlot: no visible binding for global variable ‘Negative’
createGEOMeta: no visible binding for global variable ‘metaTemplate’
expressionQCPipeline: no visible global function definition for
  ‘openPage’
expressionQCPipeline: no visible global function definition for
  ‘hwrite’
expressionQCPipeline: no visible global function definition for
  ‘hwriteImage’
expressionQCPipeline: no visible global function definition for
  ‘closePage’
getPlatformSigs: no visible global function definition for
  ‘lumiHumanIDMapping_dbconn’
getPlatformSigs: no visible global function definition for
  ‘dbListTables’
getPlatformSigs: no visible global function definition for
  ‘dbListFields’
getPlatformSigs: no visible global function definition for ‘dbGetQuery’
getPlatformSigs: no visible global function definition for
  ‘lumiMouseIDMapping_dbconn’
getPlatformSigs: no visible global function definition for
  ‘lumiRatIDMapping_dbconn’
imageplot: no visible binding for global variable ‘Var1’
imageplot: no visible binding for global variable ‘Var2’
imageplot: no visible binding for global variable ‘value’
makeReport: no visible binding for global variable ‘Nozzle.R1’
makeReport: no visible binding for global variable ‘ggbio’
makeReport: no visible global function definition for ‘newCustomReport’
makeReport: no visible global function definition for ‘newSection’
makeReport: no visible global function definition for ‘newTable’
makeReport: no visible global function definition for ‘newParagraph’
makeReport: no visible global function definition for ‘addTo’
makeReport: no visible global function definition for ‘autoplot’
makeReport: no visible global function definition for ‘plotIdeogram’
makeReport: no visible global function definition for ‘tracks’
makeReport: no visible global function definition for ‘newFigure’
makeReport: no visible binding for global variable ‘IMAGE.TYPE.RASTER’
makeReport: no visible binding for global variable ‘PROTECTION.PUBLIC’
makeReport: no visible binding for global variable ‘value’
makeReport: no visible global function definition for ‘writeReport’
maplots: no visible binding for global variable ‘value.1’
maplots: no visible binding for global variable ‘value’
normaliseIllumina: no visible global function definition for ‘lumiT’
normaliseIllumina: no visible global function definition for
  ‘normalize.qspline’
normaliseIllumina: no visible global function definition for ‘vsn2’
plotBeadLocations2: no visible global function definition for ‘qplot’
plotBeadLocations2: no visible global function definition for ‘opts’
plotBeadLocations2: no visible global function definition for
  ‘theme_blank’
plotProbe: no visible global function definition for ‘autoplot’
plotProbe: no visible binding for global variable ‘genesymbol’
plotProbe: no visible global function definition for ‘tracks’
plotProbe: no visible binding for global variable ‘PROBEQUALITY’
rankInvariantNormalise: no visible global function definition for
  ‘normalize.invariantset’
suggestAnnotation: no visible binding for global variable
  ‘platformSigs’
suggestAnnotation_Vector: no visible binding for global variable
  ‘platformSigs’
[,ExpressionSetIllumina-ANY: no visible global function definition for
  ‘assayDataEnvLock’
boxplot,ExpressionSetIllumina: no visible binding for global variable
  ‘Var2’
boxplot,ExpressionSetIllumina: no visible binding for global variable
  ‘value’
plotMA,ExpressionSetIllumina: no visible binding for global variable
  ‘value.1’
plotMA,ExpressionSetIllumina: no visible binding for global variable
  ‘value’
Undefined global functions or variables:
  IMAGE.TYPE.RASTER Negative Nozzle.R1 PROBEQUALITY PROTECTION.PUBLIC
  Var1 Var2 addTo assayDataEnvLock autoplot closePage dbGetQuery
  dbListFields dbListTables genesymbol ggbio hwrite hwriteImage
  lumiHumanIDMapping_dbconn lumiMouseIDMapping_dbconn
  lumiRatIDMapping_dbconn lumiT metaTemplate newCustomReport newFigure
  newParagraph newSection newTable normalize.invariantset
  normalize.qspline openPage opts platformSigs plotIdeogram qplot
  theme_blank tracks value value.1 vsn2 writeReport
* checking Rd files ... NOTE
checkRd: (-1) createTargetsFile.Rd:49: Lost braces
    49 | code{metricsflag}: This gives the key word that can be used to identify metrics files.  
       |     ^
checkRd: (-1) readBeadSummaryData.Rd:70: Escaped LaTeX specials: \_
checkRd: (-1) readBeadSummaryData.Rd:71: Escaped LaTeX specials: \_ \_
checkRd: (-1) readBeadSummaryData.Rd:76: Escaped LaTeX specials: \_ \_
checkRd: (-1) sampleSheet.Rd:26: Escaped LaTeX specials: \_ \_ \_ \_ \_ \_ \_ \_ \_ \_ \_ \_
* checking Rd metadata ... OK
* checking Rd cross-references ... NOTE
Non-topic package-anchored link(s) in Rd file 'class-ExpressionSetIllumina.Rd':
  ‘[Biobase:class.eSet]{eSet}’

See section 'Cross-references' in the 'Writing R Extensions' manual.
* checking for missing documentation entries ... OK
* checking for code/documentation mismatches ... OK
* checking Rd \usage sections ... OK
* checking Rd contents ... OK
* checking for unstated dependencies in examples ... OK
* checking contents of ‘data’ directory ... OK
* checking data for non-ASCII characters ... OK
* checking LazyData ... OK
* checking data for ASCII and uncompressed saves ... OK
* checking line endings in C/C++/Fortran sources/headers ... OK
* checking compiled code ... NOTE
Note: information on .o files is not available
* checking files in ‘vignettes’ ... OK
* checking examples ... OK
Examples with CPU (user + system) or elapsed time > 5s
                           user system elapsed
squeezedVarOutlierMethod 39.269  0.128  39.470
summarize                23.435  0.287  23.783
limmaDE                  20.297  0.279  20.639
normaliseIllumina        14.254  0.199  14.503
calculateDetection       11.890  0.152  12.070
calculateOutlierStats    10.936  0.379  11.343
outlierplot              10.963  0.311  11.297
controlProbeDetection     9.520  0.092   9.633
identifyControlBeads      8.519  0.068   8.603
poscontPlot               7.858  0.148   8.022
insertSectionData         7.601  0.331   7.951
makeQCTable               7.045  0.191   7.250
quickSummary              6.846  0.060   6.921
imageplot                 5.979  0.040   6.036
addFeatureData            5.618  0.369   6.073
annotationInterface       5.475  0.263   5.757
showArrayMask             4.941  0.064   5.017
* checking for unstated dependencies in vignettes ... OK
* checking package vignettes ... OK
* checking running R code from vignettes ... SKIPPED
* checking re-building of vignette outputs ... SKIPPED
* checking PDF version of manual ... OK
* DONE

Status: 7 NOTEs
See
  ‘/home/biocbuild/bbs-3.22-bioc/meat/beadarray.Rcheck/00check.log’
for details.


Installation output

beadarray.Rcheck/00install.out

##############################################################################
##############################################################################
###
### Running command:
###
###   /home/biocbuild/R/R/bin/R CMD INSTALL beadarray
###
##############################################################################
##############################################################################


* installing to library ‘/home/biocbuild/R/R-4.5.0/site-library’
* installing *source* package ‘beadarray’ ...
** this is package ‘beadarray’ version ‘2.59.0’
** using staged installation
** libs
using C compiler: ‘aarch64-unknown-linux-gnu-gcc (GCC) 14.2.0’
/opt/ohpc/pub/compiler/gcc/14.2.0/bin/aarch64-unknown-linux-gnu-gcc -std=gnu23 -I"/home/biocbuild/R/R-4.5.0/include" -DNDEBUG   -I/usr/local/include    -fPIC  -g -O2  -Wall -Werror=format-security -c BASH.c -o BASH.o
/opt/ohpc/pub/compiler/gcc/14.2.0/bin/aarch64-unknown-linux-gnu-gcc -std=gnu23 -I"/home/biocbuild/R/R-4.5.0/include" -DNDEBUG   -I/usr/local/include    -fPIC  -g -O2  -Wall -Werror=format-security -c HULK.c -o HULK.o
/opt/ohpc/pub/compiler/gcc/14.2.0/bin/aarch64-unknown-linux-gnu-gcc -std=gnu23 -I"/home/biocbuild/R/R-4.5.0/include" -DNDEBUG   -I/usr/local/include    -fPIC  -g -O2  -Wall -Werror=format-security -c determiningGridPositions.c -o determiningGridPositions.o
/opt/ohpc/pub/compiler/gcc/14.2.0/bin/aarch64-unknown-linux-gnu-gcc -std=gnu23 -I"/home/biocbuild/R/R-4.5.0/include" -DNDEBUG   -I/usr/local/include    -fPIC  -g -O2  -Wall -Werror=format-security -c findAllOutliers.c -o findAllOutliers.o
findAllOutliers.c: In function ‘findBeadStatus’:
findAllOutliers.c:196:35: warning: ‘m’ may be used uninitialized [-Wmaybe-uninitialized]
  196 |                 if((inten[k] < (m + *nmads*ma)) && (inten[k] > (m - *nmads*ma))){
      |                                ~~~^~~~~~~~~~~~
findAllOutliers.c:155:16: note: ‘m’ was declared here
  155 |         double m, ma;
      |                ^
findAllOutliers.c:189:15: warning: ‘ma’ may be used uninitialized [-Wmaybe-uninitialized]
  189 |             if(ma==0) {
      |               ^
findAllOutliers.c:155:19: note: ‘ma’ was declared here
  155 |         double m, ma;
      |                   ^~
findAllOutliers.c: In function ‘findAllOutliers’:
findAllOutliers.c:246:20: warning: ‘status’ may be used uninitialized [-Wmaybe-uninitialized]
  246 |         free(status->validInds);
      |              ~~~~~~^~~~~~~~~~~
findAllOutliers.c:226:27: note: ‘status’ was declared here
  226 |         beadStatusStruct *status;
      |                           ^~~~~~
/opt/ohpc/pub/compiler/gcc/14.2.0/bin/aarch64-unknown-linux-gnu-gcc -std=gnu23 -I"/home/biocbuild/R/R-4.5.0/include" -DNDEBUG   -I/usr/local/include    -fPIC  -g -O2  -Wall -Werror=format-security -c imageProcessing.c -o imageProcessing.o
imageProcessing.c: In function ‘illuminaBackground’:
imageProcessing.c:88: warning: ignoring ‘#pragma omp parallel’ [-Wunknown-pragmas]
   88 |     #pragma omp parallel shared(nthreads, nbeads, imageHeight, pixelMatrix, coords) private(tid, start, end)
imageProcessing.c: In function ‘medianBackground’:
imageProcessing.c:135: warning: ignoring ‘#pragma omp parallel’ [-Wunknown-pragmas]
  135 |     #pragma omp parallel shared(nthreads, nbeads, imageHeight, pixelMatrix, coords) private(tid, start, end)
imageProcessing.c: In function ‘illuminaSharpen’:
imageProcessing.c:244: warning: ignoring ‘#pragma omp parallel’ [-Wunknown-pragmas]
  244 |     #pragma omp parallel for private(i, j) shared(sharpened) num_threads(2)
imageProcessing.c:251: warning: ignoring ‘#pragma omp parallel’ [-Wunknown-pragmas]
  251 |     #pragma omp parallel for private(i, j, sum) shared(sharpened) num_threads(2)
/opt/ohpc/pub/compiler/gcc/14.2.0/bin/aarch64-unknown-linux-gnu-gcc -std=gnu23 -shared -L/home/biocbuild/R/R-4.5.0/lib -L/usr/local/lib -o beadarray.so BASH.o HULK.o determiningGridPositions.o findAllOutliers.o imageProcessing.o -L/home/biocbuild/R/R-4.5.0/lib -lR
installing to /home/biocbuild/R/R-4.5.0/site-library/00LOCK-beadarray/00new/beadarray/libs
** R
** data
*** moving datasets to lazyload DB
** inst
** byte-compile and prepare package for lazy loading
** help
*** installing help indices
** building package indices
** installing vignettes
** testing if installed package can be loaded from temporary location
** checking absolute paths in shared objects and dynamic libraries
** testing if installed package can be loaded from final location
** testing if installed package keeps a record of temporary installation path
* DONE (beadarray)

Tests output


Example timings

beadarray.Rcheck/beadarray-Ex.timings

nameusersystemelapsed
BASH000
BASHCompact000
BASHDiffuse0.0010.0000.000
BASHExtended000
GEO000
GEOtemplate0.0000.0030.002
HULK000
addFeatureData5.6180.3696.073
annotationInterface5.4750.2635.757
backgroundCorrectSingleSection0.0010.0000.000
beadarrayUsersGuide0.0020.0000.002
boxplot3.9790.1394.137
calculateDetection11.890 0.15212.070
calculateOutlierStats10.936 0.37911.343
class-beadLevelData2.1150.0842.205
class-illuminaChannel0.0020.0000.002
combine2.8850.1233.016
controlProbeDetection9.5200.0929.633
createTargetsFile000
expressionQCPipeline0.0300.0040.034
generateNeighbours000
getBeadData1.6640.0401.708
identifyControlBeads8.5190.0688.603
illuminaOutlierMethod2.4160.0602.481
imageplot5.9790.0406.036
insertBeadData2.1500.1392.297
insertSectionData7.6010.3317.951
limmaDE20.297 0.27920.639
makeControlProfile0.3750.0040.379
makeQCTable7.0450.1917.250
maplots4.6540.0524.719
medianNormalise1.3540.0041.361
metrics1.4190.0081.431
noOutlierMethod1.4860.0681.558
normaliseIllumina14.254 0.19914.503
numBeads1.4530.1001.557
outlierplot10.963 0.31111.297
plotBeadIntensities2.7790.1312.917
plotBeadLocations1.6300.1001.734
plotChipLayout0.0000.0000.001
plotMAXY000
poscontPlot7.8580.1488.022
quickSummary6.8460.0606.921
readBeadSummaryData000
sectionNames1.4740.0391.518
showArrayMask4.9410.0645.017
squeezedVarOutlierMethod39.269 0.12839.470
summarize23.435 0.28723.783
transformationFunctions1.6310.0801.716
weightsOutlierMethod000