| Back to Multiple platform build/check report for BioC 3.23: simplified long |
|
This page was generated on 2025-11-18 11:38 -0500 (Tue, 18 Nov 2025).
| Hostname | OS | Arch (*) | R version | Installed pkgs |
|---|---|---|---|---|
| nebbiolo1 | Linux (Ubuntu 24.04.3 LTS) | x86_64 | R Under development (unstable) (2025-10-20 r88955) -- "Unsuffered Consequences" | 4826 |
| lconway | macOS 12.7.6 Monterey | x86_64 | R Under development (unstable) (2025-10-21 r88958) -- "Unsuffered Consequences" | 4561 |
| kjohnson3 | macOS 13.7.7 Ventura | arm64 | R Under development (unstable) (2025-11-04 r88984) -- "Unsuffered Consequences" | 4562 |
| Click on any hostname to see more info about the system (e.g. compilers) (*) as reported by 'uname -p', except on Windows and Mac OS X | ||||
| Package 228/2325 | Hostname | OS / Arch | INSTALL | BUILD | CHECK | BUILD BIN | ||||||||
| blase 1.1.0 (landing page) Andrew McCluskey
| nebbiolo1 | Linux (Ubuntu 24.04.3 LTS) / x86_64 | OK | OK | OK | |||||||||
| lconway | macOS 12.7.6 Monterey / x86_64 | OK | OK | OK | OK | |||||||||
| kjohnson3 | macOS 13.7.7 Ventura / arm64 | OK | ERROR | skipped | skipped | |||||||||
|
To the developers/maintainers of the blase package: - Allow up to 24 hours (and sometimes 48 hours) for your latest push to git@git.bioconductor.org:packages/blase.git to reflect on this report. See Troubleshooting Build Report for more information. - Use the following Renviron settings to reproduce errors and warnings. - If 'R CMD check' started to fail recently on the Linux builder(s) over a missing dependency, add the missing dependency to 'Suggests:' in your DESCRIPTION file. See Renviron.bioc for more information. |
| Package: blase |
| Version: 1.1.0 |
| Command: /Library/Frameworks/R.framework/Resources/bin/R CMD check --install=check:blase.install-out.txt --library=/Library/Frameworks/R.framework/Resources/library --no-vignettes --timings blase_1.1.0.tar.gz |
| StartedAt: 2025-11-17 20:37:40 -0500 (Mon, 17 Nov 2025) |
| EndedAt: 2025-11-17 20:56:09 -0500 (Mon, 17 Nov 2025) |
| EllapsedTime: 1109.3 seconds |
| RetCode: 0 |
| Status: OK |
| CheckDir: blase.Rcheck |
| Warnings: 0 |
##############################################################################
##############################################################################
###
### Running command:
###
### /Library/Frameworks/R.framework/Resources/bin/R CMD check --install=check:blase.install-out.txt --library=/Library/Frameworks/R.framework/Resources/library --no-vignettes --timings blase_1.1.0.tar.gz
###
##############################################################################
##############################################################################
* using log directory ‘/Users/biocbuild/bbs-3.23-bioc/meat/blase.Rcheck’
* using R Under development (unstable) (2025-10-21 r88958)
* using platform: x86_64-apple-darwin20
* R was compiled by
Apple clang version 14.0.0 (clang-1400.0.29.202)
GNU Fortran (GCC) 14.2.0
* running under: macOS Ventura 13.7.8
* using session charset: UTF-8
* using option ‘--no-vignettes’
* checking for file ‘blase/DESCRIPTION’ ... OK
* this is package ‘blase’ version ‘1.1.0’
* package encoding: UTF-8
* checking package namespace information ... OK
* checking package dependencies ... OK
* checking if this is a source package ... OK
* checking if there is a namespace ... OK
* checking for hidden files and directories ... OK
* checking for portable file names ... OK
* checking for sufficient/correct file permissions ... OK
* checking whether package ‘blase’ can be installed ... OK
* checking installed package size ... INFO
installed size is 5.2Mb
sub-directories of 1Mb or more:
data 4.6Mb
* checking package directory ... OK
* checking ‘build’ directory ... OK
* checking DESCRIPTION meta-information ... OK
* checking top-level files ... OK
* checking for left-over files ... OK
* checking index information ... OK
* checking package subdirectories ... OK
* checking code files for non-ASCII characters ... OK
* checking R files for syntax errors ... OK
* checking whether the package can be loaded ... OK
* checking whether the package can be loaded with stated dependencies ... OK
* checking whether the package can be unloaded cleanly ... OK
* checking whether the namespace can be loaded with stated dependencies ... OK
* checking whether the namespace can be unloaded cleanly ... OK
* checking dependencies in R code ... OK
* checking S3 generic/method consistency ... OK
* checking replacement functions ... OK
* checking foreign function calls ... OK
* checking R code for possible problems ... OK
* checking Rd files ... OK
* checking Rd metadata ... OK
* checking Rd cross-references ... NOTE
Non-topic package-anchored link(s) in Rd file 'plot_mapping_result.Rd':
‘[scater:plot_reddim]{scater::plotUMAP()}’
See section 'Cross-references' in the 'Writing R Extensions' manual.
* checking for missing documentation entries ... OK
* checking for code/documentation mismatches ... OK
* checking Rd \usage sections ... OK
* checking Rd contents ... OK
* checking for unstated dependencies in examples ... OK
* checking contents of ‘data’ directory ... OK
* checking data for non-ASCII characters ... OK
* checking data for ASCII and uncompressed saves ... OK
* checking files in ‘vignettes’ ... OK
* checking examples ... OK
Examples with CPU (user + system) or elapsed time > 5s
user system elapsed
calculate_gene_peakedness 19.822 0.532 20.579
plot_gene_peakedness 18.751 0.508 19.390
smooth_gene 18.336 0.545 18.981
gene_peakedness_spread_selection 17.766 0.468 18.383
evaluate_parameters 12.329 0.127 12.557
plot_mapping_result 6.064 0.071 6.182
* checking for unstated dependencies in ‘tests’ ... OK
* checking tests ...
Running ‘testthat.R’
OK
* checking for unstated dependencies in vignettes ... OK
* checking package vignettes ... OK
* checking running R code from vignettes ... SKIPPED
* checking re-building of vignette outputs ... SKIPPED
* checking PDF version of manual ... OK
* DONE
Status: 1 NOTE
See
‘/Users/biocbuild/bbs-3.23-bioc/meat/blase.Rcheck/00check.log’
for details.
blase.Rcheck/00install.out
############################################################################## ############################################################################## ### ### Running command: ### ### /Library/Frameworks/R.framework/Resources/bin/R CMD INSTALL blase ### ############################################################################## ############################################################################## * installing to library ‘/Library/Frameworks/R.framework/Versions/4.6-x86_64/Resources/library’ * installing *source* package ‘blase’ ... ** this is package ‘blase’ version ‘1.1.0’ ** using staged installation ** R ** data ** inst ** byte-compile and prepare package for lazy loading ** help *** installing help indices *** copying figures ** building package indices ** installing vignettes ** testing if installed package can be loaded from temporary location ** testing if installed package can be loaded from final location ** testing if installed package keeps a record of temporary installation path * DONE (blase)
blase.Rcheck/tests/testthat.Rout
R Under development (unstable) (2025-10-21 r88958) -- "Unsuffered Consequences"
Copyright (C) 2025 The R Foundation for Statistical Computing
Platform: x86_64-apple-darwin20
R is free software and comes with ABSOLUTELY NO WARRANTY.
You are welcome to redistribute it under certain conditions.
Type 'license()' or 'licence()' for distribution details.
R is a collaborative project with many contributors.
Type 'contributors()' for more information and
'citation()' on how to cite R or R packages in publications.
Type 'demo()' for some demos, 'help()' for on-line help, or
'help.start()' for an HTML browser interface to help.
Type 'q()' to quit R.
> # This file is part of the standard setup for testthat.
> # It is recommended that you do not modify it.
> #
> # Where should you do additional test configuration?
> # Learn more about the roles of various files in:
> # * https://r-pkgs.org/testing-design.html#sec-tests-files-overview
> # * https://testthat.r-lib.org/articles/special-files.html
>
> library(testthat)
> library(blase)
>
> test_check("blase")
[ FAIL 0 | WARN 1 | SKIP 0 | PASS 124 ]
[ FAIL 0 | WARN 1 | SKIP 0 | PASS 124 ]
>
> proc.time()
user system elapsed
69.209 2.256 72.017
blase.Rcheck/blase-Ex.timings
| name | user | system | elapsed | |
| BlaseData-class | 0.452 | 0.013 | 0.469 | |
| MappingResult | 3.040 | 0.125 | 3.213 | |
| annotate_sce | 1.862 | 0.029 | 1.914 | |
| as.BlaseData | 0.219 | 0.005 | 0.230 | |
| assign_pseudotime_bins | 2.908 | 0.048 | 3.000 | |
| bins-getter | 0.232 | 0.005 | 0.240 | |
| calculate_gene_peakedness | 19.822 | 0.532 | 20.579 | |
| evaluate_parameters | 12.329 | 0.127 | 12.557 | |
| evaluate_top_n_genes | 3.153 | 0.029 | 3.207 | |
| find_best_params | 4.152 | 0.047 | 4.232 | |
| gene_peakedness_spread_selection | 17.766 | 0.468 | 18.383 | |
| genes-getter | 0.258 | 0.015 | 0.274 | |
| genes-setter | 0.209 | 0.003 | 0.213 | |
| get_bins_as_bulk | 1.517 | 0.037 | 1.561 | |
| get_top_n_genes | 0.001 | 0.001 | 0.002 | |
| map_all_best_bins | 2.363 | 0.019 | 2.393 | |
| map_best_bin | 2.394 | 0.021 | 2.425 | |
| mapping-result-best-bin-getter | 2.307 | 0.017 | 2.350 | |
| mapping-result-best-correlation-getter | 2.439 | 0.026 | 2.489 | |
| mapping-result-bootstrap-iterations-getter | 2.487 | 0.021 | 2.523 | |
| mapping-result-bulk-name-getter | 2.427 | 0.019 | 2.459 | |
| mapping-result-confident-mapping-getter | 2.402 | 0.020 | 2.438 | |
| mapping-result-history-getter | 2.386 | 0.019 | 2.417 | |
| mapping-result-top-2-distance-getter | 2.375 | 0.020 | 2.407 | |
| plot_bin_population | 2.370 | 0.019 | 2.401 | |
| plot_find_best_params_results | 4.195 | 0.033 | 4.249 | |
| plot_gene_peakedness | 18.751 | 0.508 | 19.390 | |
| plot_mapping_result | 6.064 | 0.071 | 6.182 | |
| plot_mapping_result_corr | 2.679 | 0.023 | 2.724 | |
| plot_mapping_result_heatmap | 2.435 | 0.022 | 2.474 | |
| pseudobulk-bins-getter | 0.204 | 0.004 | 0.209 | |
| show-MappingResult-method | 2.487 | 0.024 | 2.531 | |
| show_blase_object | 0.223 | 0.004 | 0.229 | |
| smooth_gene | 18.336 | 0.545 | 18.981 | |