Back to Multiple platform build/check report for BioC 3.22:   simplified   long
AB[C]DEFGHIJKLMNOPQRSTUVWXYZ

This page was generated on 2025-07-14 12:05 -0400 (Mon, 14 Jul 2025).

HostnameOSArch (*)R versionInstalled pkgs
nebbiolo2Linux (Ubuntu 24.04.2 LTS)x86_644.5.1 (2025-06-13) -- "Great Square Root" 4784
palomino8Windows Server 2022 Datacenterx644.5.1 (2025-06-13 ucrt) -- "Great Square Root" 4523
lconwaymacOS 12.7.1 Montereyx86_644.5.1 (2025-06-13) -- "Great Square Root" 4565
kjohnson3macOS 13.7.1 Venturaarm644.5.1 Patched (2025-06-14 r88325) -- "Great Square Root" 4507
taishanLinux (openEuler 24.03 LTS)aarch644.5.0 (2025-04-11) -- "How About a Twenty-Six" 4507
Click on any hostname to see more info about the system (e.g. compilers)      (*) as reported by 'uname -p', except on Windows and Mac OS X

Package 383/2311HostnameOS / ArchINSTALLBUILDCHECKBUILD BIN
clustifyr 1.21.0  (landing page)
Rui Fu
Snapshot Date: 2025-07-13 13:25 -0400 (Sun, 13 Jul 2025)
git_url: https://git.bioconductor.org/packages/clustifyr
git_branch: devel
git_last_commit: d3521c2
git_last_commit_date: 2025-04-16 16:21:04 -0400 (Wed, 16 Apr 2025)
nebbiolo2Linux (Ubuntu 24.04.2 LTS) / x86_64  OK    OK    OK  UNNEEDED, same version is already published
palomino8Windows Server 2022 Datacenter / x64  OK    OK    OK    OK  UNNEEDED, same version is already published
lconwaymacOS 12.7.1 Monterey / x86_64  OK    OK    OK    OK  UNNEEDED, same version is already published
kjohnson3macOS 13.7.1 Ventura / arm64  OK    OK    OK    OK  UNNEEDED, same version is already published
taishanLinux (openEuler 24.03 LTS) / aarch64  OK    OK    OK  


CHECK results for clustifyr on nebbiolo2

To the developers/maintainers of the clustifyr package:
- Allow up to 24 hours (and sometimes 48 hours) for your latest push to git@git.bioconductor.org:packages/clustifyr.git to reflect on this report. See Troubleshooting Build Report for more information.
- Use the following Renviron settings to reproduce errors and warnings.
- If 'R CMD check' started to fail recently on the Linux builder(s) over a missing dependency, add the missing dependency to 'Suggests:' in your DESCRIPTION file. See Renviron.bioc for more information.

raw results


Summary

Package: clustifyr
Version: 1.21.0
Command: /home/biocbuild/bbs-3.22-bioc/R/bin/R CMD check --install=check:clustifyr.install-out.txt --library=/home/biocbuild/bbs-3.22-bioc/R/site-library --timings clustifyr_1.21.0.tar.gz
StartedAt: 2025-07-13 20:58:09 -0400 (Sun, 13 Jul 2025)
EndedAt: 2025-07-13 21:09:41 -0400 (Sun, 13 Jul 2025)
EllapsedTime: 691.8 seconds
RetCode: 0
Status:   OK  
CheckDir: clustifyr.Rcheck
Warnings: 0

Command output

##############################################################################
##############################################################################
###
### Running command:
###
###   /home/biocbuild/bbs-3.22-bioc/R/bin/R CMD check --install=check:clustifyr.install-out.txt --library=/home/biocbuild/bbs-3.22-bioc/R/site-library --timings clustifyr_1.21.0.tar.gz
###
##############################################################################
##############################################################################


* using log directory ‘/home/biocbuild/bbs-3.22-bioc/meat/clustifyr.Rcheck’
* using R version 4.5.1 (2025-06-13)
* using platform: x86_64-pc-linux-gnu
* R was compiled by
    gcc (Ubuntu 13.3.0-6ubuntu2~24.04) 13.3.0
    GNU Fortran (Ubuntu 13.3.0-6ubuntu2~24.04) 13.3.0
* running under: Ubuntu 24.04.2 LTS
* using session charset: UTF-8
* checking for file ‘clustifyr/DESCRIPTION’ ... OK
* this is package ‘clustifyr’ version ‘1.21.0’
* package encoding: UTF-8
* checking package namespace information ... OK
* checking package dependencies ... OK
* checking if this is a source package ... OK
* checking if there is a namespace ... OK
* checking for hidden files and directories ... OK
* checking for portable file names ... OK
* checking for sufficient/correct file permissions ... OK
* checking whether package ‘clustifyr’ can be installed ... OK
* checking installed package size ... OK
* checking package directory ... OK
* checking ‘build’ directory ... OK
* checking DESCRIPTION meta-information ... NOTE
License stub is invalid DCF.
* checking top-level files ... OK
* checking for left-over files ... OK
* checking index information ... OK
* checking package subdirectories ... OK
* checking code files for non-ASCII characters ... OK
* checking R files for syntax errors ... OK
* checking whether the package can be loaded ... OK
* checking whether the package can be loaded with stated dependencies ... OK
* checking whether the package can be unloaded cleanly ... OK
* checking whether the namespace can be loaded with stated dependencies ... OK
* checking whether the namespace can be unloaded cleanly ... OK
* checking loading without being on the library search path ... OK
* checking dependencies in R code ... OK
* checking S3 generic/method consistency ... OK
* checking replacement functions ... OK
* checking foreign function calls ... OK
* checking R code for possible problems ... OK
* checking Rd files ... OK
* checking Rd metadata ... OK
* checking Rd cross-references ... OK
* checking for missing documentation entries ... OK
* checking for code/documentation mismatches ... OK
* checking Rd \usage sections ... OK
* checking Rd contents ... OK
* checking for unstated dependencies in examples ... OK
* checking contents of ‘data’ directory ... OK
* checking data for non-ASCII characters ... OK
* checking LazyData ... OK
* checking data for ASCII and uncompressed saves ... OK
* checking files in ‘vignettes’ ... OK
* checking examples ... OK
Examples with CPU (user + system) or elapsed time > 5s
                         user system elapsed
plot_pathway_gsea      16.794  0.071  16.866
calculate_pathway_gsea 14.094  0.294  14.388
* checking for unstated dependencies in ‘tests’ ... OK
* checking tests ...
  Running ‘testthat.R’
 OK
* checking for unstated dependencies in vignettes ... OK
* checking package vignettes ... OK
* checking re-building of vignette outputs ... OK
* checking PDF version of manual ... OK
* DONE

Status: 1 NOTE
See
  ‘/home/biocbuild/bbs-3.22-bioc/meat/clustifyr.Rcheck/00check.log’
for details.


Installation output

clustifyr.Rcheck/00install.out

##############################################################################
##############################################################################
###
### Running command:
###
###   /home/biocbuild/bbs-3.22-bioc/R/bin/R CMD INSTALL clustifyr
###
##############################################################################
##############################################################################


* installing to library ‘/home/biocbuild/bbs-3.22-bioc/R/site-library’
* installing *source* package ‘clustifyr’ ...
** this is package ‘clustifyr’ version ‘1.21.0’
** using staged installation
** R
** data
*** moving datasets to lazyload DB
** inst
** byte-compile and prepare package for lazy loading
** help
*** installing help indices
*** copying figures
** building package indices
** installing vignettes
** testing if installed package can be loaded from temporary location
** testing if installed package can be loaded from final location
** testing if installed package keeps a record of temporary installation path
* DONE (clustifyr)

Tests output

clustifyr.Rcheck/tests/testthat.Rout


R version 4.5.1 (2025-06-13) -- "Great Square Root"
Copyright (C) 2025 The R Foundation for Statistical Computing
Platform: x86_64-pc-linux-gnu

R is free software and comes with ABSOLUTELY NO WARRANTY.
You are welcome to redistribute it under certain conditions.
Type 'license()' or 'licence()' for distribution details.

R is a collaborative project with many contributors.
Type 'contributors()' for more information and
'citation()' on how to cite R or R packages in publications.

Type 'demo()' for some demos, 'help()' for on-line help, or
'help.start()' for an HTML browser interface to help.
Type 'q()' to quit R.

> library(testthat)
> library(clustifyr)
> 
> test_check("clustifyr")
[ FAIL 0 | WARN 1 | SKIP 0 | PASS 183 ]

[ FAIL 0 | WARN 1 | SKIP 0 | PASS 183 ]
> 
> proc.time()
   user  system elapsed 
418.832   6.295 425.136 

Example timings

clustifyr.Rcheck/clustifyr-Ex.timings

nameusersystemelapsed
append_genes0.0390.0060.045
assess_rank_bias000
average_clusters0.6790.0080.688
binarize_expr0.0380.0040.043
build_atlas0.0520.0110.062
calc_distance0.0050.0000.005
calculate_pathway_gsea14.094 0.29414.388
call_consensus0.1920.0170.208
call_to_metadata0.1100.0340.144
check_raw_counts0.7690.0500.820
clustify1.1390.0421.181
clustify_lists0.7270.0020.730
clustify_nudge0.8800.0280.908
clustifyr_methods000
collapse_to_cluster0.5360.0410.577
compare_lists0.1320.0060.137
cor_to_call0.0560.0010.057
cor_to_call_rank0.0840.0050.089
cor_to_call_topn0.0640.0000.063
downsample_matrix0.0120.0000.012
feature_select_PCA0.0080.0000.008
file_marker_parse0.0020.0000.001
find_rank_bias0.0310.0000.031
gene_pct_markerm0.2840.0000.285
get_ucsc_reference000
get_vargenes0.0000.0000.001
gmt_to_list0.0360.0000.038
insert_meta_object0.2110.0090.221
make_comb_ref0.0140.0000.013
marker_select0.0170.0000.016
matrixize_markers0.0220.0040.027
object_data0.2990.0060.307
object_ref0.2510.0100.261
overcluster0.8760.0290.904
overcluster_test1.7330.0691.803
parse_loc_object0.2060.0170.225
plot_best_call0.4700.0030.475
plot_cor0.5840.0030.588
plot_cor_heatmap0.8390.0060.847
plot_dims0.2280.0000.228
plot_gene0.4570.0020.459
plot_pathway_gsea16.794 0.07116.866
plot_rank_bias000
pos_neg_marker0.0070.0000.007
pos_neg_select0.0640.0000.064
query_rank_bias0.0350.0040.039
ref_feature_select0.0280.0050.033
ref_marker_select0.1560.0000.156
reverse_marker_matrix0.0030.0000.003
run_clustifyr_app000
seurat_meta0.2410.0290.270
seurat_ref0.2490.0100.258
write_meta0.2640.0060.269