Back to Multiple platform build/check report for BioC 3.22:   simplified   long
AB[C]DEFGHIJKLMNOPQRSTUVWXYZ

This page was generated on 2025-07-26 12:05 -0400 (Sat, 26 Jul 2025).

HostnameOSArch (*)R versionInstalled pkgs
nebbiolo2Linux (Ubuntu 24.04.2 LTS)x86_644.5.1 (2025-06-13) -- "Great Square Root" 4795
palomino8Windows Server 2022 Datacenterx644.5.1 (2025-06-13 ucrt) -- "Great Square Root" 4534
lconwaymacOS 12.7.1 Montereyx86_644.5.1 (2025-06-13) -- "Great Square Root" 4577
kjohnson3macOS 13.7.1 Venturaarm644.5.1 Patched (2025-06-14 r88325) -- "Great Square Root" 4518
taishanLinux (openEuler 24.03 LTS)aarch644.5.0 (2025-04-11) -- "How About a Twenty-Six" 4512
Click on any hostname to see more info about the system (e.g. compilers)      (*) as reported by 'uname -p', except on Windows and Mac OS X

Package 473/2313HostnameOS / ArchINSTALLBUILDCHECKBUILD BIN
csaw 1.43.1  (landing page)
Aaron Lun
Snapshot Date: 2025-07-25 13:25 -0400 (Fri, 25 Jul 2025)
git_url: https://git.bioconductor.org/packages/csaw
git_branch: devel
git_last_commit: e41b84e
git_last_commit_date: 2025-06-21 01:43:18 -0400 (Sat, 21 Jun 2025)
nebbiolo2Linux (Ubuntu 24.04.2 LTS) / x86_64  OK    OK    OK  UNNEEDED, same version is already published
palomino8Windows Server 2022 Datacenter / x64  OK    OK    OK    OK  UNNEEDED, same version is already published
lconwaymacOS 12.7.1 Monterey / x86_64  OK    OK    OK    OK  UNNEEDED, same version is already published
kjohnson3macOS 13.7.1 Ventura / arm64  OK    OK    WARNINGS    OK  UNNEEDED, same version is already published
taishanLinux (openEuler 24.03 LTS) / aarch64  OK    OK    OK  


CHECK results for csaw on nebbiolo2

To the developers/maintainers of the csaw package:
- Allow up to 24 hours (and sometimes 48 hours) for your latest push to git@git.bioconductor.org:packages/csaw.git to reflect on this report. See Troubleshooting Build Report for more information.
- Use the following Renviron settings to reproduce errors and warnings.
- If 'R CMD check' started to fail recently on the Linux builder(s) over a missing dependency, add the missing dependency to 'Suggests:' in your DESCRIPTION file. See Renviron.bioc for more information.

raw results


Summary

Package: csaw
Version: 1.43.1
Command: /home/biocbuild/bbs-3.22-bioc/R/bin/R CMD check --install=check:csaw.install-out.txt --library=/home/biocbuild/bbs-3.22-bioc/R/site-library --timings csaw_1.43.1.tar.gz
StartedAt: 2025-07-25 23:34:58 -0400 (Fri, 25 Jul 2025)
EndedAt: 2025-07-25 23:42:24 -0400 (Fri, 25 Jul 2025)
EllapsedTime: 445.4 seconds
RetCode: 0
Status:   OK  
CheckDir: csaw.Rcheck
Warnings: 0

Command output

##############################################################################
##############################################################################
###
### Running command:
###
###   /home/biocbuild/bbs-3.22-bioc/R/bin/R CMD check --install=check:csaw.install-out.txt --library=/home/biocbuild/bbs-3.22-bioc/R/site-library --timings csaw_1.43.1.tar.gz
###
##############################################################################
##############################################################################


* using log directory ‘/home/biocbuild/bbs-3.22-bioc/meat/csaw.Rcheck’
* using R version 4.5.1 (2025-06-13)
* using platform: x86_64-pc-linux-gnu
* R was compiled by
    gcc (Ubuntu 13.3.0-6ubuntu2~24.04) 13.3.0
    GNU Fortran (Ubuntu 13.3.0-6ubuntu2~24.04) 13.3.0
* running under: Ubuntu 24.04.2 LTS
* using session charset: UTF-8
* checking for file ‘csaw/DESCRIPTION’ ... OK
* this is package ‘csaw’ version ‘1.43.1’
* checking package namespace information ... OK
* checking package dependencies ... OK
* checking if this is a source package ... OK
* checking if there is a namespace ... OK
* checking for hidden files and directories ... OK
* checking for portable file names ... OK
* checking for sufficient/correct file permissions ... OK
* checking whether package ‘csaw’ can be installed ... OK
* used C++ compiler: ‘g++ (Ubuntu 13.3.0-6ubuntu2~24.04) 13.3.0’
* checking C++ specification ... NOTE
  Specified C++11: please drop specification unless essential
* checking installed package size ... INFO
  installed size is 10.9Mb
  sub-directories of 1Mb or more:
    libs  10.2Mb
* checking package directory ... OK
* checking ‘build’ directory ... OK
* checking DESCRIPTION meta-information ... OK
* checking top-level files ... OK
* checking for left-over files ... OK
* checking index information ... OK
* checking package subdirectories ... OK
* checking code files for non-ASCII characters ... OK
* checking R files for syntax errors ... OK
* checking whether the package can be loaded ... OK
* checking whether the package can be loaded with stated dependencies ... OK
* checking whether the package can be unloaded cleanly ... OK
* checking whether the namespace can be loaded with stated dependencies ... OK
* checking whether the namespace can be unloaded cleanly ... OK
* checking loading without being on the library search path ... OK
* checking dependencies in R code ... OK
* checking S3 generic/method consistency ... OK
* checking replacement functions ... OK
* checking foreign function calls ... OK
* checking R code for possible problems ... OK
* checking Rd files ... OK
* checking Rd metadata ... OK
* checking Rd cross-references ... NOTE
Found the following Rd file(s) with Rd \link{} targets missing package
anchors:
  SEmethods.Rd: DGEList
  calculateCPM.Rd: scaleOffset, addPriorCount
  checkBimodality.Rd: BamFile-class, GenomicRanges-class,
    BiocParallelParam-class
  clusterWindows.Rd: GRanges-class, RangedSummarizedExperiment-class,
    GRanges, DataFrame-class
  clusterWindowsList.Rd: GRanges-class,
    RangedSummarizedExperiment-class
  combineTests.Rd: DataFrame-class, groupedSimes, glmQLFTest
  correlateReads.Rd: BamFile-class, BiocParallelParam-class
  detailRanges.Rd: GRanges-class
  empiricalFDR.Rd: DataFrame-class
  extractReads.Rd: BamFile-class, GRanges-class, GRangesList-class
  filterWindows.Rd: RangedSummarizedExperiment-class, rowRanges,
    resize, aveLogCPM
  findMaxima.Rd: aveLogCPM
  getBestTest.Rd: DataFrame-class, glmQLFTest
  mergeResults.Rd: GRanges-class, RangedSummarizedExperiment-class,
    findOverlaps, DataFrame-class, Hits-class
  mergeResultsList.Rd: GRanges-class, RangedSummarizedExperiment-class,
    mcols, findOverlaps, DataFrame-class, Hits-class
  mergeWindows.Rd: GRanges-class, RangedSummarizedExperiment-class
  mergeWindowsList.Rd: RangedSummarizedExperiment-class, GRanges-class,
    findOverlaps, Hits-class
  minimalTests.Rd: DataFrame-class, groupedHolmMin, glmQLFTest
  mixedTests.Rd: glmTreat, DataFrame-class
  normFactors.Rd: SummarizedExperiment-class, colData, DGEList,
    calcNormFactors
  normOffsets.Rd: SummarizedExperiment-class, colData, DGEList,
    loessFit, normalizeCyclicLoess
  overlapStats.Rd: Hits-class, findOverlaps,
    RangedSummarizedExperiment-class, DataFrame-class
  profileSites.Rd: BamFile-class, GenomicRanges-class,
    BiocParallelParam-class
  readParam.Rd: GRanges-class, BiocParallelParam
  regionCounts.Rd: BamFile-class, GenomicRanges-class,
    BiocParallelParam-class, countOverlaps,
    RangedSummarizedExperiment-class
  scaledAverage.Rd: SummarizedExperiment-class, aveLogCPM,
    addPriorCount, aveLogCPM.DGEList
  strandedCounts.Rd: BamFile-class
  windowCounts.Rd: BamFile-class, BiocParallelParam-class,
    RangedSummarizedExperiment-class
Please provide package anchors for all Rd \link{} targets not in the
package itself and the base packages.
* checking for missing documentation entries ... OK
* checking for code/documentation mismatches ... OK
* checking Rd \usage sections ... OK
* checking Rd contents ... OK
* checking for unstated dependencies in examples ... OK
* checking line endings in C/C++/Fortran sources/headers ... OK
* checking line endings in Makefiles ... OK
* checking compilation flags in Makevars ... OK
* checking for GNU extensions in Makefiles ... INFO
GNU make is a SystemRequirements.
* checking for portable use of $(BLAS_LIBS) and $(LAPACK_LIBS) ... OK
* checking use of PKG_*FLAGS in Makefiles ... OK
* checking compiled code ... NOTE
Note: information on .o files is not available
File ‘/home/biocbuild/bbs-3.22-bioc/R/site-library/csaw/libs/csaw.so’:
  Found ‘abort’, possibly from ‘abort’ (C)
  Found ‘exit’, possibly from ‘exit’ (C)
  Found ‘stderr’, possibly from ‘stderr’ (C)
  Found ‘stdout’, possibly from ‘stdout’ (C)

Compiled code should not call entry points which might terminate R nor
write to stdout/stderr instead of to the console, nor use Fortran I/O
nor system RNGs nor [v]sprintf. The detected symbols are linked into
the code but might come from libraries and not actually be called.

See ‘Writing portable packages’ in the ‘Writing R Extensions’ manual.
* checking files in ‘vignettes’ ... OK
* checking examples ... OK
Examples with CPU (user + system) or elapsed time > 5s
               user system elapsed
detailRanges 11.825  0.388  12.215
* checking for unstated dependencies in ‘tests’ ... OK
* checking tests ...
  Running ‘testthat.R’
 OK
* checking for unstated dependencies in vignettes ... OK
* checking package vignettes ... OK
* checking re-building of vignette outputs ... OK
* checking PDF version of manual ... OK
* DONE

Status: 3 NOTEs
See
  ‘/home/biocbuild/bbs-3.22-bioc/meat/csaw.Rcheck/00check.log’
for details.


Installation output

csaw.Rcheck/00install.out

##############################################################################
##############################################################################
###
### Running command:
###
###   /home/biocbuild/bbs-3.22-bioc/R/bin/R CMD INSTALL csaw
###
##############################################################################
##############################################################################


* installing to library ‘/home/biocbuild/bbs-3.22-bioc/R/site-library’
* installing *source* package ‘csaw’ ...
** this is package ‘csaw’ version ‘1.43.1’
** using staged installation
** libs
using C++ compiler: ‘g++ (Ubuntu 13.3.0-6ubuntu2~24.04) 13.3.0’
using C++11
g++ -std=gnu++11 -I"/home/biocbuild/bbs-3.22-bioc/R/include" -DNDEBUG -D_FILE_OFFSET_BITS=64 -I'/home/biocbuild/bbs-3.22-bioc/R/site-library/Rhtslib/include' -I'/home/biocbuild/bbs-3.22-bioc/R/site-library/Rcpp/include' -I/usr/local/include    -fpic  -g -O2  -Wall -Werror=format-security  -c annotator.cpp -o annotator.o
annotator.cpp: In function ‘SEXPREC* annotate_overlaps(SEXP, SEXP, SEXP, SEXP, SEXP, SEXP, SEXP, SEXP)’:
annotator.cpp:47:24: warning: comparison of integer expressions of different signedness: ‘size_t’ {aka ‘long unsigned int’} and ‘const int’ [-Wsign-compare]
   47 |         while (counter < nolaps && query[counter]==curreg) {
      |                ~~~~~~~~^~~~~~~~
g++ -std=gnu++11 -I"/home/biocbuild/bbs-3.22-bioc/R/include" -DNDEBUG -D_FILE_OFFSET_BITS=64 -I'/home/biocbuild/bbs-3.22-bioc/R/site-library/Rhtslib/include' -I'/home/biocbuild/bbs-3.22-bioc/R/site-library/Rcpp/include' -I/usr/local/include    -fpic  -g -O2  -Wall -Werror=format-security  -c bam_utils.cpp -o bam_utils.o
g++ -std=gnu++11 -I"/home/biocbuild/bbs-3.22-bioc/R/include" -DNDEBUG -D_FILE_OFFSET_BITS=64 -I'/home/biocbuild/bbs-3.22-bioc/R/site-library/Rhtslib/include' -I'/home/biocbuild/bbs-3.22-bioc/R/site-library/Rcpp/include' -I/usr/local/include    -fpic  -g -O2  -Wall -Werror=format-security  -c best_in_cluster.cpp -o best_in_cluster.o
best_in_cluster.cpp: In function ‘SEXPREC* best_in_cluster(SEXP, SEXP, SEXP)’:
best_in_cluster.cpp:11:17: warning: comparison of integer expressions of different signedness: ‘const size_t’ {aka ‘const long unsigned int’} and ‘R_xlen_t’ {aka ‘long int’} [-Wsign-compare]
   11 |         if (nwin!=clustids.size() || nwin!=winweight.size()) {
      |             ~~~~^~~~~~~~~~~~~~~~~
best_in_cluster.cpp:11:42: warning: comparison of integer expressions of different signedness: ‘const size_t’ {aka ‘const long unsigned int’} and ‘R_xlen_t’ {aka ‘long int’} [-Wsign-compare]
   11 |         if (nwin!=clustids.size() || nwin!=winweight.size()) {
      |                                      ~~~~^~~~~~~~~~~~~~~~~~
g++ -std=gnu++11 -I"/home/biocbuild/bbs-3.22-bioc/R/include" -DNDEBUG -D_FILE_OFFSET_BITS=64 -I'/home/biocbuild/bbs-3.22-bioc/R/site-library/Rhtslib/include' -I'/home/biocbuild/bbs-3.22-bioc/R/site-library/Rcpp/include' -I/usr/local/include    -fpic  -g -O2  -Wall -Werror=format-security  -c check_bimodality.cpp -o check_bimodality.o
g++ -std=gnu++11 -I"/home/biocbuild/bbs-3.22-bioc/R/include" -DNDEBUG -D_FILE_OFFSET_BITS=64 -I'/home/biocbuild/bbs-3.22-bioc/R/site-library/Rhtslib/include' -I'/home/biocbuild/bbs-3.22-bioc/R/site-library/Rcpp/include' -I/usr/local/include    -fpic  -g -O2  -Wall -Werror=format-security  -c correlate_reads.cpp -o correlate_reads.o
g++ -std=gnu++11 -I"/home/biocbuild/bbs-3.22-bioc/R/include" -DNDEBUG -D_FILE_OFFSET_BITS=64 -I'/home/biocbuild/bbs-3.22-bioc/R/site-library/Rhtslib/include' -I'/home/biocbuild/bbs-3.22-bioc/R/site-library/Rcpp/include' -I/usr/local/include    -fpic  -g -O2  -Wall -Werror=format-security  -c find_maxima.cpp -o find_maxima.o
g++ -std=gnu++11 -I"/home/biocbuild/bbs-3.22-bioc/R/include" -DNDEBUG -D_FILE_OFFSET_BITS=64 -I'/home/biocbuild/bbs-3.22-bioc/R/site-library/Rhtslib/include' -I'/home/biocbuild/bbs-3.22-bioc/R/site-library/Rcpp/include' -I/usr/local/include    -fpic  -g -O2  -Wall -Werror=format-security  -c get_profile.cpp -o get_profile.o
g++ -std=gnu++11 -I"/home/biocbuild/bbs-3.22-bioc/R/include" -DNDEBUG -D_FILE_OFFSET_BITS=64 -I'/home/biocbuild/bbs-3.22-bioc/R/site-library/Rhtslib/include' -I'/home/biocbuild/bbs-3.22-bioc/R/site-library/Rcpp/include' -I/usr/local/include    -fpic  -g -O2  -Wall -Werror=format-security  -c get_rle_counts.cpp -o get_rle_counts.o
g++ -std=gnu++11 -I"/home/biocbuild/bbs-3.22-bioc/R/include" -DNDEBUG -D_FILE_OFFSET_BITS=64 -I'/home/biocbuild/bbs-3.22-bioc/R/site-library/Rhtslib/include' -I'/home/biocbuild/bbs-3.22-bioc/R/site-library/Rcpp/include' -I/usr/local/include    -fpic  -g -O2  -Wall -Werror=format-security  -c init.cpp -o init.o
g++ -std=gnu++11 -I"/home/biocbuild/bbs-3.22-bioc/R/include" -DNDEBUG -D_FILE_OFFSET_BITS=64 -I'/home/biocbuild/bbs-3.22-bioc/R/site-library/Rhtslib/include' -I'/home/biocbuild/bbs-3.22-bioc/R/site-library/Rcpp/include' -I/usr/local/include    -fpic  -g -O2  -Wall -Werror=format-security  -c intersector.cpp -o intersector.o
intersector.cpp: In constructor ‘intersector::intersector(SEXP, SEXP)’:
intersector.cpp:8:10: warning: comparison of integer expressions of different signedness: ‘const size_t’ {aka ‘const long unsigned int’} and ‘R_xlen_t’ {aka ‘long int’} [-Wsign-compare]
    8 |     if (N!=elements.size()) {
      |         ~^~~~~~~~~~~~~~~~~
intersector.cpp:32:36: warning: comparison of integer expressions of different signedness: ‘int’ and ‘const size_t’ {aka ‘const long unsigned int’} [-Wsign-compare]
   32 |         if (current < 0 || current >= nelements) {
      |                            ~~~~~~~~^~~~~~~~~~~~
g++ -std=gnu++11 -I"/home/biocbuild/bbs-3.22-bioc/R/include" -DNDEBUG -D_FILE_OFFSET_BITS=64 -I'/home/biocbuild/bbs-3.22-bioc/R/site-library/Rhtslib/include' -I'/home/biocbuild/bbs-3.22-bioc/R/site-library/Rcpp/include' -I/usr/local/include    -fpic  -g -O2  -Wall -Werror=format-security  -c merge_windows.cpp -o merge_windows.o
g++ -std=gnu++11 -I"/home/biocbuild/bbs-3.22-bioc/R/include" -DNDEBUG -D_FILE_OFFSET_BITS=64 -I'/home/biocbuild/bbs-3.22-bioc/R/site-library/Rhtslib/include' -I'/home/biocbuild/bbs-3.22-bioc/R/site-library/Rcpp/include' -I/usr/local/include    -fpic  -g -O2  -Wall -Werror=format-security  -c pair_reads.cpp -o pair_reads.o
g++ -std=gnu++11 -I"/home/biocbuild/bbs-3.22-bioc/R/include" -DNDEBUG -D_FILE_OFFSET_BITS=64 -I'/home/biocbuild/bbs-3.22-bioc/R/site-library/Rhtslib/include' -I'/home/biocbuild/bbs-3.22-bioc/R/site-library/Rcpp/include' -I/usr/local/include    -fpic  -g -O2  -Wall -Werror=format-security  -c single_reads.cpp -o single_reads.o
g++ -std=gnu++11 -I"/home/biocbuild/bbs-3.22-bioc/R/include" -DNDEBUG -D_FILE_OFFSET_BITS=64 -I'/home/biocbuild/bbs-3.22-bioc/R/site-library/Rhtslib/include' -I'/home/biocbuild/bbs-3.22-bioc/R/site-library/Rcpp/include' -I/usr/local/include    -fpic  -g -O2  -Wall -Werror=format-security  -c utils.cpp -o utils.o
g++ -std=gnu++11 -shared -L/home/biocbuild/bbs-3.22-bioc/R/lib -L/usr/local/lib -o csaw.so annotator.o bam_utils.o best_in_cluster.o check_bimodality.o correlate_reads.o find_maxima.o get_profile.o get_rle_counts.o init.o intersector.o merge_windows.o pair_reads.o single_reads.o utils.o /home/biocbuild/bbs-3.22-bioc/R/site-library/Rhtslib/usrlib/libhts.a -lcurl -lbz2 -llzma -lz -L/home/biocbuild/bbs-3.22-bioc/R/lib -lR
installing to /home/biocbuild/bbs-3.22-bioc/R/site-library/00LOCK-csaw/00new/csaw/libs
** R
** inst
** byte-compile and prepare package for lazy loading
** help
*** installing help indices
** building package indices
** installing vignettes
** testing if installed package can be loaded from temporary location
** checking absolute paths in shared objects and dynamic libraries
** testing if installed package can be loaded from final location
** testing if installed package keeps a record of temporary installation path
* DONE (csaw)

Tests output

csaw.Rcheck/tests/testthat.Rout


R version 4.5.1 (2025-06-13) -- "Great Square Root"
Copyright (C) 2025 The R Foundation for Statistical Computing
Platform: x86_64-pc-linux-gnu

R is free software and comes with ABSOLUTELY NO WARRANTY.
You are welcome to redistribute it under certain conditions.
Type 'license()' or 'licence()' for distribution details.

R is a collaborative project with many contributors.
Type 'contributors()' for more information and
'citation()' on how to cite R or R packages in publications.

Type 'demo()' for some demos, 'help()' for on-line help, or
'help.start()' for an HTML browser interface to help.
Type 'q()' to quit R.

> library(testthat)
> library(csaw)
Loading required package: GenomicRanges
Loading required package: stats4
Loading required package: BiocGenerics
Loading required package: generics

Attaching package: 'generics'

The following objects are masked from 'package:base':

    as.difftime, as.factor, as.ordered, intersect, is.element, setdiff,
    setequal, union


Attaching package: 'BiocGenerics'

The following objects are masked from 'package:stats':

    IQR, mad, sd, var, xtabs

The following objects are masked from 'package:base':

    Filter, Find, Map, Position, Reduce, anyDuplicated, aperm, append,
    as.data.frame, basename, cbind, colnames, dirname, do.call,
    duplicated, eval, evalq, get, grep, grepl, is.unsorted, lapply,
    mapply, match, mget, order, paste, pmax, pmax.int, pmin, pmin.int,
    rank, rbind, rownames, sapply, saveRDS, table, tapply, unique,
    unsplit, which.max, which.min

Loading required package: S4Vectors

Attaching package: 'S4Vectors'

The following object is masked from 'package:utils':

    findMatches

The following objects are masked from 'package:base':

    I, expand.grid, unname

Loading required package: IRanges
Loading required package: Seqinfo
Loading required package: SummarizedExperiment
Loading required package: MatrixGenerics
Loading required package: matrixStats

Attaching package: 'MatrixGenerics'

The following objects are masked from 'package:matrixStats':

    colAlls, colAnyNAs, colAnys, colAvgsPerRowSet, colCollapse,
    colCounts, colCummaxs, colCummins, colCumprods, colCumsums,
    colDiffs, colIQRDiffs, colIQRs, colLogSumExps, colMadDiffs,
    colMads, colMaxs, colMeans2, colMedians, colMins, colOrderStats,
    colProds, colQuantiles, colRanges, colRanks, colSdDiffs, colSds,
    colSums2, colTabulates, colVarDiffs, colVars, colWeightedMads,
    colWeightedMeans, colWeightedMedians, colWeightedSds,
    colWeightedVars, rowAlls, rowAnyNAs, rowAnys, rowAvgsPerColSet,
    rowCollapse, rowCounts, rowCummaxs, rowCummins, rowCumprods,
    rowCumsums, rowDiffs, rowIQRDiffs, rowIQRs, rowLogSumExps,
    rowMadDiffs, rowMads, rowMaxs, rowMeans2, rowMedians, rowMins,
    rowOrderStats, rowProds, rowQuantiles, rowRanges, rowRanks,
    rowSdDiffs, rowSds, rowSums2, rowTabulates, rowVarDiffs, rowVars,
    rowWeightedMads, rowWeightedMeans, rowWeightedMedians,
    rowWeightedSds, rowWeightedVars

Loading required package: Biobase
Welcome to Bioconductor

    Vignettes contain introductory material; view with
    'browseVignettes()'. To cite Bioconductor, see
    'citation("Biobase")', and for packages 'citation("pkgname")'.


Attaching package: 'Biobase'

The following object is masked from 'package:MatrixGenerics':

    rowMedians

The following objects are masked from 'package:matrixStats':

    anyMissing, rowMedians

> 
> test_check("csaw")
[E::sam_itr_next] Null iterator
[ FAIL 0 | WARN 37 | SKIP 0 | PASS 2695 ]

[ FAIL 0 | WARN 37 | SKIP 0 | PASS 2695 ]
> 
> 
> proc.time()
   user  system elapsed 
226.321   2.702 229.129 

Example timings

csaw.Rcheck/csaw-Ex.timings

nameusersystemelapsed
SEmethods0.3710.0070.379
calculateCPM0.3480.0050.353
checkBimodality1.0700.0041.075
clusterFDR0.9070.0900.997
clusterWindows1.9560.0031.959
clusterWindowsList2.8280.0012.829
combineTests0.1060.0000.106
correlateReads0.2410.0030.244
csawUsersGuide000
defunct000
detailRanges11.825 0.38812.215
empiricalFDR0.0930.0070.100
extractReads0.8230.0920.916
filterWindows0.8690.0870.955
findMaxima0.1610.0000.162
getBestTest0.1490.0000.149
getPESizes0.1040.0020.106
getWidths0.6510.0330.684
maximizeCcf0.0000.0000.001
mergeResults0.1830.0110.194
mergeResultsList0.2540.0170.271
mergeWindows0.0580.0030.061
mergeWindowsList0.6080.0130.621
minimalTests0.0200.0010.021
mixedTests0.0840.0000.084
normFactors0.0360.0000.036
normOffsets0.0850.0000.085
overlapStats0.6330.0020.636
profileSites0.7810.0130.794
readParam0.0410.0000.041
regionCounts0.3590.0510.410
scaledAverage0.5760.0290.605
strandedCounts2.0270.0062.033
upweightSummit0.0050.0000.005
windowCounts1.9470.0682.014
wwhm0.1020.0000.102