| Back to Multiple platform build/check report for BioC 3.22: simplified long |
|
This page was generated on 2025-10-23 12:03 -0400 (Thu, 23 Oct 2025).
| Hostname | OS | Arch (*) | R version | Installed pkgs |
|---|---|---|---|---|
| nebbiolo2 | Linux (Ubuntu 24.04.3 LTS) | x86_64 | 4.5.1 Patched (2025-08-23 r88802) -- "Great Square Root" | 4894 |
| lconway | macOS 12.7.6 Monterey | x86_64 | 4.5.1 Patched (2025-09-10 r88807) -- "Great Square Root" | 4684 |
| kjohnson3 | macOS 13.7.7 Ventura | arm64 | 4.5.1 Patched (2025-09-10 r88807) -- "Great Square Root" | 4629 |
| taishan | Linux (openEuler 24.03 LTS) | aarch64 | 4.5.0 (2025-04-11) -- "How About a Twenty-Six" | 4642 |
| Click on any hostname to see more info about the system (e.g. compilers) (*) as reported by 'uname -p', except on Windows and Mac OS X | ||||
| Package 597/2355 | Hostname | OS / Arch | INSTALL | BUILD | CHECK | BUILD BIN | ||||||||
| distinct 1.21.1 (landing page) Simone Tiberi
| nebbiolo2 | Linux (Ubuntu 24.04.3 LTS) / x86_64 | OK | OK | OK | |||||||||
| lconway | macOS 12.7.6 Monterey / x86_64 | OK | OK | OK | OK | |||||||||
| kjohnson3 | macOS 13.7.7 Ventura / arm64 | OK | OK | OK | OK | |||||||||
| taishan | Linux (openEuler 24.03 LTS) / aarch64 | OK | OK | OK | ||||||||||
|
To the developers/maintainers of the distinct package: - Allow up to 24 hours (and sometimes 48 hours) for your latest push to git@git.bioconductor.org:packages/distinct.git to reflect on this report. See Troubleshooting Build Report for more information. - Use the following Renviron settings to reproduce errors and warnings. - If 'R CMD check' started to fail recently on the Linux builder(s) over a missing dependency, add the missing dependency to 'Suggests:' in your DESCRIPTION file. See Renviron.bioc for more information. |
| Package: distinct |
| Version: 1.21.1 |
| Command: /home/biocbuild/bbs-3.22-bioc/R/bin/R CMD check --install=check:distinct.install-out.txt --library=/home/biocbuild/bbs-3.22-bioc/R/site-library --timings distinct_1.21.1.tar.gz |
| StartedAt: 2025-10-22 23:18:36 -0400 (Wed, 22 Oct 2025) |
| EndedAt: 2025-10-22 23:27:15 -0400 (Wed, 22 Oct 2025) |
| EllapsedTime: 518.4 seconds |
| RetCode: 0 |
| Status: OK |
| CheckDir: distinct.Rcheck |
| Warnings: 0 |
##############################################################################
##############################################################################
###
### Running command:
###
### /home/biocbuild/bbs-3.22-bioc/R/bin/R CMD check --install=check:distinct.install-out.txt --library=/home/biocbuild/bbs-3.22-bioc/R/site-library --timings distinct_1.21.1.tar.gz
###
##############################################################################
##############################################################################
* using log directory ‘/home/biocbuild/bbs-3.22-bioc/meat/distinct.Rcheck’
* using R version 4.5.1 Patched (2025-08-23 r88802)
* using platform: x86_64-pc-linux-gnu
* R was compiled by
gcc (Ubuntu 13.3.0-6ubuntu2~24.04) 13.3.0
GNU Fortran (Ubuntu 13.3.0-6ubuntu2~24.04) 13.3.0
* running under: Ubuntu 24.04.3 LTS
* using session charset: UTF-8
* checking for file ‘distinct/DESCRIPTION’ ... OK
* checking extension type ... Package
* this is package ‘distinct’ version ‘1.21.1’
* checking package namespace information ... OK
* checking package dependencies ... OK
* checking if this is a source package ... OK
* checking if there is a namespace ... OK
* checking for hidden files and directories ... OK
* checking for portable file names ... OK
* checking for sufficient/correct file permissions ... OK
* checking whether package ‘distinct’ can be installed ... OK
* used C++ compiler: ‘g++ (Ubuntu 13.3.0-6ubuntu2~24.04) 13.3.0’
* checking C++ specification ... OK
* checking installed package size ... INFO
installed size is 7.2Mb
sub-directories of 1Mb or more:
data 1.0Mb
libs 5.9Mb
* checking package directory ... OK
* checking ‘build’ directory ... OK
* checking DESCRIPTION meta-information ... OK
* checking top-level files ... OK
* checking for left-over files ... OK
* checking index information ... OK
* checking package subdirectories ... OK
* checking code files for non-ASCII characters ... OK
* checking R files for syntax errors ... OK
* checking whether the package can be loaded ... OK
* checking whether the package can be loaded with stated dependencies ... OK
* checking whether the package can be unloaded cleanly ... OK
* checking whether the namespace can be loaded with stated dependencies ... OK
* checking whether the namespace can be unloaded cleanly ... OK
* checking loading without being on the library search path ... OK
* checking dependencies in R code ... NOTE
Namespace in Imports field not imported from: ‘Rcpp’
All declared Imports should be used.
* checking S3 generic/method consistency ... OK
* checking replacement functions ... OK
* checking foreign function calls ... OK
* checking R code for possible problems ... NOTE
perm_test_parallel_R: no visible binding for global variable ‘cl_id’
perm_test_parallel_covariates_R: no visible binding for global variable
‘cl_id’
plot_cdfs: no visible binding for global variable ‘group’
plot_densities: no visible binding for global variable ‘group’
Undefined global functions or variables:
cl_id group
* checking Rd files ... OK
* checking Rd metadata ... OK
* checking Rd cross-references ... NOTE
Found the following Rd file(s) with Rd \link{} targets missing package
anchors:
Kang_subset.Rd: SingleCellExperiment-class
plot_cdfs.Rd: ggplot, SummarizedExperiment-class,
SingleCellExperiment-class, stat_ecdf
plot_densities.Rd: ggplot, SummarizedExperiment-class,
SingleCellExperiment-class, stat_density
Please provide package anchors for all Rd \link{} targets not in the
package itself and the base packages.
* checking for missing documentation entries ... OK
* checking for code/documentation mismatches ... OK
* checking Rd \usage sections ... OK
* checking Rd contents ... OK
* checking for unstated dependencies in examples ... OK
* checking contents of ‘data’ directory ... OK
* checking data for non-ASCII characters ... OK
* checking data for ASCII and uncompressed saves ... OK
* checking line endings in C/C++/Fortran sources/headers ... OK
* checking line endings in Makefiles ... OK
* checking compilation flags in Makevars ... OK
* checking for GNU extensions in Makefiles ... OK
* checking for portable use of $(BLAS_LIBS) and $(LAPACK_LIBS) ... OK
* checking use of PKG_*FLAGS in Makefiles ... OK
* checking compiled code ... NOTE
Note: information on .o files is not available
* checking files in ‘vignettes’ ... OK
* checking examples ... OK
Examples with CPU (user + system) or elapsed time > 5s
user system elapsed
distinct_test 2.237 0.126 70.544
* checking for unstated dependencies in ‘tests’ ... OK
* checking tests ...
Running ‘testthat.R’
OK
* checking for unstated dependencies in vignettes ... OK
* checking package vignettes ... OK
* checking re-building of vignette outputs ... OK
* checking PDF version of manual ... OK
* DONE
Status: 4 NOTEs
See
‘/home/biocbuild/bbs-3.22-bioc/meat/distinct.Rcheck/00check.log’
for details.
distinct.Rcheck/00install.out
############################################################################## ############################################################################## ### ### Running command: ### ### /home/biocbuild/bbs-3.22-bioc/R/bin/R CMD INSTALL distinct ### ############################################################################## ############################################################################## * installing to library ‘/home/biocbuild/bbs-3.22-bioc/R/site-library’ * installing *source* package ‘distinct’ ... ** this is package ‘distinct’ version ‘1.21.1’ ** using staged installation ** libs using C++ compiler: ‘g++ (Ubuntu 13.3.0-6ubuntu2~24.04) 13.3.0’ using C++17 g++ -std=gnu++17 -I"/home/biocbuild/bbs-3.22-bioc/R/include" -DNDEBUG -I'/home/biocbuild/bbs-3.22-bioc/R/site-library/Rcpp/include' -I'/home/biocbuild/bbs-3.22-bioc/R/site-library/RcppArmadillo/include' -I/usr/local/include -fpic -g -O2 -Wall -Werror=format-security -c Perm.cpp -o Perm.o g++ -std=gnu++17 -I"/home/biocbuild/bbs-3.22-bioc/R/include" -DNDEBUG -I'/home/biocbuild/bbs-3.22-bioc/R/site-library/Rcpp/include' -I'/home/biocbuild/bbs-3.22-bioc/R/site-library/RcppArmadillo/include' -I/usr/local/include -fpic -g -O2 -Wall -Werror=format-security -c Perm_covariates.cpp -o Perm_covariates.o g++ -std=gnu++17 -I"/home/biocbuild/bbs-3.22-bioc/R/include" -DNDEBUG -I'/home/biocbuild/bbs-3.22-bioc/R/site-library/Rcpp/include' -I'/home/biocbuild/bbs-3.22-bioc/R/site-library/RcppArmadillo/include' -I/usr/local/include -fpic -g -O2 -Wall -Werror=format-security -c Perm_covariates_parallel.cpp -o Perm_covariates_parallel.o g++ -std=gnu++17 -I"/home/biocbuild/bbs-3.22-bioc/R/include" -DNDEBUG -I'/home/biocbuild/bbs-3.22-bioc/R/site-library/Rcpp/include' -I'/home/biocbuild/bbs-3.22-bioc/R/site-library/RcppArmadillo/include' -I/usr/local/include -fpic -g -O2 -Wall -Werror=format-security -c Perm_parallel.cpp -o Perm_parallel.o g++ -std=gnu++17 -I"/home/biocbuild/bbs-3.22-bioc/R/include" -DNDEBUG -I'/home/biocbuild/bbs-3.22-bioc/R/site-library/Rcpp/include' -I'/home/biocbuild/bbs-3.22-bioc/R/site-library/RcppArmadillo/include' -I/usr/local/include -fpic -g -O2 -Wall -Werror=format-security -c RcppExports.cpp -o RcppExports.o g++ -std=gnu++17 -shared -L/home/biocbuild/bbs-3.22-bioc/R/lib -L/usr/local/lib -o distinct.so Perm.o Perm_covariates.o Perm_covariates_parallel.o Perm_parallel.o RcppExports.o -llapack -L/home/biocbuild/bbs-3.22-bioc/R/lib -lRblas -lgfortran -lm -lquadmath -L/home/biocbuild/bbs-3.22-bioc/R/lib -lR installing to /home/biocbuild/bbs-3.22-bioc/R/site-library/00LOCK-distinct/00new/distinct/libs ** R ** data ** inst ** byte-compile and prepare package for lazy loading ** help *** installing help indices ** building package indices ** installing vignettes ** testing if installed package can be loaded from temporary location ** checking absolute paths in shared objects and dynamic libraries ** testing if installed package can be loaded from final location ** testing if installed package keeps a record of temporary installation path * DONE (distinct)
distinct.Rcheck/tests/testthat.Rout
R version 4.5.1 Patched (2025-08-23 r88802) -- "Great Square Root"
Copyright (C) 2025 The R Foundation for Statistical Computing
Platform: x86_64-pc-linux-gnu
R is free software and comes with ABSOLUTELY NO WARRANTY.
You are welcome to redistribute it under certain conditions.
Type 'license()' or 'licence()' for distribution details.
R is a collaborative project with many contributors.
Type 'contributors()' for more information and
'citation()' on how to cite R or R packages in publications.
Type 'demo()' for some demos, 'help()' for on-line help, or
'help.start()' for an HTML browser interface to help.
Type 'q()' to quit R.
> library(testthat)
> library(distinct)
> test_check("distinct")
[ FAIL 0 | WARN 1 | SKIP 0 | PASS 8 ]
[ FAIL 0 | WARN 1 | SKIP 0 | PASS 8 ]
>
> proc.time()
user system elapsed
9.549 0.590 82.141
distinct.Rcheck/distinct-Ex.timings
| name | user | system | elapsed | |
| Kang_subset | 0 | 0 | 0 | |
| distinct_test | 2.237 | 0.126 | 70.544 | |
| log2_FC | 0.23 | 0.03 | 0.26 | |
| plot_cdfs | 0.457 | 0.019 | 0.476 | |
| plot_densities | 0.517 | 0.085 | 0.602 | |
| res | 0.001 | 0.000 | 0.000 | |
| top_results | 0.211 | 0.010 | 0.221 | |