Back to Build/check report for BioC 3.23:   simplified   long
ABCDE[F]GHIJKLMNOPQRSTUVWXYZ

This page was generated on 2025-11-01 11:32 -0400 (Sat, 01 Nov 2025).

HostnameOSArch (*)R versionInstalled pkgs
nebbiolo1Linux (Ubuntu 24.04.3 LTS)x86_64R Under development (unstable) (2025-10-20 r88955) -- "Unsuffered Consequences" 4774
Click on any hostname to see more info about the system (e.g. compilers)      (*) as reported by 'uname -p', except on Windows and Mac OS X

All results for package flowClust


To the developers/maintainers of the flowClust package:
- Allow up to 24 hours (and sometimes 48 hours) for your latest push to git@git.bioconductor.org:packages/flowClust.git to reflect on this report. See Troubleshooting Build Report for more information.
- Use the following Renviron settings to reproduce errors and warnings.
- If 'R CMD check' started to fail recently on the Linux builder(s) over a missing dependency, add the missing dependency to 'Suggests:' in your DESCRIPTION file. See Renviron.bioc for more information.

raw results

Package 740/2321HostnameOS / ArchINSTALLBUILDCHECKBUILD BIN
flowClust 3.49.0  (landing page)
Greg Finak , Mike Jiang
Snapshot Date: 2025-10-31 13:40 -0400 (Fri, 31 Oct 2025)
git_url: https://git.bioconductor.org/packages/flowClust
git_branch: devel
git_last_commit: 24bd31c
git_last_commit_date: 2025-10-29 10:00:22 -0400 (Wed, 29 Oct 2025)
nebbiolo1Linux (Ubuntu 24.04.3 LTS) / x86_64  OK    OK    WARNINGS  UNNEEDED, same version is already published



Results for Bioconductor software packages that depend directly on package flowClust

QUICK STATSOS / ArchINSTALLBUILDCHECKBUILD BIN
nebbiolo1Linux (Ubuntu 24.04.3 LTS) / x86_64
005
005
0032
Package 1/5HostnameOS / ArchINSTALLBUILDCHECKBUILD BIN
CONFESS 1.39.0  (landing page)
Diana LOW
git_last_commit: b97e3ac
git_last_commit_date: 2025-10-29 10:31:27 -0400
nebbiolo1Linux (Ubuntu 24.04.3 LTS) / x86_64  OK    OK    WARNINGS  UNNEEDED, same version is already published
Package 2/5HostnameOS / ArchINSTALLBUILDCHECKBUILD BIN
cyanoFilter 1.19.0  (landing page)
Oluwafemi Olusoji
git_last_commit: 8ca42f1
git_last_commit_date: 2025-10-29 11:07:55 -0400
nebbiolo1Linux (Ubuntu 24.04.3 LTS) / x86_64  OK    OK    OK  UNNEEDED, same version is already published
Package 3/5HostnameOS / ArchINSTALLBUILDCHECKBUILD BIN
flowMerge 2.59.0  (landing page)
Greg Finak
git_last_commit: 07705b4
git_last_commit_date: 2025-10-29 10:03:02 -0400
nebbiolo1Linux (Ubuntu 24.04.3 LTS) / x86_64  OK    OK    WARNINGS  UNNEEDED, same version is already published
Package 4/5HostnameOS / ArchINSTALLBUILDCHECKBUILD BIN
flowTrans 1.63.0  (landing page)
Greg Finak
git_last_commit: 6e8f2c2
git_last_commit_date: 2025-10-29 10:05:05 -0400
nebbiolo1Linux (Ubuntu 24.04.3 LTS) / x86_64  OK    OK    OK  UNNEEDED, same version is already published
Package 5/5HostnameOS / ArchINSTALLBUILDCHECKBUILD BIN
openCyto 2.23.0  (landing page)
Mike Jiang
git_last_commit: 11bf474
git_last_commit_date: 2025-10-29 10:16:53 -0400
nebbiolo1Linux (Ubuntu 24.04.3 LTS) / x86_64  OK    OK    WARNINGS  YES