| Back to Multiple platform build/check report for BioC 3.22: simplified long |
|
This page was generated on 2025-08-15 12:06 -0400 (Fri, 15 Aug 2025).
| Hostname | OS | Arch (*) | R version | Installed pkgs |
|---|---|---|---|---|
| nebbiolo2 | Linux (Ubuntu 24.04.3 LTS) | x86_64 | 4.5.1 (2025-06-13) -- "Great Square Root" | 4818 |
| palomino8 | Windows Server 2022 Datacenter | x64 | 4.5.1 (2025-06-13 ucrt) -- "Great Square Root" | 4554 |
| lconway | macOS 12.7.1 Monterey | x86_64 | 4.5.1 (2025-06-13) -- "Great Square Root" | 4595 |
| kjohnson3 | macOS 13.7.7 Ventura | arm64 | 4.5.1 Patched (2025-06-14 r88325) -- "Great Square Root" | 4537 |
| taishan | Linux (openEuler 24.03 LTS) | aarch64 | 4.5.0 (2025-04-11) -- "How About a Twenty-Six" | 4535 |
| Click on any hostname to see more info about the system (e.g. compilers) (*) as reported by 'uname -p', except on Windows and Mac OS X | ||||
| Package 816/2317 | Hostname | OS / Arch | INSTALL | BUILD | CHECK | BUILD BIN | ||||||||
| geNetClassifier 1.49.0 (landing page) Sara Aibar
| nebbiolo2 | Linux (Ubuntu 24.04.3 LTS) / x86_64 | OK | OK | OK | |||||||||
| palomino8 | Windows Server 2022 Datacenter / x64 | OK | OK | OK | OK | |||||||||
| lconway | macOS 12.7.1 Monterey / x86_64 | OK | OK | OK | OK | |||||||||
| kjohnson3 | macOS 13.7.7 Ventura / arm64 | OK | OK | OK | OK | |||||||||
| taishan | Linux (openEuler 24.03 LTS) / aarch64 | OK | OK | OK | ||||||||||
|
To the developers/maintainers of the geNetClassifier package: - Allow up to 24 hours (and sometimes 48 hours) for your latest push to git@git.bioconductor.org:packages/geNetClassifier.git to reflect on this report. See Troubleshooting Build Report for more information. - Use the following Renviron settings to reproduce errors and warnings. - If 'R CMD check' started to fail recently on the Linux builder(s) over a missing dependency, add the missing dependency to 'Suggests:' in your DESCRIPTION file. See Renviron.bioc for more information. |
| Package: geNetClassifier |
| Version: 1.49.0 |
| Command: F:\biocbuild\bbs-3.22-bioc\R\bin\R.exe CMD check --no-multiarch --install=check:geNetClassifier.install-out.txt --library=F:\biocbuild\bbs-3.22-bioc\R\library --no-vignettes --timings geNetClassifier_1.49.0.tar.gz |
| StartedAt: 2025-08-15 03:32:43 -0400 (Fri, 15 Aug 2025) |
| EndedAt: 2025-08-15 03:34:15 -0400 (Fri, 15 Aug 2025) |
| EllapsedTime: 91.9 seconds |
| RetCode: 0 |
| Status: OK |
| CheckDir: geNetClassifier.Rcheck |
| Warnings: 0 |
##############################################################################
##############################################################################
###
### Running command:
###
### F:\biocbuild\bbs-3.22-bioc\R\bin\R.exe CMD check --no-multiarch --install=check:geNetClassifier.install-out.txt --library=F:\biocbuild\bbs-3.22-bioc\R\library --no-vignettes --timings geNetClassifier_1.49.0.tar.gz
###
##############################################################################
##############################################################################
* using log directory 'F:/biocbuild/bbs-3.22-bioc/meat/geNetClassifier.Rcheck'
* using R version 4.5.1 (2025-06-13 ucrt)
* using platform: x86_64-w64-mingw32
* R was compiled by
gcc.exe (GCC) 14.2.0
GNU Fortran (GCC) 14.2.0
* running under: Windows Server 2022 x64 (build 20348)
* using session charset: UTF-8
* using option '--no-vignettes'
* checking for file 'geNetClassifier/DESCRIPTION' ... OK
* checking extension type ... Package
* this is package 'geNetClassifier' version '1.49.0'
* checking package namespace information ... OK
* checking package dependencies ... OK
* checking if this is a source package ... OK
* checking if there is a namespace ... OK
* checking for hidden files and directories ... OK
* checking for portable file names ... OK
* checking whether package 'geNetClassifier' can be installed ... OK
* checking installed package size ... OK
* checking package directory ... OK
* checking 'build' directory ... OK
* checking DESCRIPTION meta-information ... OK
* checking top-level files ... OK
* checking for left-over files ... OK
* checking index information ... OK
* checking package subdirectories ... OK
* checking code files for non-ASCII characters ... OK
* checking R files for syntax errors ... OK
* checking whether the package can be loaded ... OK
* checking whether the package can be loaded with stated dependencies ... OK
* checking whether the package can be unloaded cleanly ... OK
* checking whether the namespace can be loaded with stated dependencies ... OK
* checking whether the namespace can be unloaded cleanly ... OK
* checking dependencies in R code ... OK
* checking S3 generic/method consistency ... OK
* checking replacement functions ... OK
* checking foreign function calls ... OK
* checking R code for possible problems ... OK
* checking Rd files ... NOTE
checkRd: (-1) calculateGenesRanking.Rd:78: Lost braces in \itemize; meant \describe ?
checkRd: (-1) calculateGenesRanking.Rd:79: Lost braces in \itemize; meant \describe ?
checkRd: (-1) calculateGenesRanking.Rd:91: Lost braces in \itemize; \value handles \item{}{} directly
checkRd: (-1) calculateGenesRanking.Rd:92: Lost braces in \itemize; \value handles \item{}{} directly
checkRd: (-1) externalValidation.stats.Rd:25-27: Lost braces in \itemize; \value handles \item{}{} directly
checkRd: (-1) externalValidation.stats.Rd:28-33: Lost braces in \itemize; \value handles \item{}{} directly
checkRd: (-1) externalValidation.stats.Rd:32: Lost braces
32 | \item{confMatrix }{Confussion matrix.}
| ^
checkRd: (-1) externalValidation.stats.Rd:32: Lost braces
32 | \item{confMatrix }{Confussion matrix.}
| ^
checkRd: (-1) plot.GenesRanking.Rd:32: Lost braces in \itemize; meant \describe ?
checkRd: (-1) plot.GenesRanking.Rd:33: Lost braces in \itemize; meant \describe ?
checkRd: (-1) plotDiscriminantPower.Rd:49: Lost braces in \itemize; \value handles \item{}{} directly
checkRd: (-1) plotDiscriminantPower.Rd:50: Lost braces in \itemize; \value handles \item{}{} directly
checkRd: (-1) queryGeNetClassifier.Rd:41: Lost braces in \itemize; meant \describe ?
checkRd: (-1) queryGeNetClassifier.Rd:42-43: Lost braces in \itemize; meant \describe ?
checkRd: (-1) queryGeNetClassifier.Rd:53: Lost braces in \itemize; \value handles \item{}{} directly
checkRd: (-1) queryGeNetClassifier.Rd:54: Lost braces in \itemize; \value handles \item{}{} directly
checkRd: (-1) queryGeNetClassifier.Rd:55: Lost braces in \itemize; \value handles \item{}{} directly
checkRd: (-1) querySummary.Rd:32: Lost braces in \itemize; \value handles \item{}{} directly
checkRd: (-1) querySummary.Rd:33: Lost braces in \itemize; \value handles \item{}{} directly
checkRd: (-1) querySummary.Rd:34: Lost braces in \itemize; \value handles \item{}{} directly
* checking Rd metadata ... OK
* checking Rd cross-references ... NOTE
Found the following Rd file(s) with Rd \link{} targets missing package
anchors:
geNetClassifier.Rd: svm
Please provide package anchors for all Rd \link{} targets not in the
package itself and the base packages.
* checking for missing documentation entries ... OK
* checking for code/documentation mismatches ... OK
* checking Rd \usage sections ... OK
* checking Rd contents ... OK
* checking for unstated dependencies in examples ... OK
* checking contents of 'data' directory ... OK
* checking data for non-ASCII characters ... OK
* checking data for ASCII and uncompressed saves ... OK
* checking sizes of PDF files under 'inst/doc' ... OK
* checking files in 'vignettes' ... OK
* checking examples ... OK
* checking for unstated dependencies in 'tests' ... OK
* checking tests ...
Running 'runTests.R'
OK
* checking for unstated dependencies in vignettes ... OK
* checking package vignettes ... OK
* checking running R code from vignettes ... SKIPPED
* checking re-building of vignette outputs ... SKIPPED
* checking PDF version of manual ... OK
* DONE
Status: 2 NOTEs
See
'F:/biocbuild/bbs-3.22-bioc/meat/geNetClassifier.Rcheck/00check.log'
for details.
geNetClassifier.Rcheck/00install.out
############################################################################## ############################################################################## ### ### Running command: ### ### F:\biocbuild\bbs-3.22-bioc\R\bin\R.exe CMD INSTALL geNetClassifier ### ############################################################################## ############################################################################## * installing to library 'F:/biocbuild/bbs-3.22-bioc/R/library' * installing *source* package 'geNetClassifier' ... ** this is package 'geNetClassifier' version '1.49.0' ** using staged installation ** R ** data ** inst ** byte-compile and prepare package for lazy loading ** help *** installing help indices ** building package indices ** installing vignettes ** testing if installed package can be loaded from temporary location ** testing if installed package can be loaded from final location ** testing if installed package keeps a record of temporary installation path * DONE (geNetClassifier)
geNetClassifier.Rcheck/tests/runTests.Rout
R version 4.5.1 (2025-06-13 ucrt) -- "Great Square Root"
Copyright (C) 2025 The R Foundation for Statistical Computing
Platform: x86_64-w64-mingw32/x64
R is free software and comes with ABSOLUTELY NO WARRANTY.
You are welcome to redistribute it under certain conditions.
Type 'license()' or 'licence()' for distribution details.
R is a collaborative project with many contributors.
Type 'contributors()' for more information and
'citation()' on how to cite R or R packages in publications.
Type 'demo()' for some demos, 'help()' for on-line help, or
'help.start()' for an HTML browser interface to help.
Type 'q()' to quit R.
> BiocGenerics:::testPackage("geNetClassifier")
Attaching package: 'generics'
The following objects are masked from 'package:base':
as.difftime, as.factor, as.ordered, intersect, is.element, setdiff,
setequal, union
Attaching package: 'BiocGenerics'
The following objects are masked from 'package:stats':
IQR, mad, sd, var, xtabs
The following objects are masked from 'package:base':
Filter, Find, Map, Position, Reduce, anyDuplicated, aperm, append,
as.data.frame, basename, cbind, colnames, dirname, do.call,
duplicated, eval, evalq, get, grep, grepl, is.unsorted, lapply,
mapply, match, mget, order, paste, pmax, pmax.int, pmin, pmin.int,
rank, rbind, rownames, sapply, saveRDS, table, tapply, unique,
unsplit, which.max, which.min
Welcome to Bioconductor
Vignettes contain introductory material; view with
'browseVignettes()'. To cite Bioconductor, see
'citation("Biobase")', and for packages 'citation("pkgname")'.
03:34:01 - Filtering data and calculating the genes ranking...
Warning in plotExpressionProfiles(eset = myEset, genes = rownames(myEset), :
The argument 'sampleLabels' had to be converted into a factor.
Warning in plotExpressionProfiles(eset = myEset, genes = rownames(myEset), :
The data labels vector is not named, it will be assumed the labels are in order: the first label applies to the first sample...
RUNIT TEST PROTOCOL -- Fri Aug 15 03:34:01 2025
***********************************************
Number of test functions: 3
Number of errors: 0
Number of failures: 0
1 Test Suite :
geNetClassifier RUnit Tests - 3 test functions, 0 errors, 0 failures
Number of test functions: 3
Number of errors: 0
Number of failures: 0
Warning messages:
1: In geNetClassifier(matrix(sample(50000, 5 * 2), 5, 2), c(rep("one", :
The argument 'classification sampleLabels' had to be converted into a factor.
2: In geNetClassifier(matrix(sample(50000, 5 * 3), 5, 3), c(rep("one", :
The argument 'classification sampleLabels' had to be converted into a factor.
3: In geNetClassifier(matrix(sample(50000, 5 * 3), 5, 3), c(rep("one", :
The data labels vector is not named, it is assumed the labels are in order: the first label applies to the first sample...
4: In geNetClassifier(matrix(sample(50000, 5 * 3), 5, 3), c(rep("one", :
It is recommended to have the *same* number of samples in each class in order to obtain balanced external validation stats.
>
> proc.time()
user system elapsed
0.90 0.17 1.06
geNetClassifier.Rcheck/geNetClassifier-Ex.timings
| name | user | system | elapsed | |
| GeNetClassifierReturn-class | 0.69 | 0.09 | 0.88 | |
| GeneralizationError-class | 0.27 | 0.08 | 0.34 | |
| GenesNetwork-class | 2.96 | 1.81 | 4.82 | |
| GenesRanking-class | 0.56 | 0.06 | 0.63 | |
| calculateGenesRanking | 0.37 | 0.05 | 0.42 | |
| externalValidation.probMatrix | 0.49 | 0.06 | 0.55 | |
| externalValidation.stats | 0.55 | 0.03 | 0.57 | |
| gClasses-methods | 0.21 | 0.05 | 0.27 | |
| geNetClassifier | 0.11 | 0.01 | 0.13 | |
| geneSymbols | 0.07 | 0.02 | 0.07 | |
| genesDetails-methods | 0.26 | 0.01 | 0.28 | |
| getEdges-methods | 0.24 | 0.02 | 0.25 | |
| getNodes-methods | 0.34 | 0.03 | 0.38 | |
| getNumEdges-methods | 0.14 | 0.02 | 0.16 | |
| getNumNodes-methods | 0.23 | 0.00 | 0.23 | |
| getRanking-methods | 0.22 | 0.01 | 0.23 | |
| getSubNetwork-methods | 0.14 | 0.05 | 0.19 | |
| getTopRanking-methods | 0.25 | 0.02 | 0.26 | |
| leukemiasClassifier | 0.30 | 0.02 | 0.32 | |
| network2txt | 0.50 | 0.01 | 0.51 | |
| numGenes-methods | 0.25 | 0.00 | 0.25 | |
| numSignificantGenes-methods | 0.22 | 0.02 | 0.23 | |
| overview-methods | 0.25 | 0.04 | 0.30 | |
| plot.GeNetClassifierReturn | 2.93 | 0.10 | 3.08 | |
| plot.GenesRanking | 0.39 | 0.01 | 0.40 | |
| plotAssignments | 0.52 | 0.08 | 0.60 | |
| plotDiscriminantPower | 0.55 | 0.03 | 0.58 | |
| plotExpressionProfiles | 0.99 | 0.07 | 1.05 | |
| plotNetwork | 2.32 | 0.12 | 2.47 | |
| queryGeNetClassifier | 0.79 | 0.06 | 0.84 | |
| querySummary | 0.57 | 0.00 | 0.58 | |